BEGIN:VCALENDAR
VERSION:2.0
PRODID:-//Be Fit with Tania - ECPv6.15.20//NONSGML v1.0//EN
CALSCALE:GREGORIAN
METHOD:PUBLISH
X-WR-CALNAME:Be Fit with Tania
X-ORIGINAL-URL:https://befitwithtania.com
X-WR-CALDESC:Events for Be Fit with Tania
REFRESH-INTERVAL;VALUE=DURATION:PT1H
X-Robots-Tag:noindex
X-PUBLISHED-TTL:PT1H
BEGIN:VTIMEZONE
TZID:America/Los_Angeles
BEGIN:DAYLIGHT
TZOFFSETFROM:-0800
TZOFFSETTO:-0700
TZNAME:PDT
DTSTART:20220313T100000
END:DAYLIGHT
BEGIN:STANDARD
TZOFFSETFROM:-0700
TZOFFSETTO:-0800
TZNAME:PST
DTSTART:20221106T090000
END:STANDARD
BEGIN:DAYLIGHT
TZOFFSETFROM:-0800
TZOFFSETTO:-0700
TZNAME:PDT
DTSTART:20230312T100000
END:DAYLIGHT
BEGIN:STANDARD
TZOFFSETFROM:-0700
TZOFFSETTO:-0800
TZNAME:PST
DTSTART:20231105T090000
END:STANDARD
BEGIN:DAYLIGHT
TZOFFSETFROM:-0800
TZOFFSETTO:-0700
TZNAME:PDT
DTSTART:20240310T100000
END:DAYLIGHT
BEGIN:STANDARD
TZOFFSETFROM:-0700
TZOFFSETTO:-0800
TZNAME:PST
DTSTART:20241103T090000
END:STANDARD
END:VTIMEZONE
BEGIN:VEVENT
DTSTART;TZID=America/Los_Angeles:20231002T160000
DTEND;TZID=America/Los_Angeles:20231002T163000
DTSTAMP:20260422T004449
CREATED:20241125T120014Z
LAST-MODIFIED:20260214T220652Z
UID:10001324-1696262400-1696264200@befitwithtania.com
SUMMARY:Monday Restorative Yoga w/Props 4pm PT/7pm ET
DESCRIPTION:Restorative Yoga encompasses the element of deep head-to-toe stretch\, breathwork and oxygenation\, circulation\, and restorative practices. Restorative practices are known to calm the nervous system\, encourage mindfulness\, awareness of the deeper self\, body awareness\, and acceptance in a safe nurturing space. This class rotates between a full body stretch with blocks\, exercise ball\, and bolster for deep relaxation/meditation.
URL:https://befitwithtania.com/event/beginning-yoga-with-tania/2023-10-02/
LOCATION:ZOOM\, Online
CATEGORIES:30-Minute Class
ATTACH;FMTTYPE=image/jpeg:https://befitwithtania.com/wp-content/uploads/2022/02/IMG_0529-scaled-1-e1646968343719.jpg
ORGANIZER;CN="Tania":MAILTO:befitwithtania@gmail.com
END:VEVENT
BEGIN:VEVENT
DTSTART;TZID=America/Los_Angeles:20231003T160000
DTEND;TZID=America/Los_Angeles:20231003T163000
DTSTAMP:20260422T004449
CREATED:20241126T120024Z
LAST-MODIFIED:20260214T220848Z
UID:10001549-1696348800-1696350600@befitwithtania.com
SUMMARY:Total Body Sculpt 4pm PT/7pm ET (Tu)
DESCRIPTION:Total Body Sculpt is a weight-lifting class\, sculpting the entire body\, head-to-toe. As we age\, we lose bone density and muscle mass; lifting weights can help combat these losses. Great for all levels; we work at an easy-to-follow pace.
URL:https://befitwithtania.com/event/total-body-sculpt-4pm-pt-7pm-et-tu/2023-10-03/
LOCATION:ZOOM\, Online
CATEGORIES:30-Minute Class
ATTACH;FMTTYPE=image/jpeg:https://befitwithtania.com/wp-content/uploads/2022/11/MG_4165-1_Original-scaled.jpeg
ORGANIZER;CN="Tania":MAILTO:befitwithtania@gmail.com
END:VEVENT
BEGIN:VEVENT
DTSTART;TZID=America/Los_Angeles:20231005T160000
DTEND;TZID=America/Los_Angeles:20231005T163000
DTSTAMP:20260422T004449
CREATED:20241128T120010Z
LAST-MODIFIED:20260214T220809Z
UID:10003655-1696521600-1696523400@befitwithtania.com
SUMMARY:Total Body Sculpt 4pm PT/7pm ET (Th)
DESCRIPTION:Total Body Sculpt is a weight-lifting class\, sculpting the entire body head-to-toe. As we age we lose bone density and muscle mass; lifting weights can help combat these losses. Great for all levels; we work at an easy-to-follow pace.
URL:https://befitwithtania.com/event/total-body-sculpt-4pm-pt-7pm-et-th/2023-10-05/
LOCATION:ZOOM\, Online
CATEGORIES:30-Minute Class
ATTACH;FMTTYPE=image/jpeg:https://befitwithtania.com/wp-content/uploads/2023/05/MG_4167-1_Original-scaled-e1684554488496.jpg
ORGANIZER;CN="Tania":MAILTO:befitwithtania@gmail.com
END:VEVENT
BEGIN:VEVENT
DTSTART;TZID=America/Los_Angeles:20231007T090000
DTEND;TZID=America/Los_Angeles:20231007T093000
DTSTAMP:20260422T004449
CREATED:20241130T170036Z
LAST-MODIFIED:20260214T221236Z
UID:10001228-1696669200-1696671000@befitwithtania.com
SUMMARY:Saturday Pilates Basics 9am PT/12pm ET
DESCRIPTION:Pilates Basics is a head-to-toe strength and stretch with basic Pilates technique designed to leave you feeling refreshed\, not worn out! This class is great for all levels\, focusing on pelvic floor\, core strength\, joint mobility\, range of motion\, stretch\, and balance. We work at an easy-to-follow pace.
URL:https://befitwithtania.com/event/saturday-pilates-basics-9am-pt-12pm-et/2023-10-07/
LOCATION:ZOOM\, Online
CATEGORIES:30-Minute Class
ATTACH;FMTTYPE=image/jpeg:https://befitwithtania.com/wp-content/uploads/2022/03/IMG_7274.jpeg
ORGANIZER;CN="Tania":MAILTO:befitwithtania@gmail.com
END:VEVENT
BEGIN:VEVENT
DTSTART;TZID=America/Los_Angeles:20231009T160000
DTEND;TZID=America/Los_Angeles:20231009T163000
DTSTAMP:20260422T004449
CREATED:20241125T120014Z
LAST-MODIFIED:20260214T220652Z
UID:10001325-1696867200-1696869000@befitwithtania.com
SUMMARY:Monday Restorative Yoga w/Props 4pm PT/7pm ET
DESCRIPTION:Restorative Yoga encompasses the element of deep head-to-toe stretch\, breathwork and oxygenation\, circulation\, and restorative practices. Restorative practices are known to calm the nervous system\, encourage mindfulness\, awareness of the deeper self\, body awareness\, and acceptance in a safe nurturing space. This class rotates between a full body stretch with blocks\, exercise ball\, and bolster for deep relaxation/meditation.
URL:https://befitwithtania.com/event/beginning-yoga-with-tania/2023-10-09/
LOCATION:ZOOM\, Online
CATEGORIES:30-Minute Class
ATTACH;FMTTYPE=image/jpeg:https://befitwithtania.com/wp-content/uploads/2022/02/IMG_0529-scaled-1-e1646968343719.jpg
ORGANIZER;CN="Tania":MAILTO:befitwithtania@gmail.com
END:VEVENT
BEGIN:VEVENT
DTSTART;TZID=America/Los_Angeles:20231010T160000
DTEND;TZID=America/Los_Angeles:20231010T163000
DTSTAMP:20260422T004449
CREATED:20241126T120024Z
LAST-MODIFIED:20260214T220848Z
UID:10001551-1696953600-1696955400@befitwithtania.com
SUMMARY:Total Body Sculpt 4pm PT/7pm ET (Tu)
DESCRIPTION:Total Body Sculpt is a weight-lifting class\, sculpting the entire body\, head-to-toe. As we age\, we lose bone density and muscle mass; lifting weights can help combat these losses. Great for all levels; we work at an easy-to-follow pace.
URL:https://befitwithtania.com/event/total-body-sculpt-4pm-pt-7pm-et-tu/2023-10-10/
LOCATION:ZOOM\, Online
CATEGORIES:30-Minute Class
ATTACH;FMTTYPE=image/jpeg:https://befitwithtania.com/wp-content/uploads/2022/11/MG_4165-1_Original-scaled.jpeg
ORGANIZER;CN="Tania":MAILTO:befitwithtania@gmail.com
END:VEVENT
BEGIN:VEVENT
DTSTART;TZID=America/Los_Angeles:20231012T160000
DTEND;TZID=America/Los_Angeles:20231012T163000
DTSTAMP:20260422T004449
CREATED:20241128T120010Z
LAST-MODIFIED:20260214T220809Z
UID:10003656-1697126400-1697128200@befitwithtania.com
SUMMARY:Total Body Sculpt 4pm PT/7pm ET (Th)
DESCRIPTION:Total Body Sculpt is a weight-lifting class\, sculpting the entire body head-to-toe. As we age we lose bone density and muscle mass; lifting weights can help combat these losses. Great for all levels; we work at an easy-to-follow pace.
URL:https://befitwithtania.com/event/total-body-sculpt-4pm-pt-7pm-et-th/2023-10-12/
LOCATION:ZOOM\, Online
CATEGORIES:30-Minute Class
ATTACH;FMTTYPE=image/jpeg:https://befitwithtania.com/wp-content/uploads/2023/05/MG_4167-1_Original-scaled-e1684554488496.jpg
ORGANIZER;CN="Tania":MAILTO:befitwithtania@gmail.com
END:VEVENT
BEGIN:VEVENT
DTSTART;TZID=America/Los_Angeles:20231014T090000
DTEND;TZID=America/Los_Angeles:20231014T093000
DTSTAMP:20260422T004450
CREATED:20241130T170036Z
LAST-MODIFIED:20260214T221236Z
UID:10001229-1697274000-1697275800@befitwithtania.com
SUMMARY:Saturday Pilates Basics 9am PT/12pm ET
DESCRIPTION:Pilates Basics is a head-to-toe strength and stretch with basic Pilates technique designed to leave you feeling refreshed\, not worn out! This class is great for all levels\, focusing on pelvic floor\, core strength\, joint mobility\, range of motion\, stretch\, and balance. We work at an easy-to-follow pace.
URL:https://befitwithtania.com/event/saturday-pilates-basics-9am-pt-12pm-et/2023-10-14/
LOCATION:ZOOM\, Online
CATEGORIES:30-Minute Class
ATTACH;FMTTYPE=image/jpeg:https://befitwithtania.com/wp-content/uploads/2022/03/IMG_7274.jpeg
ORGANIZER;CN="Tania":MAILTO:befitwithtania@gmail.com
END:VEVENT
BEGIN:VEVENT
DTSTART;TZID=America/Los_Angeles:20231016T160000
DTEND;TZID=America/Los_Angeles:20231016T163000
DTSTAMP:20260422T004450
CREATED:20241125T120014Z
LAST-MODIFIED:20260214T220652Z
UID:10001326-1697472000-1697473800@befitwithtania.com
SUMMARY:Monday Restorative Yoga w/Props 4pm PT/7pm ET
DESCRIPTION:Restorative Yoga encompasses the element of deep head-to-toe stretch\, breathwork and oxygenation\, circulation\, and restorative practices. Restorative practices are known to calm the nervous system\, encourage mindfulness\, awareness of the deeper self\, body awareness\, and acceptance in a safe nurturing space. This class rotates between a full body stretch with blocks\, exercise ball\, and bolster for deep relaxation/meditation.
URL:https://befitwithtania.com/event/beginning-yoga-with-tania/2023-10-16/
LOCATION:ZOOM\, Online
CATEGORIES:30-Minute Class
ATTACH;FMTTYPE=image/jpeg:https://befitwithtania.com/wp-content/uploads/2022/02/IMG_0529-scaled-1-e1646968343719.jpg
ORGANIZER;CN="Tania":MAILTO:befitwithtania@gmail.com
END:VEVENT
BEGIN:VEVENT
DTSTART;TZID=America/Los_Angeles:20231017T160000
DTEND;TZID=America/Los_Angeles:20231017T163000
DTSTAMP:20260422T004450
CREATED:20241126T120024Z
LAST-MODIFIED:20260214T220848Z
UID:10001553-1697558400-1697560200@befitwithtania.com
SUMMARY:Total Body Sculpt 4pm PT/7pm ET (Tu)
DESCRIPTION:Total Body Sculpt is a weight-lifting class\, sculpting the entire body\, head-to-toe. As we age\, we lose bone density and muscle mass; lifting weights can help combat these losses. Great for all levels; we work at an easy-to-follow pace.
URL:https://befitwithtania.com/event/total-body-sculpt-4pm-pt-7pm-et-tu/2023-10-17/
LOCATION:ZOOM\, Online
CATEGORIES:30-Minute Class
ATTACH;FMTTYPE=image/jpeg:https://befitwithtania.com/wp-content/uploads/2022/11/MG_4165-1_Original-scaled.jpeg
ORGANIZER;CN="Tania":MAILTO:befitwithtania@gmail.com
END:VEVENT
BEGIN:VEVENT
DTSTART;TZID=America/Los_Angeles:20231019T160000
DTEND;TZID=America/Los_Angeles:20231019T163000
DTSTAMP:20260422T004450
CREATED:20241128T120010Z
LAST-MODIFIED:20260214T220809Z
UID:10003657-1697731200-1697733000@befitwithtania.com
SUMMARY:Total Body Sculpt 4pm PT/7pm ET (Th)
DESCRIPTION:Total Body Sculpt is a weight-lifting class\, sculpting the entire body head-to-toe. As we age we lose bone density and muscle mass; lifting weights can help combat these losses. Great for all levels; we work at an easy-to-follow pace.
URL:https://befitwithtania.com/event/total-body-sculpt-4pm-pt-7pm-et-th/2023-10-19/
LOCATION:ZOOM\, Online
CATEGORIES:30-Minute Class
ATTACH;FMTTYPE=image/jpeg:https://befitwithtania.com/wp-content/uploads/2023/05/MG_4167-1_Original-scaled-e1684554488496.jpg
ORGANIZER;CN="Tania":MAILTO:befitwithtania@gmail.com
END:VEVENT
BEGIN:VEVENT
DTSTART;TZID=America/Los_Angeles:20231021T090000
DTEND;TZID=America/Los_Angeles:20231021T093000
DTSTAMP:20260422T004450
CREATED:20241130T170036Z
LAST-MODIFIED:20260214T221236Z
UID:10001230-1697878800-1697880600@befitwithtania.com
SUMMARY:Saturday Pilates Basics 9am PT/12pm ET
DESCRIPTION:Pilates Basics is a head-to-toe strength and stretch with basic Pilates technique designed to leave you feeling refreshed\, not worn out! This class is great for all levels\, focusing on pelvic floor\, core strength\, joint mobility\, range of motion\, stretch\, and balance. We work at an easy-to-follow pace.
URL:https://befitwithtania.com/event/saturday-pilates-basics-9am-pt-12pm-et/2023-10-21/
LOCATION:ZOOM\, Online
CATEGORIES:30-Minute Class
ATTACH;FMTTYPE=image/jpeg:https://befitwithtania.com/wp-content/uploads/2022/03/IMG_7274.jpeg
ORGANIZER;CN="Tania":MAILTO:befitwithtania@gmail.com
END:VEVENT
BEGIN:VEVENT
DTSTART;TZID=America/Los_Angeles:20231023T160000
DTEND;TZID=America/Los_Angeles:20231023T163000
DTSTAMP:20260422T004450
CREATED:20241125T120014Z
LAST-MODIFIED:20260214T220652Z
UID:10001327-1698076800-1698078600@befitwithtania.com
SUMMARY:Monday Restorative Yoga w/Props 4pm PT/7pm ET
DESCRIPTION:Restorative Yoga encompasses the element of deep head-to-toe stretch\, breathwork and oxygenation\, circulation\, and restorative practices. Restorative practices are known to calm the nervous system\, encourage mindfulness\, awareness of the deeper self\, body awareness\, and acceptance in a safe nurturing space. This class rotates between a full body stretch with blocks\, exercise ball\, and bolster for deep relaxation/meditation.
URL:https://befitwithtania.com/event/beginning-yoga-with-tania/2023-10-23/
LOCATION:ZOOM\, Online
CATEGORIES:30-Minute Class
ATTACH;FMTTYPE=image/jpeg:https://befitwithtania.com/wp-content/uploads/2022/02/IMG_0529-scaled-1-e1646968343719.jpg
ORGANIZER;CN="Tania":MAILTO:befitwithtania@gmail.com
END:VEVENT
BEGIN:VEVENT
DTSTART;TZID=America/Los_Angeles:20231024T160000
DTEND;TZID=America/Los_Angeles:20231024T163000
DTSTAMP:20260422T004450
CREATED:20241126T120024Z
LAST-MODIFIED:20260214T220848Z
UID:10001555-1698163200-1698165000@befitwithtania.com
SUMMARY:Total Body Sculpt 4pm PT/7pm ET (Tu)
DESCRIPTION:Total Body Sculpt is a weight-lifting class\, sculpting the entire body\, head-to-toe. As we age\, we lose bone density and muscle mass; lifting weights can help combat these losses. Great for all levels; we work at an easy-to-follow pace.
URL:https://befitwithtania.com/event/total-body-sculpt-4pm-pt-7pm-et-tu/2023-10-24/
LOCATION:ZOOM\, Online
CATEGORIES:30-Minute Class
ATTACH;FMTTYPE=image/jpeg:https://befitwithtania.com/wp-content/uploads/2022/11/MG_4165-1_Original-scaled.jpeg
ORGANIZER;CN="Tania":MAILTO:befitwithtania@gmail.com
END:VEVENT
BEGIN:VEVENT
DTSTART;TZID=America/Los_Angeles:20231026T160000
DTEND;TZID=America/Los_Angeles:20231026T163000
DTSTAMP:20260422T004450
CREATED:20241128T120010Z
LAST-MODIFIED:20260214T220809Z
UID:10003658-1698336000-1698337800@befitwithtania.com
SUMMARY:Total Body Sculpt 4pm PT/7pm ET (Th)
DESCRIPTION:Total Body Sculpt is a weight-lifting class\, sculpting the entire body head-to-toe. As we age we lose bone density and muscle mass; lifting weights can help combat these losses. Great for all levels; we work at an easy-to-follow pace.
URL:https://befitwithtania.com/event/total-body-sculpt-4pm-pt-7pm-et-th/2023-10-26/
LOCATION:ZOOM\, Online
CATEGORIES:30-Minute Class
ATTACH;FMTTYPE=image/jpeg:https://befitwithtania.com/wp-content/uploads/2023/05/MG_4167-1_Original-scaled-e1684554488496.jpg
ORGANIZER;CN="Tania":MAILTO:befitwithtania@gmail.com
END:VEVENT
BEGIN:VEVENT
DTSTART;TZID=America/Los_Angeles:20231028T090000
DTEND;TZID=America/Los_Angeles:20231028T093000
DTSTAMP:20260422T004450
CREATED:20241130T170036Z
LAST-MODIFIED:20260214T221236Z
UID:10001231-1698483600-1698485400@befitwithtania.com
SUMMARY:Saturday Pilates Basics 9am PT/12pm ET
DESCRIPTION:Pilates Basics is a head-to-toe strength and stretch with basic Pilates technique designed to leave you feeling refreshed\, not worn out! This class is great for all levels\, focusing on pelvic floor\, core strength\, joint mobility\, range of motion\, stretch\, and balance. We work at an easy-to-follow pace.
URL:https://befitwithtania.com/event/saturday-pilates-basics-9am-pt-12pm-et/2023-10-28/
LOCATION:ZOOM\, Online
CATEGORIES:30-Minute Class
ATTACH;FMTTYPE=image/jpeg:https://befitwithtania.com/wp-content/uploads/2022/03/IMG_7274.jpeg
ORGANIZER;CN="Tania":MAILTO:befitwithtania@gmail.com
END:VEVENT
BEGIN:VEVENT
DTSTART;TZID=America/Los_Angeles:20231030T160000
DTEND;TZID=America/Los_Angeles:20231030T163000
DTSTAMP:20260422T004450
CREATED:20241125T120014Z
LAST-MODIFIED:20260214T220652Z
UID:10001328-1698681600-1698683400@befitwithtania.com
SUMMARY:Monday Restorative Yoga w/Props 4pm PT/7pm ET
DESCRIPTION:Restorative Yoga encompasses the element of deep head-to-toe stretch\, breathwork and oxygenation\, circulation\, and restorative practices. Restorative practices are known to calm the nervous system\, encourage mindfulness\, awareness of the deeper self\, body awareness\, and acceptance in a safe nurturing space. This class rotates between a full body stretch with blocks\, exercise ball\, and bolster for deep relaxation/meditation.
URL:https://befitwithtania.com/event/beginning-yoga-with-tania/2023-10-30/
LOCATION:ZOOM\, Online
CATEGORIES:30-Minute Class
ATTACH;FMTTYPE=image/jpeg:https://befitwithtania.com/wp-content/uploads/2022/02/IMG_0529-scaled-1-e1646968343719.jpg
ORGANIZER;CN="Tania":MAILTO:befitwithtania@gmail.com
END:VEVENT
END:VCALENDAR