BEGIN:VCALENDAR
VERSION:2.0
PRODID:-//Be Fit with Tania - ECPv6.15.20//NONSGML v1.0//EN
CALSCALE:GREGORIAN
METHOD:PUBLISH
X-WR-CALNAME:Be Fit with Tania
X-ORIGINAL-URL:https://befitwithtania.com
X-WR-CALDESC:Events for Be Fit with Tania
REFRESH-INTERVAL;VALUE=DURATION:PT1H
X-Robots-Tag:noindex
X-PUBLISHED-TTL:PT1H
BEGIN:VTIMEZONE
TZID:America/Los_Angeles
BEGIN:DAYLIGHT
TZOFFSETFROM:-0800
TZOFFSETTO:-0700
TZNAME:PDT
DTSTART:20220313T100000
END:DAYLIGHT
BEGIN:STANDARD
TZOFFSETFROM:-0700
TZOFFSETTO:-0800
TZNAME:PST
DTSTART:20221106T090000
END:STANDARD
BEGIN:DAYLIGHT
TZOFFSETFROM:-0800
TZOFFSETTO:-0700
TZNAME:PDT
DTSTART:20230312T100000
END:DAYLIGHT
BEGIN:STANDARD
TZOFFSETFROM:-0700
TZOFFSETTO:-0800
TZNAME:PST
DTSTART:20231105T090000
END:STANDARD
BEGIN:DAYLIGHT
TZOFFSETFROM:-0800
TZOFFSETTO:-0700
TZNAME:PDT
DTSTART:20240310T100000
END:DAYLIGHT
BEGIN:STANDARD
TZOFFSETFROM:-0700
TZOFFSETTO:-0800
TZNAME:PST
DTSTART:20241103T090000
END:STANDARD
END:VTIMEZONE
BEGIN:VEVENT
DTSTART;TZID=America/Los_Angeles:20231202T090000
DTEND;TZID=America/Los_Angeles:20231202T093000
DTSTAMP:20260421T210144
CREATED:20241130T170036Z
LAST-MODIFIED:20260214T221236Z
UID:10001236-1701507600-1701509400@befitwithtania.com
SUMMARY:Saturday Pilates Basics 9am PT/12pm ET
DESCRIPTION:Pilates Basics is a head-to-toe strength and stretch with basic Pilates technique designed to leave you feeling refreshed\, not worn out! This class is great for all levels\, focusing on pelvic floor\, core strength\, joint mobility\, range of motion\, stretch\, and balance. We work at an easy-to-follow pace.
URL:https://befitwithtania.com/event/saturday-pilates-basics-9am-pt-12pm-et/2023-12-02/
LOCATION:ZOOM\, Online
CATEGORIES:30-Minute Class
ATTACH;FMTTYPE=image/jpeg:https://befitwithtania.com/wp-content/uploads/2022/03/IMG_7274.jpeg
ORGANIZER;CN="Tania":MAILTO:befitwithtania@gmail.com
END:VEVENT
BEGIN:VEVENT
DTSTART;TZID=America/Los_Angeles:20231204T160000
DTEND;TZID=America/Los_Angeles:20231204T163000
DTSTAMP:20260421T210144
CREATED:20241125T120014Z
LAST-MODIFIED:20260214T220652Z
UID:10001454-1701705600-1701707400@befitwithtania.com
SUMMARY:Monday Restorative Yoga w/Props 4pm PT/7pm ET
DESCRIPTION:Restorative Yoga encompasses the element of deep head-to-toe stretch\, breathwork and oxygenation\, circulation\, and restorative practices. Restorative practices are known to calm the nervous system\, encourage mindfulness\, awareness of the deeper self\, body awareness\, and acceptance in a safe nurturing space. This class rotates between a full body stretch with blocks\, exercise ball\, and bolster for deep relaxation/meditation.
URL:https://befitwithtania.com/event/beginning-yoga-with-tania/2023-12-04/
LOCATION:ZOOM\, Online
CATEGORIES:30-Minute Class
ATTACH;FMTTYPE=image/jpeg:https://befitwithtania.com/wp-content/uploads/2022/02/IMG_0529-scaled-1-e1646968343719.jpg
ORGANIZER;CN="Tania":MAILTO:befitwithtania@gmail.com
END:VEVENT
BEGIN:VEVENT
DTSTART;TZID=America/Los_Angeles:20231205T160000
DTEND;TZID=America/Los_Angeles:20231205T163000
DTSTAMP:20260421T210144
CREATED:20241126T120024Z
LAST-MODIFIED:20260214T220848Z
UID:10001567-1701792000-1701793800@befitwithtania.com
SUMMARY:Total Body Sculpt 4pm PT/7pm ET (Tu)
DESCRIPTION:Total Body Sculpt is a weight-lifting class\, sculpting the entire body\, head-to-toe. As we age\, we lose bone density and muscle mass; lifting weights can help combat these losses. Great for all levels; we work at an easy-to-follow pace.
URL:https://befitwithtania.com/event/total-body-sculpt-4pm-pt-7pm-et-tu/2023-12-05/
LOCATION:ZOOM\, Online
CATEGORIES:30-Minute Class
ATTACH;FMTTYPE=image/jpeg:https://befitwithtania.com/wp-content/uploads/2022/11/MG_4165-1_Original-scaled.jpeg
ORGANIZER;CN="Tania":MAILTO:befitwithtania@gmail.com
END:VEVENT
BEGIN:VEVENT
DTSTART;TZID=America/Los_Angeles:20231207T160000
DTEND;TZID=America/Los_Angeles:20231207T163000
DTSTAMP:20260421T210144
CREATED:20241128T120010Z
LAST-MODIFIED:20260214T220809Z
UID:10007016-1701964800-1701966600@befitwithtania.com
SUMMARY:Total Body Sculpt 4pm PT/7pm ET (Th)
DESCRIPTION:Total Body Sculpt is a weight-lifting class\, sculpting the entire body head-to-toe. As we age we lose bone density and muscle mass; lifting weights can help combat these losses. Great for all levels; we work at an easy-to-follow pace.
URL:https://befitwithtania.com/event/total-body-sculpt-4pm-pt-7pm-et-th/2023-12-07/
LOCATION:ZOOM\, Online
CATEGORIES:30-Minute Class
ATTACH;FMTTYPE=image/jpeg:https://befitwithtania.com/wp-content/uploads/2023/05/MG_4167-1_Original-scaled-e1684554488496.jpg
ORGANIZER;CN="Tania":MAILTO:befitwithtania@gmail.com
END:VEVENT
BEGIN:VEVENT
DTSTART;TZID=America/Los_Angeles:20231209T090000
DTEND;TZID=America/Los_Angeles:20231209T093000
DTSTAMP:20260421T210144
CREATED:20241130T170036Z
LAST-MODIFIED:20260214T221236Z
UID:10001450-1702112400-1702114200@befitwithtania.com
SUMMARY:Saturday Pilates Basics 9am PT/12pm ET
DESCRIPTION:Pilates Basics is a head-to-toe strength and stretch with basic Pilates technique designed to leave you feeling refreshed\, not worn out! This class is great for all levels\, focusing on pelvic floor\, core strength\, joint mobility\, range of motion\, stretch\, and balance. We work at an easy-to-follow pace.
URL:https://befitwithtania.com/event/saturday-pilates-basics-9am-pt-12pm-et/2023-12-09/
LOCATION:ZOOM\, Online
CATEGORIES:30-Minute Class
ATTACH;FMTTYPE=image/jpeg:https://befitwithtania.com/wp-content/uploads/2022/03/IMG_7274.jpeg
ORGANIZER;CN="Tania":MAILTO:befitwithtania@gmail.com
END:VEVENT
BEGIN:VEVENT
DTSTART;TZID=America/Los_Angeles:20231211T160000
DTEND;TZID=America/Los_Angeles:20231211T163000
DTSTAMP:20260421T210144
CREATED:20241125T120014Z
LAST-MODIFIED:20260214T220652Z
UID:10001455-1702310400-1702312200@befitwithtania.com
SUMMARY:Monday Restorative Yoga w/Props 4pm PT/7pm ET
DESCRIPTION:Restorative Yoga encompasses the element of deep head-to-toe stretch\, breathwork and oxygenation\, circulation\, and restorative practices. Restorative practices are known to calm the nervous system\, encourage mindfulness\, awareness of the deeper self\, body awareness\, and acceptance in a safe nurturing space. This class rotates between a full body stretch with blocks\, exercise ball\, and bolster for deep relaxation/meditation.
URL:https://befitwithtania.com/event/beginning-yoga-with-tania/2023-12-11/
LOCATION:ZOOM\, Online
CATEGORIES:30-Minute Class
ATTACH;FMTTYPE=image/jpeg:https://befitwithtania.com/wp-content/uploads/2022/02/IMG_0529-scaled-1-e1646968343719.jpg
ORGANIZER;CN="Tania":MAILTO:befitwithtania@gmail.com
END:VEVENT
BEGIN:VEVENT
DTSTART;TZID=America/Los_Angeles:20231212T160000
DTEND;TZID=America/Los_Angeles:20231212T163000
DTSTAMP:20260421T210144
CREATED:20241126T120024Z
LAST-MODIFIED:20260214T220848Z
UID:10001569-1702396800-1702398600@befitwithtania.com
SUMMARY:Total Body Sculpt 4pm PT/7pm ET (Tu)
DESCRIPTION:Total Body Sculpt is a weight-lifting class\, sculpting the entire body\, head-to-toe. As we age\, we lose bone density and muscle mass; lifting weights can help combat these losses. Great for all levels; we work at an easy-to-follow pace.
URL:https://befitwithtania.com/event/total-body-sculpt-4pm-pt-7pm-et-tu/2023-12-12/
LOCATION:ZOOM\, Online
CATEGORIES:30-Minute Class
ATTACH;FMTTYPE=image/jpeg:https://befitwithtania.com/wp-content/uploads/2022/11/MG_4165-1_Original-scaled.jpeg
ORGANIZER;CN="Tania":MAILTO:befitwithtania@gmail.com
END:VEVENT
BEGIN:VEVENT
DTSTART;TZID=America/Los_Angeles:20231214T160000
DTEND;TZID=America/Los_Angeles:20231214T163000
DTSTAMP:20260421T210144
CREATED:20241128T120010Z
LAST-MODIFIED:20260214T220809Z
UID:10003665-1702569600-1702571400@befitwithtania.com
SUMMARY:Total Body Sculpt 4pm PT/7pm ET (Th)
DESCRIPTION:Total Body Sculpt is a weight-lifting class\, sculpting the entire body head-to-toe. As we age we lose bone density and muscle mass; lifting weights can help combat these losses. Great for all levels; we work at an easy-to-follow pace.
URL:https://befitwithtania.com/event/total-body-sculpt-4pm-pt-7pm-et-th/2023-12-14/
LOCATION:ZOOM\, Online
CATEGORIES:30-Minute Class
ATTACH;FMTTYPE=image/jpeg:https://befitwithtania.com/wp-content/uploads/2023/05/MG_4167-1_Original-scaled-e1684554488496.jpg
ORGANIZER;CN="Tania":MAILTO:befitwithtania@gmail.com
END:VEVENT
BEGIN:VEVENT
DTSTART;TZID=America/Los_Angeles:20231216T090000
DTEND;TZID=America/Los_Angeles:20231216T093000
DTSTAMP:20260421T210144
CREATED:20241130T170036Z
LAST-MODIFIED:20260214T221236Z
UID:10001451-1702717200-1702719000@befitwithtania.com
SUMMARY:Saturday Pilates Basics 9am PT/12pm ET
DESCRIPTION:Pilates Basics is a head-to-toe strength and stretch with basic Pilates technique designed to leave you feeling refreshed\, not worn out! This class is great for all levels\, focusing on pelvic floor\, core strength\, joint mobility\, range of motion\, stretch\, and balance. We work at an easy-to-follow pace.
URL:https://befitwithtania.com/event/saturday-pilates-basics-9am-pt-12pm-et/2023-12-16/
LOCATION:ZOOM\, Online
CATEGORIES:30-Minute Class
ATTACH;FMTTYPE=image/jpeg:https://befitwithtania.com/wp-content/uploads/2022/03/IMG_7274.jpeg
ORGANIZER;CN="Tania":MAILTO:befitwithtania@gmail.com
END:VEVENT
BEGIN:VEVENT
DTSTART;TZID=America/Los_Angeles:20231218T160000
DTEND;TZID=America/Los_Angeles:20231218T163000
DTSTAMP:20260421T210144
CREATED:20241125T120014Z
LAST-MODIFIED:20260214T220652Z
UID:10007039-1702915200-1702917000@befitwithtania.com
SUMMARY:Monday Restorative Yoga w/Props 4pm PT/7pm ET
DESCRIPTION:Restorative Yoga encompasses the element of deep head-to-toe stretch\, breathwork and oxygenation\, circulation\, and restorative practices. Restorative practices are known to calm the nervous system\, encourage mindfulness\, awareness of the deeper self\, body awareness\, and acceptance in a safe nurturing space. This class rotates between a full body stretch with blocks\, exercise ball\, and bolster for deep relaxation/meditation.
URL:https://befitwithtania.com/event/beginning-yoga-with-tania/2023-12-18/
LOCATION:ZOOM\, Online
CATEGORIES:30-Minute Class
ATTACH;FMTTYPE=image/jpeg:https://befitwithtania.com/wp-content/uploads/2022/02/IMG_0529-scaled-1-e1646968343719.jpg
ORGANIZER;CN="Tania":MAILTO:befitwithtania@gmail.com
END:VEVENT
BEGIN:VEVENT
DTSTART;TZID=America/Los_Angeles:20231221T160000
DTEND;TZID=America/Los_Angeles:20231221T163000
DTSTAMP:20260421T210144
CREATED:20241128T120010Z
LAST-MODIFIED:20260214T220809Z
UID:10003666-1703174400-1703176200@befitwithtania.com
SUMMARY:Total Body Sculpt 4pm PT/7pm ET (Th)
DESCRIPTION:Total Body Sculpt is a weight-lifting class\, sculpting the entire body head-to-toe. As we age we lose bone density and muscle mass; lifting weights can help combat these losses. Great for all levels; we work at an easy-to-follow pace.
URL:https://befitwithtania.com/event/total-body-sculpt-4pm-pt-7pm-et-th/2023-12-21/
LOCATION:ZOOM\, Online
CATEGORIES:30-Minute Class
ATTACH;FMTTYPE=image/jpeg:https://befitwithtania.com/wp-content/uploads/2023/05/MG_4167-1_Original-scaled-e1684554488496.jpg
ORGANIZER;CN="Tania":MAILTO:befitwithtania@gmail.com
END:VEVENT
BEGIN:VEVENT
DTSTART;TZID=America/Los_Angeles:20231223T090000
DTEND;TZID=America/Los_Angeles:20231223T093000
DTSTAMP:20260421T210144
CREATED:20241130T170036Z
LAST-MODIFIED:20260214T221236Z
UID:10005928-1703322000-1703323800@befitwithtania.com
SUMMARY:Saturday Pilates Basics 9am PT/12pm ET
DESCRIPTION:Pilates Basics is a head-to-toe strength and stretch with basic Pilates technique designed to leave you feeling refreshed\, not worn out! This class is great for all levels\, focusing on pelvic floor\, core strength\, joint mobility\, range of motion\, stretch\, and balance. We work at an easy-to-follow pace.
URL:https://befitwithtania.com/event/saturday-pilates-basics-9am-pt-12pm-et/2023-12-23/
LOCATION:ZOOM\, Online
CATEGORIES:30-Minute Class
ATTACH;FMTTYPE=image/jpeg:https://befitwithtania.com/wp-content/uploads/2022/03/IMG_7274.jpeg
ORGANIZER;CN="Tania":MAILTO:befitwithtania@gmail.com
END:VEVENT
BEGIN:VEVENT
DTSTART;TZID=America/Los_Angeles:20231225T160000
DTEND;TZID=America/Los_Angeles:20231225T163000
DTSTAMP:20260421T210144
CREATED:20241125T120014Z
LAST-MODIFIED:20260214T220652Z
UID:10007040-1703520000-1703521800@befitwithtania.com
SUMMARY:Monday Restorative Yoga w/Props 4pm PT/7pm ET
DESCRIPTION:Restorative Yoga encompasses the element of deep head-to-toe stretch\, breathwork and oxygenation\, circulation\, and restorative practices. Restorative practices are known to calm the nervous system\, encourage mindfulness\, awareness of the deeper self\, body awareness\, and acceptance in a safe nurturing space. This class rotates between a full body stretch with blocks\, exercise ball\, and bolster for deep relaxation/meditation.
URL:https://befitwithtania.com/event/beginning-yoga-with-tania/2023-12-25/
LOCATION:ZOOM\, Online
CATEGORIES:30-Minute Class
ATTACH;FMTTYPE=image/jpeg:https://befitwithtania.com/wp-content/uploads/2022/02/IMG_0529-scaled-1-e1646968343719.jpg
ORGANIZER;CN="Tania":MAILTO:befitwithtania@gmail.com
END:VEVENT
BEGIN:VEVENT
DTSTART;TZID=America/Los_Angeles:20231226T160000
DTEND;TZID=America/Los_Angeles:20231226T163000
DTSTAMP:20260421T210144
CREATED:20241126T120024Z
LAST-MODIFIED:20260214T220848Z
UID:10001573-1703606400-1703608200@befitwithtania.com
SUMMARY:Total Body Sculpt 4pm PT/7pm ET (Tu)
DESCRIPTION:Total Body Sculpt is a weight-lifting class\, sculpting the entire body\, head-to-toe. As we age\, we lose bone density and muscle mass; lifting weights can help combat these losses. Great for all levels; we work at an easy-to-follow pace.
URL:https://befitwithtania.com/event/total-body-sculpt-4pm-pt-7pm-et-tu/2023-12-26/
LOCATION:ZOOM\, Online
CATEGORIES:30-Minute Class
ATTACH;FMTTYPE=image/jpeg:https://befitwithtania.com/wp-content/uploads/2022/11/MG_4165-1_Original-scaled.jpeg
ORGANIZER;CN="Tania":MAILTO:befitwithtania@gmail.com
END:VEVENT
BEGIN:VEVENT
DTSTART;TZID=America/Los_Angeles:20231228T160000
DTEND;TZID=America/Los_Angeles:20231228T163000
DTSTAMP:20260421T210144
CREATED:20241128T120010Z
LAST-MODIFIED:20260214T220809Z
UID:10003667-1703779200-1703781000@befitwithtania.com
SUMMARY:Total Body Sculpt 4pm PT/7pm ET (Th)
DESCRIPTION:Total Body Sculpt is a weight-lifting class\, sculpting the entire body head-to-toe. As we age we lose bone density and muscle mass; lifting weights can help combat these losses. Great for all levels; we work at an easy-to-follow pace.
URL:https://befitwithtania.com/event/total-body-sculpt-4pm-pt-7pm-et-th/2023-12-28/
LOCATION:ZOOM\, Online
CATEGORIES:30-Minute Class
ATTACH;FMTTYPE=image/jpeg:https://befitwithtania.com/wp-content/uploads/2023/05/MG_4167-1_Original-scaled-e1684554488496.jpg
ORGANIZER;CN="Tania":MAILTO:befitwithtania@gmail.com
END:VEVENT
BEGIN:VEVENT
DTSTART;TZID=America/Los_Angeles:20231230T090000
DTEND;TZID=America/Los_Angeles:20231230T093000
DTSTAMP:20260421T210144
CREATED:20241130T170036Z
LAST-MODIFIED:20260214T221236Z
UID:10001762-1703926800-1703928600@befitwithtania.com
SUMMARY:Saturday Pilates Basics 9am PT/12pm ET
DESCRIPTION:Pilates Basics is a head-to-toe strength and stretch with basic Pilates technique designed to leave you feeling refreshed\, not worn out! This class is great for all levels\, focusing on pelvic floor\, core strength\, joint mobility\, range of motion\, stretch\, and balance. We work at an easy-to-follow pace.
URL:https://befitwithtania.com/event/saturday-pilates-basics-9am-pt-12pm-et/2023-12-30/
LOCATION:ZOOM\, Online
CATEGORIES:30-Minute Class
ATTACH;FMTTYPE=image/jpeg:https://befitwithtania.com/wp-content/uploads/2022/03/IMG_7274.jpeg
ORGANIZER;CN="Tania":MAILTO:befitwithtania@gmail.com
END:VEVENT
END:VCALENDAR