BEGIN:VCALENDAR
VERSION:2.0
PRODID:-//Be Fit with Tania - ECPv6.15.20//NONSGML v1.0//EN
CALSCALE:GREGORIAN
METHOD:PUBLISH
X-WR-CALNAME:Be Fit with Tania
X-ORIGINAL-URL:https://befitwithtania.com
X-WR-CALDESC:Events for Be Fit with Tania
REFRESH-INTERVAL;VALUE=DURATION:PT1H
X-Robots-Tag:noindex
X-PUBLISHED-TTL:PT1H
BEGIN:VTIMEZONE
TZID:America/Los_Angeles
BEGIN:DAYLIGHT
TZOFFSETFROM:-0800
TZOFFSETTO:-0700
TZNAME:PDT
DTSTART:20240310T100000
END:DAYLIGHT
BEGIN:STANDARD
TZOFFSETFROM:-0700
TZOFFSETTO:-0800
TZNAME:PST
DTSTART:20241103T090000
END:STANDARD
BEGIN:DAYLIGHT
TZOFFSETFROM:-0800
TZOFFSETTO:-0700
TZNAME:PDT
DTSTART:20250309T100000
END:DAYLIGHT
BEGIN:STANDARD
TZOFFSETFROM:-0700
TZOFFSETTO:-0800
TZNAME:PST
DTSTART:20251102T090000
END:STANDARD
BEGIN:DAYLIGHT
TZOFFSETFROM:-0800
TZOFFSETTO:-0700
TZNAME:PDT
DTSTART:20260308T100000
END:DAYLIGHT
BEGIN:STANDARD
TZOFFSETFROM:-0700
TZOFFSETTO:-0800
TZNAME:PST
DTSTART:20261101T090000
END:STANDARD
END:VTIMEZONE
BEGIN:VEVENT
DTSTART;TZID=America/Los_Angeles:20250402T160000
DTEND;TZID=America/Los_Angeles:20250402T163000
DTSTAMP:20260420T182127
CREATED:20241214T203603Z
LAST-MODIFIED:20260214T220731Z
UID:10007051-1743609600-1743611400@befitwithtania.com
SUMMARY:Wednesday Pilates Core Conditioning 4pm PT/7pm ET
DESCRIPTION:This Pilates class focuses on core strength and conditioning! Pilates includes pelvic floor\, core strength and balance\, joint mobility\, range of motion\, and flexibility. Leave feeling refreshed\, not worn out! This 30-minute class is great for all levels; options always provided.
URL:https://befitwithtania.com/event/beginning-pilates-by-tania-2/2025-04-02/
LOCATION:ZOOM\, Online
CATEGORIES:30-Minute Class
ATTACH;FMTTYPE=image/jpeg:https://befitwithtania.com/wp-content/uploads/2022/03/IMG_8810-scaled.jpeg
ORGANIZER;CN="Tania":MAILTO:befitwithtania@gmail.com
END:VEVENT
BEGIN:VEVENT
DTSTART;TZID=America/Los_Angeles:20250403T160000
DTEND;TZID=America/Los_Angeles:20250403T163000
DTSTAMP:20260420T182127
CREATED:20241128T120010Z
LAST-MODIFIED:20260214T220809Z
UID:10007094-1743696000-1743697800@befitwithtania.com
SUMMARY:Total Body Sculpt 4pm PT/7pm ET (Th)
DESCRIPTION:Total Body Sculpt is a weight-lifting class\, sculpting the entire body head-to-toe. As we age we lose bone density and muscle mass; lifting weights can help combat these losses. Great for all levels; we work at an easy-to-follow pace.
URL:https://befitwithtania.com/event/total-body-sculpt-4pm-pt-7pm-et-th/2025-04-03/
LOCATION:ZOOM\, Online
CATEGORIES:30-Minute Class
ATTACH;FMTTYPE=image/jpeg:https://befitwithtania.com/wp-content/uploads/2023/05/MG_4167-1_Original-scaled-e1684554488496.jpg
ORGANIZER;CN="Tania":MAILTO:befitwithtania@gmail.com
END:VEVENT
BEGIN:VEVENT
DTSTART;TZID=America/Los_Angeles:20250405T090000
DTEND;TZID=America/Los_Angeles:20250405T093000
DTSTAMP:20260420T182127
CREATED:20241130T170036Z
LAST-MODIFIED:20260214T221236Z
UID:10007235-1743843600-1743845400@befitwithtania.com
SUMMARY:Saturday Pilates Basics 9am PT/12pm ET
DESCRIPTION:Pilates Basics is a head-to-toe strength and stretch with basic Pilates technique designed to leave you feeling refreshed\, not worn out! This class is great for all levels\, focusing on pelvic floor\, core strength\, joint mobility\, range of motion\, stretch\, and balance. We work at an easy-to-follow pace.
URL:https://befitwithtania.com/event/saturday-pilates-basics-9am-pt-12pm-et/2025-04-05/
LOCATION:ZOOM\, Online
CATEGORIES:30-Minute Class
ATTACH;FMTTYPE=image/jpeg:https://befitwithtania.com/wp-content/uploads/2022/03/IMG_7274.jpeg
ORGANIZER;CN="Tania":MAILTO:befitwithtania@gmail.com
END:VEVENT
BEGIN:VEVENT
DTSTART;TZID=America/Los_Angeles:20250407T160000
DTEND;TZID=America/Los_Angeles:20250407T163000
DTSTAMP:20260420T182127
CREATED:20241125T120014Z
LAST-MODIFIED:20260214T220652Z
UID:10007137-1744041600-1744043400@befitwithtania.com
SUMMARY:Monday Restorative Yoga w/Props 4pm PT/7pm ET
DESCRIPTION:Restorative Yoga encompasses the element of deep head-to-toe stretch\, breathwork and oxygenation\, circulation\, and restorative practices. Restorative practices are known to calm the nervous system\, encourage mindfulness\, awareness of the deeper self\, body awareness\, and acceptance in a safe nurturing space. This class rotates between a full body stretch with blocks\, exercise ball\, and bolster for deep relaxation/meditation.
URL:https://befitwithtania.com/event/beginning-yoga-with-tania/2025-04-07/
LOCATION:ZOOM\, Online
CATEGORIES:30-Minute Class
ATTACH;FMTTYPE=image/jpeg:https://befitwithtania.com/wp-content/uploads/2022/02/IMG_0529-scaled-1-e1646968343719.jpg
ORGANIZER;CN="Tania":MAILTO:befitwithtania@gmail.com
END:VEVENT
BEGIN:VEVENT
DTSTART;TZID=America/Los_Angeles:20250408T160000
DTEND;TZID=America/Los_Angeles:20250408T163000
DTSTAMP:20260420T182127
CREATED:20241126T120024Z
LAST-MODIFIED:20260214T220848Z
UID:10001897-1744128000-1744129800@befitwithtania.com
SUMMARY:Total Body Sculpt 4pm PT/7pm ET (Tu)
DESCRIPTION:Total Body Sculpt is a weight-lifting class\, sculpting the entire body\, head-to-toe. As we age\, we lose bone density and muscle mass; lifting weights can help combat these losses. Great for all levels; we work at an easy-to-follow pace.
URL:https://befitwithtania.com/event/total-body-sculpt-4pm-pt-7pm-et-tu/2025-04-08/
LOCATION:ZOOM\, Online
CATEGORIES:30-Minute Class
ATTACH;FMTTYPE=image/jpeg:https://befitwithtania.com/wp-content/uploads/2022/11/MG_4165-1_Original-scaled.jpeg
ORGANIZER;CN="Tania":MAILTO:befitwithtania@gmail.com
END:VEVENT
BEGIN:VEVENT
DTSTART;TZID=America/Los_Angeles:20250409T160000
DTEND;TZID=America/Los_Angeles:20250409T163000
DTSTAMP:20260420T182127
CREATED:20241214T203603Z
LAST-MODIFIED:20260214T220731Z
UID:10007052-1744214400-1744216200@befitwithtania.com
SUMMARY:Wednesday Pilates Core Conditioning 4pm PT/7pm ET
DESCRIPTION:This Pilates class focuses on core strength and conditioning! Pilates includes pelvic floor\, core strength and balance\, joint mobility\, range of motion\, and flexibility. Leave feeling refreshed\, not worn out! This 30-minute class is great for all levels; options always provided.
URL:https://befitwithtania.com/event/beginning-pilates-by-tania-2/2025-04-09/
LOCATION:ZOOM\, Online
CATEGORIES:30-Minute Class
ATTACH;FMTTYPE=image/jpeg:https://befitwithtania.com/wp-content/uploads/2022/03/IMG_8810-scaled.jpeg
ORGANIZER;CN="Tania":MAILTO:befitwithtania@gmail.com
END:VEVENT
BEGIN:VEVENT
DTSTART;TZID=America/Los_Angeles:20250410T160000
DTEND;TZID=America/Los_Angeles:20250410T163000
DTSTAMP:20260420T182127
CREATED:20241128T120010Z
LAST-MODIFIED:20260214T220809Z
UID:10007095-1744300800-1744302600@befitwithtania.com
SUMMARY:Total Body Sculpt 4pm PT/7pm ET (Th)
DESCRIPTION:Total Body Sculpt is a weight-lifting class\, sculpting the entire body head-to-toe. As we age we lose bone density and muscle mass; lifting weights can help combat these losses. Great for all levels; we work at an easy-to-follow pace.
URL:https://befitwithtania.com/event/total-body-sculpt-4pm-pt-7pm-et-th/2025-04-10/
LOCATION:ZOOM\, Online
CATEGORIES:30-Minute Class
ATTACH;FMTTYPE=image/jpeg:https://befitwithtania.com/wp-content/uploads/2023/05/MG_4167-1_Original-scaled-e1684554488496.jpg
ORGANIZER;CN="Tania":MAILTO:befitwithtania@gmail.com
END:VEVENT
BEGIN:VEVENT
DTSTART;TZID=America/Los_Angeles:20250412T090000
DTEND;TZID=America/Los_Angeles:20250412T093000
DTSTAMP:20260420T182127
CREATED:20241130T170036Z
LAST-MODIFIED:20260214T221236Z
UID:10007236-1744448400-1744450200@befitwithtania.com
SUMMARY:Saturday Pilates Basics 9am PT/12pm ET
DESCRIPTION:Pilates Basics is a head-to-toe strength and stretch with basic Pilates technique designed to leave you feeling refreshed\, not worn out! This class is great for all levels\, focusing on pelvic floor\, core strength\, joint mobility\, range of motion\, stretch\, and balance. We work at an easy-to-follow pace.
URL:https://befitwithtania.com/event/saturday-pilates-basics-9am-pt-12pm-et/2025-04-12/
LOCATION:ZOOM\, Online
CATEGORIES:30-Minute Class
ATTACH;FMTTYPE=image/jpeg:https://befitwithtania.com/wp-content/uploads/2022/03/IMG_7274.jpeg
ORGANIZER;CN="Tania":MAILTO:befitwithtania@gmail.com
END:VEVENT
BEGIN:VEVENT
DTSTART;TZID=America/Los_Angeles:20250414T160000
DTEND;TZID=America/Los_Angeles:20250414T163000
DTSTAMP:20260420T182127
CREATED:20241125T120014Z
LAST-MODIFIED:20260214T220652Z
UID:10007138-1744646400-1744648200@befitwithtania.com
SUMMARY:Monday Restorative Yoga w/Props 4pm PT/7pm ET
DESCRIPTION:Restorative Yoga encompasses the element of deep head-to-toe stretch\, breathwork and oxygenation\, circulation\, and restorative practices. Restorative practices are known to calm the nervous system\, encourage mindfulness\, awareness of the deeper self\, body awareness\, and acceptance in a safe nurturing space. This class rotates between a full body stretch with blocks\, exercise ball\, and bolster for deep relaxation/meditation.
URL:https://befitwithtania.com/event/beginning-yoga-with-tania/2025-04-14/
LOCATION:ZOOM\, Online
CATEGORIES:30-Minute Class
ATTACH;FMTTYPE=image/jpeg:https://befitwithtania.com/wp-content/uploads/2022/02/IMG_0529-scaled-1-e1646968343719.jpg
ORGANIZER;CN="Tania":MAILTO:befitwithtania@gmail.com
END:VEVENT
BEGIN:VEVENT
DTSTART;TZID=America/Los_Angeles:20250415T160000
DTEND;TZID=America/Los_Angeles:20250415T163000
DTSTAMP:20260420T182127
CREATED:20241126T120024Z
LAST-MODIFIED:20260214T220848Z
UID:10001899-1744732800-1744734600@befitwithtania.com
SUMMARY:Total Body Sculpt 4pm PT/7pm ET (Tu)
DESCRIPTION:Total Body Sculpt is a weight-lifting class\, sculpting the entire body\, head-to-toe. As we age\, we lose bone density and muscle mass; lifting weights can help combat these losses. Great for all levels; we work at an easy-to-follow pace.
URL:https://befitwithtania.com/event/total-body-sculpt-4pm-pt-7pm-et-tu/2025-04-15/
LOCATION:ZOOM\, Online
CATEGORIES:30-Minute Class
ATTACH;FMTTYPE=image/jpeg:https://befitwithtania.com/wp-content/uploads/2022/11/MG_4165-1_Original-scaled.jpeg
ORGANIZER;CN="Tania":MAILTO:befitwithtania@gmail.com
END:VEVENT
BEGIN:VEVENT
DTSTART;TZID=America/Los_Angeles:20250416T160000
DTEND;TZID=America/Los_Angeles:20250416T163000
DTSTAMP:20260420T182127
CREATED:20241214T203603Z
LAST-MODIFIED:20260214T220731Z
UID:10007053-1744819200-1744821000@befitwithtania.com
SUMMARY:Wednesday Pilates Core Conditioning 4pm PT/7pm ET
DESCRIPTION:This Pilates class focuses on core strength and conditioning! Pilates includes pelvic floor\, core strength and balance\, joint mobility\, range of motion\, and flexibility. Leave feeling refreshed\, not worn out! This 30-minute class is great for all levels; options always provided.
URL:https://befitwithtania.com/event/beginning-pilates-by-tania-2/2025-04-16/
LOCATION:ZOOM\, Online
CATEGORIES:30-Minute Class
ATTACH;FMTTYPE=image/jpeg:https://befitwithtania.com/wp-content/uploads/2022/03/IMG_8810-scaled.jpeg
ORGANIZER;CN="Tania":MAILTO:befitwithtania@gmail.com
END:VEVENT
BEGIN:VEVENT
DTSTART;TZID=America/Los_Angeles:20250417T160000
DTEND;TZID=America/Los_Angeles:20250417T163000
DTSTAMP:20260420T182127
CREATED:20241128T120010Z
LAST-MODIFIED:20260214T220809Z
UID:10007096-1744905600-1744907400@befitwithtania.com
SUMMARY:Total Body Sculpt 4pm PT/7pm ET (Th)
DESCRIPTION:Total Body Sculpt is a weight-lifting class\, sculpting the entire body head-to-toe. As we age we lose bone density and muscle mass; lifting weights can help combat these losses. Great for all levels; we work at an easy-to-follow pace.
URL:https://befitwithtania.com/event/total-body-sculpt-4pm-pt-7pm-et-th/2025-04-17/
LOCATION:ZOOM\, Online
CATEGORIES:30-Minute Class
ATTACH;FMTTYPE=image/jpeg:https://befitwithtania.com/wp-content/uploads/2023/05/MG_4167-1_Original-scaled-e1684554488496.jpg
ORGANIZER;CN="Tania":MAILTO:befitwithtania@gmail.com
END:VEVENT
BEGIN:VEVENT
DTSTART;TZID=America/Los_Angeles:20250422T160000
DTEND;TZID=America/Los_Angeles:20250422T163000
DTSTAMP:20260420T182127
CREATED:20241126T120024Z
LAST-MODIFIED:20260214T220848Z
UID:10001901-1745337600-1745339400@befitwithtania.com
SUMMARY:Total Body Sculpt 4pm PT/7pm ET (Tu)
DESCRIPTION:Total Body Sculpt is a weight-lifting class\, sculpting the entire body\, head-to-toe. As we age\, we lose bone density and muscle mass; lifting weights can help combat these losses. Great for all levels; we work at an easy-to-follow pace.
URL:https://befitwithtania.com/event/total-body-sculpt-4pm-pt-7pm-et-tu/2025-04-22/
LOCATION:ZOOM\, Online
CATEGORIES:30-Minute Class
ATTACH;FMTTYPE=image/jpeg:https://befitwithtania.com/wp-content/uploads/2022/11/MG_4165-1_Original-scaled.jpeg
ORGANIZER;CN="Tania":MAILTO:befitwithtania@gmail.com
END:VEVENT
BEGIN:VEVENT
DTSTART;TZID=America/Los_Angeles:20250423T160000
DTEND;TZID=America/Los_Angeles:20250423T163000
DTSTAMP:20260420T182127
CREATED:20241214T203603Z
LAST-MODIFIED:20260214T220731Z
UID:10007054-1745424000-1745425800@befitwithtania.com
SUMMARY:Wednesday Pilates Core Conditioning 4pm PT/7pm ET
DESCRIPTION:This Pilates class focuses on core strength and conditioning! Pilates includes pelvic floor\, core strength and balance\, joint mobility\, range of motion\, and flexibility. Leave feeling refreshed\, not worn out! This 30-minute class is great for all levels; options always provided.
URL:https://befitwithtania.com/event/beginning-pilates-by-tania-2/2025-04-23/
LOCATION:ZOOM\, Online
CATEGORIES:30-Minute Class
ATTACH;FMTTYPE=image/jpeg:https://befitwithtania.com/wp-content/uploads/2022/03/IMG_8810-scaled.jpeg
ORGANIZER;CN="Tania":MAILTO:befitwithtania@gmail.com
END:VEVENT
BEGIN:VEVENT
DTSTART;TZID=America/Los_Angeles:20250424T160000
DTEND;TZID=America/Los_Angeles:20250424T163000
DTSTAMP:20260420T182127
CREATED:20241128T120010Z
LAST-MODIFIED:20260214T220809Z
UID:10007097-1745510400-1745512200@befitwithtania.com
SUMMARY:Total Body Sculpt 4pm PT/7pm ET (Th)
DESCRIPTION:Total Body Sculpt is a weight-lifting class\, sculpting the entire body head-to-toe. As we age we lose bone density and muscle mass; lifting weights can help combat these losses. Great for all levels; we work at an easy-to-follow pace.
URL:https://befitwithtania.com/event/total-body-sculpt-4pm-pt-7pm-et-th/2025-04-24/
LOCATION:ZOOM\, Online
CATEGORIES:30-Minute Class
ATTACH;FMTTYPE=image/jpeg:https://befitwithtania.com/wp-content/uploads/2023/05/MG_4167-1_Original-scaled-e1684554488496.jpg
ORGANIZER;CN="Tania":MAILTO:befitwithtania@gmail.com
END:VEVENT
BEGIN:VEVENT
DTSTART;TZID=America/Los_Angeles:20250426T090000
DTEND;TZID=America/Los_Angeles:20250426T093000
DTSTAMP:20260420T182127
CREATED:20241130T170036Z
LAST-MODIFIED:20260214T221236Z
UID:10007238-1745658000-1745659800@befitwithtania.com
SUMMARY:Saturday Pilates Basics 9am PT/12pm ET
DESCRIPTION:Pilates Basics is a head-to-toe strength and stretch with basic Pilates technique designed to leave you feeling refreshed\, not worn out! This class is great for all levels\, focusing on pelvic floor\, core strength\, joint mobility\, range of motion\, stretch\, and balance. We work at an easy-to-follow pace.
URL:https://befitwithtania.com/event/saturday-pilates-basics-9am-pt-12pm-et/2025-04-26/
LOCATION:ZOOM\, Online
CATEGORIES:30-Minute Class
ATTACH;FMTTYPE=image/jpeg:https://befitwithtania.com/wp-content/uploads/2022/03/IMG_7274.jpeg
ORGANIZER;CN="Tania":MAILTO:befitwithtania@gmail.com
END:VEVENT
BEGIN:VEVENT
DTSTART;TZID=America/Los_Angeles:20250428T160000
DTEND;TZID=America/Los_Angeles:20250428T163000
DTSTAMP:20260420T182127
CREATED:20241125T120014Z
LAST-MODIFIED:20260214T220652Z
UID:10007140-1745856000-1745857800@befitwithtania.com
SUMMARY:Monday Restorative Yoga w/Props 4pm PT/7pm ET
DESCRIPTION:Restorative Yoga encompasses the element of deep head-to-toe stretch\, breathwork and oxygenation\, circulation\, and restorative practices. Restorative practices are known to calm the nervous system\, encourage mindfulness\, awareness of the deeper self\, body awareness\, and acceptance in a safe nurturing space. This class rotates between a full body stretch with blocks\, exercise ball\, and bolster for deep relaxation/meditation.
URL:https://befitwithtania.com/event/beginning-yoga-with-tania/2025-04-28/
LOCATION:ZOOM\, Online
CATEGORIES:30-Minute Class
ATTACH;FMTTYPE=image/jpeg:https://befitwithtania.com/wp-content/uploads/2022/02/IMG_0529-scaled-1-e1646968343719.jpg
ORGANIZER;CN="Tania":MAILTO:befitwithtania@gmail.com
END:VEVENT
BEGIN:VEVENT
DTSTART;TZID=America/Los_Angeles:20250429T160000
DTEND;TZID=America/Los_Angeles:20250429T163000
DTSTAMP:20260420T182127
CREATED:20241126T120024Z
LAST-MODIFIED:20260214T220848Z
UID:10001903-1745942400-1745944200@befitwithtania.com
SUMMARY:Total Body Sculpt 4pm PT/7pm ET (Tu)
DESCRIPTION:Total Body Sculpt is a weight-lifting class\, sculpting the entire body\, head-to-toe. As we age\, we lose bone density and muscle mass; lifting weights can help combat these losses. Great for all levels; we work at an easy-to-follow pace.
URL:https://befitwithtania.com/event/total-body-sculpt-4pm-pt-7pm-et-tu/2025-04-29/
LOCATION:ZOOM\, Online
CATEGORIES:30-Minute Class
ATTACH;FMTTYPE=image/jpeg:https://befitwithtania.com/wp-content/uploads/2022/11/MG_4165-1_Original-scaled.jpeg
ORGANIZER;CN="Tania":MAILTO:befitwithtania@gmail.com
END:VEVENT
BEGIN:VEVENT
DTSTART;TZID=America/Los_Angeles:20250430T160000
DTEND;TZID=America/Los_Angeles:20250430T163000
DTSTAMP:20260420T182127
CREATED:20241214T203603Z
LAST-MODIFIED:20260214T220731Z
UID:10007055-1746028800-1746030600@befitwithtania.com
SUMMARY:Wednesday Pilates Core Conditioning 4pm PT/7pm ET
DESCRIPTION:This Pilates class focuses on core strength and conditioning! Pilates includes pelvic floor\, core strength and balance\, joint mobility\, range of motion\, and flexibility. Leave feeling refreshed\, not worn out! This 30-minute class is great for all levels; options always provided.
URL:https://befitwithtania.com/event/beginning-pilates-by-tania-2/2025-04-30/
LOCATION:ZOOM\, Online
CATEGORIES:30-Minute Class
ATTACH;FMTTYPE=image/jpeg:https://befitwithtania.com/wp-content/uploads/2022/03/IMG_8810-scaled.jpeg
ORGANIZER;CN="Tania":MAILTO:befitwithtania@gmail.com
END:VEVENT
BEGIN:VEVENT
DTSTART;TZID=America/Los_Angeles:20250501T160000
DTEND;TZID=America/Los_Angeles:20250501T163000
DTSTAMP:20260420T182127
CREATED:20241128T120010Z
LAST-MODIFIED:20260214T220809Z
UID:10007098-1746115200-1746117000@befitwithtania.com
SUMMARY:Total Body Sculpt 4pm PT/7pm ET (Th)
DESCRIPTION:Total Body Sculpt is a weight-lifting class\, sculpting the entire body head-to-toe. As we age we lose bone density and muscle mass; lifting weights can help combat these losses. Great for all levels; we work at an easy-to-follow pace.
URL:https://befitwithtania.com/event/total-body-sculpt-4pm-pt-7pm-et-th/2025-05-01/
LOCATION:ZOOM\, Online
CATEGORIES:30-Minute Class
ATTACH;FMTTYPE=image/jpeg:https://befitwithtania.com/wp-content/uploads/2023/05/MG_4167-1_Original-scaled-e1684554488496.jpg
ORGANIZER;CN="Tania":MAILTO:befitwithtania@gmail.com
END:VEVENT
BEGIN:VEVENT
DTSTART;TZID=America/Los_Angeles:20250503T090000
DTEND;TZID=America/Los_Angeles:20250503T093000
DTSTAMP:20260420T182127
CREATED:20241130T170036Z
LAST-MODIFIED:20260214T221236Z
UID:10007239-1746262800-1746264600@befitwithtania.com
SUMMARY:Saturday Pilates Basics 9am PT/12pm ET
DESCRIPTION:Pilates Basics is a head-to-toe strength and stretch with basic Pilates technique designed to leave you feeling refreshed\, not worn out! This class is great for all levels\, focusing on pelvic floor\, core strength\, joint mobility\, range of motion\, stretch\, and balance. We work at an easy-to-follow pace.
URL:https://befitwithtania.com/event/saturday-pilates-basics-9am-pt-12pm-et/2025-05-03/
LOCATION:ZOOM\, Online
CATEGORIES:30-Minute Class
ATTACH;FMTTYPE=image/jpeg:https://befitwithtania.com/wp-content/uploads/2022/03/IMG_7274.jpeg
ORGANIZER;CN="Tania":MAILTO:befitwithtania@gmail.com
END:VEVENT
BEGIN:VEVENT
DTSTART;TZID=America/Los_Angeles:20250505T160000
DTEND;TZID=America/Los_Angeles:20250505T163000
DTSTAMP:20260420T182127
CREATED:20241125T120014Z
LAST-MODIFIED:20260214T220652Z
UID:10007141-1746460800-1746462600@befitwithtania.com
SUMMARY:Monday Restorative Yoga w/Props 4pm PT/7pm ET
DESCRIPTION:Restorative Yoga encompasses the element of deep head-to-toe stretch\, breathwork and oxygenation\, circulation\, and restorative practices. Restorative practices are known to calm the nervous system\, encourage mindfulness\, awareness of the deeper self\, body awareness\, and acceptance in a safe nurturing space. This class rotates between a full body stretch with blocks\, exercise ball\, and bolster for deep relaxation/meditation.
URL:https://befitwithtania.com/event/beginning-yoga-with-tania/2025-05-05/
LOCATION:ZOOM\, Online
CATEGORIES:30-Minute Class
ATTACH;FMTTYPE=image/jpeg:https://befitwithtania.com/wp-content/uploads/2022/02/IMG_0529-scaled-1-e1646968343719.jpg
ORGANIZER;CN="Tania":MAILTO:befitwithtania@gmail.com
END:VEVENT
BEGIN:VEVENT
DTSTART;TZID=America/Los_Angeles:20250506T160000
DTEND;TZID=America/Los_Angeles:20250506T163000
DTSTAMP:20260420T182127
CREATED:20241126T120024Z
LAST-MODIFIED:20260214T220848Z
UID:10001905-1746547200-1746549000@befitwithtania.com
SUMMARY:Total Body Sculpt 4pm PT/7pm ET (Tu)
DESCRIPTION:Total Body Sculpt is a weight-lifting class\, sculpting the entire body\, head-to-toe. As we age\, we lose bone density and muscle mass; lifting weights can help combat these losses. Great for all levels; we work at an easy-to-follow pace.
URL:https://befitwithtania.com/event/total-body-sculpt-4pm-pt-7pm-et-tu/2025-05-06/
LOCATION:ZOOM\, Online
CATEGORIES:30-Minute Class
ATTACH;FMTTYPE=image/jpeg:https://befitwithtania.com/wp-content/uploads/2022/11/MG_4165-1_Original-scaled.jpeg
ORGANIZER;CN="Tania":MAILTO:befitwithtania@gmail.com
END:VEVENT
BEGIN:VEVENT
DTSTART;TZID=America/Los_Angeles:20250507T160000
DTEND;TZID=America/Los_Angeles:20250507T163000
DTSTAMP:20260420T182127
CREATED:20241214T203603Z
LAST-MODIFIED:20260214T220731Z
UID:10007056-1746633600-1746635400@befitwithtania.com
SUMMARY:Wednesday Pilates Core Conditioning 4pm PT/7pm ET
DESCRIPTION:This Pilates class focuses on core strength and conditioning! Pilates includes pelvic floor\, core strength and balance\, joint mobility\, range of motion\, and flexibility. Leave feeling refreshed\, not worn out! This 30-minute class is great for all levels; options always provided.
URL:https://befitwithtania.com/event/beginning-pilates-by-tania-2/2025-05-07/
LOCATION:ZOOM\, Online
CATEGORIES:30-Minute Class
ATTACH;FMTTYPE=image/jpeg:https://befitwithtania.com/wp-content/uploads/2022/03/IMG_8810-scaled.jpeg
ORGANIZER;CN="Tania":MAILTO:befitwithtania@gmail.com
END:VEVENT
BEGIN:VEVENT
DTSTART;TZID=America/Los_Angeles:20250508T160000
DTEND;TZID=America/Los_Angeles:20250508T163000
DTSTAMP:20260420T182127
CREATED:20241128T120010Z
LAST-MODIFIED:20260214T220809Z
UID:10007099-1746720000-1746721800@befitwithtania.com
SUMMARY:Total Body Sculpt 4pm PT/7pm ET (Th)
DESCRIPTION:Total Body Sculpt is a weight-lifting class\, sculpting the entire body head-to-toe. As we age we lose bone density and muscle mass; lifting weights can help combat these losses. Great for all levels; we work at an easy-to-follow pace.
URL:https://befitwithtania.com/event/total-body-sculpt-4pm-pt-7pm-et-th/2025-05-08/
LOCATION:ZOOM\, Online
CATEGORIES:30-Minute Class
ATTACH;FMTTYPE=image/jpeg:https://befitwithtania.com/wp-content/uploads/2023/05/MG_4167-1_Original-scaled-e1684554488496.jpg
ORGANIZER;CN="Tania":MAILTO:befitwithtania@gmail.com
END:VEVENT
BEGIN:VEVENT
DTSTART;TZID=America/Los_Angeles:20250510T090000
DTEND;TZID=America/Los_Angeles:20250510T093000
DTSTAMP:20260420T182127
CREATED:20241130T170036Z
LAST-MODIFIED:20260214T221236Z
UID:10007240-1746867600-1746869400@befitwithtania.com
SUMMARY:Saturday Pilates Basics 9am PT/12pm ET
DESCRIPTION:Pilates Basics is a head-to-toe strength and stretch with basic Pilates technique designed to leave you feeling refreshed\, not worn out! This class is great for all levels\, focusing on pelvic floor\, core strength\, joint mobility\, range of motion\, stretch\, and balance. We work at an easy-to-follow pace.
URL:https://befitwithtania.com/event/saturday-pilates-basics-9am-pt-12pm-et/2025-05-10/
LOCATION:ZOOM\, Online
CATEGORIES:30-Minute Class
ATTACH;FMTTYPE=image/jpeg:https://befitwithtania.com/wp-content/uploads/2022/03/IMG_7274.jpeg
ORGANIZER;CN="Tania":MAILTO:befitwithtania@gmail.com
END:VEVENT
BEGIN:VEVENT
DTSTART;TZID=America/Los_Angeles:20250512T160000
DTEND;TZID=America/Los_Angeles:20250512T163000
DTSTAMP:20260420T182127
CREATED:20241125T120014Z
LAST-MODIFIED:20260214T220652Z
UID:10007142-1747065600-1747067400@befitwithtania.com
SUMMARY:Monday Restorative Yoga w/Props 4pm PT/7pm ET
DESCRIPTION:Restorative Yoga encompasses the element of deep head-to-toe stretch\, breathwork and oxygenation\, circulation\, and restorative practices. Restorative practices are known to calm the nervous system\, encourage mindfulness\, awareness of the deeper self\, body awareness\, and acceptance in a safe nurturing space. This class rotates between a full body stretch with blocks\, exercise ball\, and bolster for deep relaxation/meditation.
URL:https://befitwithtania.com/event/beginning-yoga-with-tania/2025-05-12/
LOCATION:ZOOM\, Online
CATEGORIES:30-Minute Class
ATTACH;FMTTYPE=image/jpeg:https://befitwithtania.com/wp-content/uploads/2022/02/IMG_0529-scaled-1-e1646968343719.jpg
ORGANIZER;CN="Tania":MAILTO:befitwithtania@gmail.com
END:VEVENT
BEGIN:VEVENT
DTSTART;TZID=America/Los_Angeles:20250513T160000
DTEND;TZID=America/Los_Angeles:20250513T163000
DTSTAMP:20260420T182127
CREATED:20241126T120024Z
LAST-MODIFIED:20260214T220848Z
UID:10001907-1747152000-1747153800@befitwithtania.com
SUMMARY:Total Body Sculpt 4pm PT/7pm ET (Tu)
DESCRIPTION:Total Body Sculpt is a weight-lifting class\, sculpting the entire body\, head-to-toe. As we age\, we lose bone density and muscle mass; lifting weights can help combat these losses. Great for all levels; we work at an easy-to-follow pace.
URL:https://befitwithtania.com/event/total-body-sculpt-4pm-pt-7pm-et-tu/2025-05-13/
LOCATION:ZOOM\, Online
CATEGORIES:30-Minute Class
ATTACH;FMTTYPE=image/jpeg:https://befitwithtania.com/wp-content/uploads/2022/11/MG_4165-1_Original-scaled.jpeg
ORGANIZER;CN="Tania":MAILTO:befitwithtania@gmail.com
END:VEVENT
BEGIN:VEVENT
DTSTART;TZID=America/Los_Angeles:20250514T160000
DTEND;TZID=America/Los_Angeles:20250514T163000
DTSTAMP:20260420T182127
CREATED:20241214T203603Z
LAST-MODIFIED:20260214T220731Z
UID:10007057-1747238400-1747240200@befitwithtania.com
SUMMARY:Wednesday Pilates Core Conditioning 4pm PT/7pm ET
DESCRIPTION:This Pilates class focuses on core strength and conditioning! Pilates includes pelvic floor\, core strength and balance\, joint mobility\, range of motion\, and flexibility. Leave feeling refreshed\, not worn out! This 30-minute class is great for all levels; options always provided.
URL:https://befitwithtania.com/event/beginning-pilates-by-tania-2/2025-05-14/
LOCATION:ZOOM\, Online
CATEGORIES:30-Minute Class
ATTACH;FMTTYPE=image/jpeg:https://befitwithtania.com/wp-content/uploads/2022/03/IMG_8810-scaled.jpeg
ORGANIZER;CN="Tania":MAILTO:befitwithtania@gmail.com
END:VEVENT
BEGIN:VEVENT
DTSTART;TZID=America/Los_Angeles:20250515T160000
DTEND;TZID=America/Los_Angeles:20250515T163000
DTSTAMP:20260420T182127
CREATED:20241128T120010Z
LAST-MODIFIED:20260214T220809Z
UID:10007100-1747324800-1747326600@befitwithtania.com
SUMMARY:Total Body Sculpt 4pm PT/7pm ET (Th)
DESCRIPTION:Total Body Sculpt is a weight-lifting class\, sculpting the entire body head-to-toe. As we age we lose bone density and muscle mass; lifting weights can help combat these losses. Great for all levels; we work at an easy-to-follow pace.
URL:https://befitwithtania.com/event/total-body-sculpt-4pm-pt-7pm-et-th/2025-05-15/
LOCATION:ZOOM\, Online
CATEGORIES:30-Minute Class
ATTACH;FMTTYPE=image/jpeg:https://befitwithtania.com/wp-content/uploads/2023/05/MG_4167-1_Original-scaled-e1684554488496.jpg
ORGANIZER;CN="Tania":MAILTO:befitwithtania@gmail.com
END:VEVENT
END:VCALENDAR