BEGIN:VCALENDAR
VERSION:2.0
PRODID:-//Be Fit with Tania - ECPv6.15.20//NONSGML v1.0//EN
CALSCALE:GREGORIAN
METHOD:PUBLISH
X-ORIGINAL-URL:https://befitwithtania.com
X-WR-CALDESC:Events for Be Fit with Tania
REFRESH-INTERVAL;VALUE=DURATION:PT1H
X-Robots-Tag:noindex
X-PUBLISHED-TTL:PT1H
BEGIN:VTIMEZONE
TZID:America/Los_Angeles
BEGIN:DAYLIGHT
TZOFFSETFROM:-0800
TZOFFSETTO:-0700
TZNAME:PDT
DTSTART:20230312T100000
END:DAYLIGHT
BEGIN:STANDARD
TZOFFSETFROM:-0700
TZOFFSETTO:-0800
TZNAME:PST
DTSTART:20231105T090000
END:STANDARD
BEGIN:DAYLIGHT
TZOFFSETFROM:-0800
TZOFFSETTO:-0700
TZNAME:PDT
DTSTART:20240310T100000
END:DAYLIGHT
BEGIN:STANDARD
TZOFFSETFROM:-0700
TZOFFSETTO:-0800
TZNAME:PST
DTSTART:20241103T090000
END:STANDARD
BEGIN:DAYLIGHT
TZOFFSETFROM:-0800
TZOFFSETTO:-0700
TZNAME:PDT
DTSTART:20250309T100000
END:DAYLIGHT
BEGIN:STANDARD
TZOFFSETFROM:-0700
TZOFFSETTO:-0800
TZNAME:PST
DTSTART:20251102T090000
END:STANDARD
END:VTIMEZONE
BEGIN:VEVENT
DTSTART;TZID=America/Los_Angeles:20240722T160000
DTEND;TZID=America/Los_Angeles:20240722T163000
DTSTAMP:20260421T154413
CREATED:20241125T120014Z
LAST-MODIFIED:20260214T220652Z
UID:10002866-1721664000-1721665800@befitwithtania.com
SUMMARY:Monday Restorative Yoga w/Props 4pm PT/7pm ET
DESCRIPTION:Restorative Yoga encompasses the element of deep head-to-toe stretch\, breathwork and oxygenation\, circulation\, and restorative practices. Restorative practices are known to calm the nervous system\, encourage mindfulness\, awareness of the deeper self\, body awareness\, and acceptance in a safe nurturing space. This class rotates between a full body stretch with blocks\, exercise ball\, and bolster for deep relaxation/meditation.
URL:https://befitwithtania.com/event/beginning-yoga-with-tania/2024-07-22/
LOCATION:ZOOM\, Online
CATEGORIES:30-Minute Class
ATTACH;FMTTYPE=image/jpeg:https://befitwithtania.com/wp-content/uploads/2022/02/IMG_0529-scaled-1-e1646968343719.jpg
ORGANIZER;CN="Tania":MAILTO:befitwithtania@gmail.com
END:VEVENT
BEGIN:VEVENT
DTSTART;TZID=America/Los_Angeles:20240723T160000
DTEND;TZID=America/Los_Angeles:20240723T163000
DTSTAMP:20260421T154413
CREATED:20241126T120024Z
LAST-MODIFIED:20260214T220848Z
UID:10001823-1721750400-1721752200@befitwithtania.com
SUMMARY:Total Body Sculpt 4pm PT/7pm ET (Tu)
DESCRIPTION:Total Body Sculpt is a weight-lifting class\, sculpting the entire body\, head-to-toe. As we age\, we lose bone density and muscle mass; lifting weights can help combat these losses. Great for all levels; we work at an easy-to-follow pace.
URL:https://befitwithtania.com/event/total-body-sculpt-4pm-pt-7pm-et-tu/2024-07-23/
LOCATION:ZOOM\, Online
CATEGORIES:30-Minute Class
ATTACH;FMTTYPE=image/jpeg:https://befitwithtania.com/wp-content/uploads/2022/11/MG_4165-1_Original-scaled.jpeg
ORGANIZER;CN="Tania":MAILTO:befitwithtania@gmail.com
END:VEVENT
BEGIN:VEVENT
DTSTART;TZID=America/Los_Angeles:20240725T160000
DTEND;TZID=America/Los_Angeles:20240725T163000
DTSTAMP:20260421T154413
CREATED:20241128T120010Z
LAST-MODIFIED:20260214T220809Z
UID:10003697-1721923200-1721925000@befitwithtania.com
SUMMARY:Total Body Sculpt 4pm PT/7pm ET (Th)
DESCRIPTION:Total Body Sculpt is a weight-lifting class\, sculpting the entire body head-to-toe. As we age we lose bone density and muscle mass; lifting weights can help combat these losses. Great for all levels; we work at an easy-to-follow pace.
URL:https://befitwithtania.com/event/total-body-sculpt-4pm-pt-7pm-et-th/2024-07-25/
LOCATION:ZOOM\, Online
CATEGORIES:30-Minute Class
ATTACH;FMTTYPE=image/jpeg:https://befitwithtania.com/wp-content/uploads/2023/05/MG_4167-1_Original-scaled-e1684554488496.jpg
ORGANIZER;CN="Tania":MAILTO:befitwithtania@gmail.com
END:VEVENT
BEGIN:VEVENT
DTSTART;TZID=America/Los_Angeles:20240727T090000
DTEND;TZID=America/Los_Angeles:20240727T093000
DTSTAMP:20260421T154413
CREATED:20241130T170036Z
LAST-MODIFIED:20260214T221236Z
UID:10002445-1722070800-1722072600@befitwithtania.com
SUMMARY:Saturday Pilates Basics 9am PT/12pm ET
DESCRIPTION:Pilates Basics is a head-to-toe strength and stretch with basic Pilates technique designed to leave you feeling refreshed\, not worn out! This class is great for all levels\, focusing on pelvic floor\, core strength\, joint mobility\, range of motion\, stretch\, and balance. We work at an easy-to-follow pace.
URL:https://befitwithtania.com/event/saturday-pilates-basics-9am-pt-12pm-et/2024-07-27/
LOCATION:ZOOM\, Online
CATEGORIES:30-Minute Class
ATTACH;FMTTYPE=image/jpeg:https://befitwithtania.com/wp-content/uploads/2022/03/IMG_7274.jpeg
ORGANIZER;CN="Tania":MAILTO:befitwithtania@gmail.com
END:VEVENT
BEGIN:VEVENT
DTSTART;TZID=America/Los_Angeles:20240729T160000
DTEND;TZID=America/Los_Angeles:20240729T163000
DTSTAMP:20260421T154413
CREATED:20241125T120014Z
LAST-MODIFIED:20260214T220652Z
UID:10002867-1722268800-1722270600@befitwithtania.com
SUMMARY:Monday Restorative Yoga w/Props 4pm PT/7pm ET
DESCRIPTION:Restorative Yoga encompasses the element of deep head-to-toe stretch\, breathwork and oxygenation\, circulation\, and restorative practices. Restorative practices are known to calm the nervous system\, encourage mindfulness\, awareness of the deeper self\, body awareness\, and acceptance in a safe nurturing space. This class rotates between a full body stretch with blocks\, exercise ball\, and bolster for deep relaxation/meditation.
URL:https://befitwithtania.com/event/beginning-yoga-with-tania/2024-07-29/
LOCATION:ZOOM\, Online
CATEGORIES:30-Minute Class
ATTACH;FMTTYPE=image/jpeg:https://befitwithtania.com/wp-content/uploads/2022/02/IMG_0529-scaled-1-e1646968343719.jpg
ORGANIZER;CN="Tania":MAILTO:befitwithtania@gmail.com
END:VEVENT
BEGIN:VEVENT
DTSTART;TZID=America/Los_Angeles:20240730T160000
DTEND;TZID=America/Los_Angeles:20240730T163000
DTSTAMP:20260421T154413
CREATED:20241126T120024Z
LAST-MODIFIED:20260214T220848Z
UID:10001825-1722355200-1722357000@befitwithtania.com
SUMMARY:Total Body Sculpt 4pm PT/7pm ET (Tu)
DESCRIPTION:Total Body Sculpt is a weight-lifting class\, sculpting the entire body\, head-to-toe. As we age\, we lose bone density and muscle mass; lifting weights can help combat these losses. Great for all levels; we work at an easy-to-follow pace.
URL:https://befitwithtania.com/event/total-body-sculpt-4pm-pt-7pm-et-tu/2024-07-30/
LOCATION:ZOOM\, Online
CATEGORIES:30-Minute Class
ATTACH;FMTTYPE=image/jpeg:https://befitwithtania.com/wp-content/uploads/2022/11/MG_4165-1_Original-scaled.jpeg
ORGANIZER;CN="Tania":MAILTO:befitwithtania@gmail.com
END:VEVENT
BEGIN:VEVENT
DTSTART;TZID=America/Los_Angeles:20240801T160000
DTEND;TZID=America/Los_Angeles:20240801T163000
DTSTAMP:20260421T154413
CREATED:20241128T120010Z
LAST-MODIFIED:20260214T220809Z
UID:10003698-1722528000-1722529800@befitwithtania.com
SUMMARY:Total Body Sculpt 4pm PT/7pm ET (Th)
DESCRIPTION:Total Body Sculpt is a weight-lifting class\, sculpting the entire body head-to-toe. As we age we lose bone density and muscle mass; lifting weights can help combat these losses. Great for all levels; we work at an easy-to-follow pace.
URL:https://befitwithtania.com/event/total-body-sculpt-4pm-pt-7pm-et-th/2024-08-01/
LOCATION:ZOOM\, Online
CATEGORIES:30-Minute Class
ATTACH;FMTTYPE=image/jpeg:https://befitwithtania.com/wp-content/uploads/2023/05/MG_4167-1_Original-scaled-e1684554488496.jpg
ORGANIZER;CN="Tania":MAILTO:befitwithtania@gmail.com
END:VEVENT
BEGIN:VEVENT
DTSTART;TZID=America/Los_Angeles:20240803T090000
DTEND;TZID=America/Los_Angeles:20240803T093000
DTSTAMP:20260421T154413
CREATED:20241130T170036Z
LAST-MODIFIED:20260214T221236Z
UID:10002446-1722675600-1722677400@befitwithtania.com
SUMMARY:Saturday Pilates Basics 9am PT/12pm ET
DESCRIPTION:Pilates Basics is a head-to-toe strength and stretch with basic Pilates technique designed to leave you feeling refreshed\, not worn out! This class is great for all levels\, focusing on pelvic floor\, core strength\, joint mobility\, range of motion\, stretch\, and balance. We work at an easy-to-follow pace.
URL:https://befitwithtania.com/event/saturday-pilates-basics-9am-pt-12pm-et/2024-08-03/
LOCATION:ZOOM\, Online
CATEGORIES:30-Minute Class
ATTACH;FMTTYPE=image/jpeg:https://befitwithtania.com/wp-content/uploads/2022/03/IMG_7274.jpeg
ORGANIZER;CN="Tania":MAILTO:befitwithtania@gmail.com
END:VEVENT
BEGIN:VEVENT
DTSTART;TZID=America/Los_Angeles:20240805T160000
DTEND;TZID=America/Los_Angeles:20240805T163000
DTSTAMP:20260421T154413
CREATED:20241125T120014Z
LAST-MODIFIED:20260214T220652Z
UID:10002868-1722873600-1722875400@befitwithtania.com
SUMMARY:Monday Restorative Yoga w/Props 4pm PT/7pm ET
DESCRIPTION:Restorative Yoga encompasses the element of deep head-to-toe stretch\, breathwork and oxygenation\, circulation\, and restorative practices. Restorative practices are known to calm the nervous system\, encourage mindfulness\, awareness of the deeper self\, body awareness\, and acceptance in a safe nurturing space. This class rotates between a full body stretch with blocks\, exercise ball\, and bolster for deep relaxation/meditation.
URL:https://befitwithtania.com/event/beginning-yoga-with-tania/2024-08-05/
LOCATION:ZOOM\, Online
CATEGORIES:30-Minute Class
ATTACH;FMTTYPE=image/jpeg:https://befitwithtania.com/wp-content/uploads/2022/02/IMG_0529-scaled-1-e1646968343719.jpg
ORGANIZER;CN="Tania":MAILTO:befitwithtania@gmail.com
END:VEVENT
BEGIN:VEVENT
DTSTART;TZID=America/Los_Angeles:20240806T160000
DTEND;TZID=America/Los_Angeles:20240806T163000
DTSTAMP:20260421T154413
CREATED:20241126T120024Z
LAST-MODIFIED:20260214T220848Z
UID:10001827-1722960000-1722961800@befitwithtania.com
SUMMARY:Total Body Sculpt 4pm PT/7pm ET (Tu)
DESCRIPTION:Total Body Sculpt is a weight-lifting class\, sculpting the entire body\, head-to-toe. As we age\, we lose bone density and muscle mass; lifting weights can help combat these losses. Great for all levels; we work at an easy-to-follow pace.
URL:https://befitwithtania.com/event/total-body-sculpt-4pm-pt-7pm-et-tu/2024-08-06/
LOCATION:ZOOM\, Online
CATEGORIES:30-Minute Class
ATTACH;FMTTYPE=image/jpeg:https://befitwithtania.com/wp-content/uploads/2022/11/MG_4165-1_Original-scaled.jpeg
ORGANIZER;CN="Tania":MAILTO:befitwithtania@gmail.com
END:VEVENT
BEGIN:VEVENT
DTSTART;TZID=America/Los_Angeles:20240808T160000
DTEND;TZID=America/Los_Angeles:20240808T163000
DTSTAMP:20260421T154413
CREATED:20241128T120010Z
LAST-MODIFIED:20260214T220809Z
UID:10003699-1723132800-1723134600@befitwithtania.com
SUMMARY:Total Body Sculpt 4pm PT/7pm ET (Th)
DESCRIPTION:Total Body Sculpt is a weight-lifting class\, sculpting the entire body head-to-toe. As we age we lose bone density and muscle mass; lifting weights can help combat these losses. Great for all levels; we work at an easy-to-follow pace.
URL:https://befitwithtania.com/event/total-body-sculpt-4pm-pt-7pm-et-th/2024-08-08/
LOCATION:ZOOM\, Online
CATEGORIES:30-Minute Class
ATTACH;FMTTYPE=image/jpeg:https://befitwithtania.com/wp-content/uploads/2023/05/MG_4167-1_Original-scaled-e1684554488496.jpg
ORGANIZER;CN="Tania":MAILTO:befitwithtania@gmail.com
END:VEVENT
BEGIN:VEVENT
DTSTART;TZID=America/Los_Angeles:20240810T090000
DTEND;TZID=America/Los_Angeles:20240810T093000
DTSTAMP:20260421T154413
CREATED:20241130T170036Z
LAST-MODIFIED:20260214T221236Z
UID:10002447-1723280400-1723282200@befitwithtania.com
SUMMARY:Saturday Pilates Basics 9am PT/12pm ET
DESCRIPTION:Pilates Basics is a head-to-toe strength and stretch with basic Pilates technique designed to leave you feeling refreshed\, not worn out! This class is great for all levels\, focusing on pelvic floor\, core strength\, joint mobility\, range of motion\, stretch\, and balance. We work at an easy-to-follow pace.
URL:https://befitwithtania.com/event/saturday-pilates-basics-9am-pt-12pm-et/2024-08-10/
LOCATION:ZOOM\, Online
CATEGORIES:30-Minute Class
ATTACH;FMTTYPE=image/jpeg:https://befitwithtania.com/wp-content/uploads/2022/03/IMG_7274.jpeg
ORGANIZER;CN="Tania":MAILTO:befitwithtania@gmail.com
END:VEVENT
BEGIN:VEVENT
DTSTART;TZID=America/Los_Angeles:20240812T160000
DTEND;TZID=America/Los_Angeles:20240812T163000
DTSTAMP:20260421T154413
CREATED:20241125T120014Z
LAST-MODIFIED:20260214T220652Z
UID:10002869-1723478400-1723480200@befitwithtania.com
SUMMARY:Monday Restorative Yoga w/Props 4pm PT/7pm ET
DESCRIPTION:Restorative Yoga encompasses the element of deep head-to-toe stretch\, breathwork and oxygenation\, circulation\, and restorative practices. Restorative practices are known to calm the nervous system\, encourage mindfulness\, awareness of the deeper self\, body awareness\, and acceptance in a safe nurturing space. This class rotates between a full body stretch with blocks\, exercise ball\, and bolster for deep relaxation/meditation.
URL:https://befitwithtania.com/event/beginning-yoga-with-tania/2024-08-12/
LOCATION:ZOOM\, Online
CATEGORIES:30-Minute Class
ATTACH;FMTTYPE=image/jpeg:https://befitwithtania.com/wp-content/uploads/2022/02/IMG_0529-scaled-1-e1646968343719.jpg
ORGANIZER;CN="Tania":MAILTO:befitwithtania@gmail.com
END:VEVENT
BEGIN:VEVENT
DTSTART;TZID=America/Los_Angeles:20240813T160000
DTEND;TZID=America/Los_Angeles:20240813T163000
DTSTAMP:20260421T154413
CREATED:20241126T120024Z
LAST-MODIFIED:20260214T220848Z
UID:10001829-1723564800-1723566600@befitwithtania.com
SUMMARY:Total Body Sculpt 4pm PT/7pm ET (Tu)
DESCRIPTION:Total Body Sculpt is a weight-lifting class\, sculpting the entire body\, head-to-toe. As we age\, we lose bone density and muscle mass; lifting weights can help combat these losses. Great for all levels; we work at an easy-to-follow pace.
URL:https://befitwithtania.com/event/total-body-sculpt-4pm-pt-7pm-et-tu/2024-08-13/
LOCATION:ZOOM\, Online
CATEGORIES:30-Minute Class
ATTACH;FMTTYPE=image/jpeg:https://befitwithtania.com/wp-content/uploads/2022/11/MG_4165-1_Original-scaled.jpeg
ORGANIZER;CN="Tania":MAILTO:befitwithtania@gmail.com
END:VEVENT
BEGIN:VEVENT
DTSTART;TZID=America/Los_Angeles:20240815T160000
DTEND;TZID=America/Los_Angeles:20240815T163000
DTSTAMP:20260421T154413
CREATED:20241128T120010Z
LAST-MODIFIED:20260214T220809Z
UID:10003700-1723737600-1723739400@befitwithtania.com
SUMMARY:Total Body Sculpt 4pm PT/7pm ET (Th)
DESCRIPTION:Total Body Sculpt is a weight-lifting class\, sculpting the entire body head-to-toe. As we age we lose bone density and muscle mass; lifting weights can help combat these losses. Great for all levels; we work at an easy-to-follow pace.
URL:https://befitwithtania.com/event/total-body-sculpt-4pm-pt-7pm-et-th/2024-08-15/
LOCATION:ZOOM\, Online
CATEGORIES:30-Minute Class
ATTACH;FMTTYPE=image/jpeg:https://befitwithtania.com/wp-content/uploads/2023/05/MG_4167-1_Original-scaled-e1684554488496.jpg
ORGANIZER;CN="Tania":MAILTO:befitwithtania@gmail.com
END:VEVENT
BEGIN:VEVENT
DTSTART;TZID=America/Los_Angeles:20240817T090000
DTEND;TZID=America/Los_Angeles:20240817T093000
DTSTAMP:20260421T154413
CREATED:20241130T170036Z
LAST-MODIFIED:20260214T221236Z
UID:10002448-1723885200-1723887000@befitwithtania.com
SUMMARY:Saturday Pilates Basics 9am PT/12pm ET
DESCRIPTION:Pilates Basics is a head-to-toe strength and stretch with basic Pilates technique designed to leave you feeling refreshed\, not worn out! This class is great for all levels\, focusing on pelvic floor\, core strength\, joint mobility\, range of motion\, stretch\, and balance. We work at an easy-to-follow pace.
URL:https://befitwithtania.com/event/saturday-pilates-basics-9am-pt-12pm-et/2024-08-17/
LOCATION:ZOOM\, Online
CATEGORIES:30-Minute Class
ATTACH;FMTTYPE=image/jpeg:https://befitwithtania.com/wp-content/uploads/2022/03/IMG_7274.jpeg
ORGANIZER;CN="Tania":MAILTO:befitwithtania@gmail.com
END:VEVENT
BEGIN:VEVENT
DTSTART;TZID=America/Los_Angeles:20240819T160000
DTEND;TZID=America/Los_Angeles:20240819T163000
DTSTAMP:20260421T154413
CREATED:20241125T120014Z
LAST-MODIFIED:20260214T220652Z
UID:10002870-1724083200-1724085000@befitwithtania.com
SUMMARY:Monday Restorative Yoga w/Props 4pm PT/7pm ET
DESCRIPTION:Restorative Yoga encompasses the element of deep head-to-toe stretch\, breathwork and oxygenation\, circulation\, and restorative practices. Restorative practices are known to calm the nervous system\, encourage mindfulness\, awareness of the deeper self\, body awareness\, and acceptance in a safe nurturing space. This class rotates between a full body stretch with blocks\, exercise ball\, and bolster for deep relaxation/meditation.
URL:https://befitwithtania.com/event/beginning-yoga-with-tania/2024-08-19/
LOCATION:ZOOM\, Online
CATEGORIES:30-Minute Class
ATTACH;FMTTYPE=image/jpeg:https://befitwithtania.com/wp-content/uploads/2022/02/IMG_0529-scaled-1-e1646968343719.jpg
ORGANIZER;CN="Tania":MAILTO:befitwithtania@gmail.com
END:VEVENT
BEGIN:VEVENT
DTSTART;TZID=America/Los_Angeles:20240820T160000
DTEND;TZID=America/Los_Angeles:20240820T163000
DTSTAMP:20260421T154413
CREATED:20241126T120024Z
LAST-MODIFIED:20260214T220848Z
UID:10001831-1724169600-1724171400@befitwithtania.com
SUMMARY:Total Body Sculpt 4pm PT/7pm ET (Tu)
DESCRIPTION:Total Body Sculpt is a weight-lifting class\, sculpting the entire body\, head-to-toe. As we age\, we lose bone density and muscle mass; lifting weights can help combat these losses. Great for all levels; we work at an easy-to-follow pace.
URL:https://befitwithtania.com/event/total-body-sculpt-4pm-pt-7pm-et-tu/2024-08-20/
LOCATION:ZOOM\, Online
CATEGORIES:30-Minute Class
ATTACH;FMTTYPE=image/jpeg:https://befitwithtania.com/wp-content/uploads/2022/11/MG_4165-1_Original-scaled.jpeg
ORGANIZER;CN="Tania":MAILTO:befitwithtania@gmail.com
END:VEVENT
BEGIN:VEVENT
DTSTART;TZID=America/Los_Angeles:20240822T160000
DTEND;TZID=America/Los_Angeles:20240822T163000
DTSTAMP:20260421T154413
CREATED:20241128T120010Z
LAST-MODIFIED:20260214T220809Z
UID:10003701-1724342400-1724344200@befitwithtania.com
SUMMARY:Total Body Sculpt 4pm PT/7pm ET (Th)
DESCRIPTION:Total Body Sculpt is a weight-lifting class\, sculpting the entire body head-to-toe. As we age we lose bone density and muscle mass; lifting weights can help combat these losses. Great for all levels; we work at an easy-to-follow pace.
URL:https://befitwithtania.com/event/total-body-sculpt-4pm-pt-7pm-et-th/2024-08-22/
LOCATION:ZOOM\, Online
CATEGORIES:30-Minute Class
ATTACH;FMTTYPE=image/jpeg:https://befitwithtania.com/wp-content/uploads/2023/05/MG_4167-1_Original-scaled-e1684554488496.jpg
ORGANIZER;CN="Tania":MAILTO:befitwithtania@gmail.com
END:VEVENT
BEGIN:VEVENT
DTSTART;TZID=America/Los_Angeles:20240824T090000
DTEND;TZID=America/Los_Angeles:20240824T093000
DTSTAMP:20260421T154413
CREATED:20241130T170036Z
LAST-MODIFIED:20260214T221236Z
UID:10002449-1724490000-1724491800@befitwithtania.com
SUMMARY:Saturday Pilates Basics 9am PT/12pm ET
DESCRIPTION:Pilates Basics is a head-to-toe strength and stretch with basic Pilates technique designed to leave you feeling refreshed\, not worn out! This class is great for all levels\, focusing on pelvic floor\, core strength\, joint mobility\, range of motion\, stretch\, and balance. We work at an easy-to-follow pace.
URL:https://befitwithtania.com/event/saturday-pilates-basics-9am-pt-12pm-et/2024-08-24/
LOCATION:ZOOM\, Online
CATEGORIES:30-Minute Class
ATTACH;FMTTYPE=image/jpeg:https://befitwithtania.com/wp-content/uploads/2022/03/IMG_7274.jpeg
ORGANIZER;CN="Tania":MAILTO:befitwithtania@gmail.com
END:VEVENT
BEGIN:VEVENT
DTSTART;TZID=America/Los_Angeles:20240826T160000
DTEND;TZID=America/Los_Angeles:20240826T163000
DTSTAMP:20260421T154413
CREATED:20241125T120014Z
LAST-MODIFIED:20260214T220652Z
UID:10002871-1724688000-1724689800@befitwithtania.com
SUMMARY:Monday Restorative Yoga w/Props 4pm PT/7pm ET
DESCRIPTION:Restorative Yoga encompasses the element of deep head-to-toe stretch\, breathwork and oxygenation\, circulation\, and restorative practices. Restorative practices are known to calm the nervous system\, encourage mindfulness\, awareness of the deeper self\, body awareness\, and acceptance in a safe nurturing space. This class rotates between a full body stretch with blocks\, exercise ball\, and bolster for deep relaxation/meditation.
URL:https://befitwithtania.com/event/beginning-yoga-with-tania/2024-08-26/
LOCATION:ZOOM\, Online
CATEGORIES:30-Minute Class
ATTACH;FMTTYPE=image/jpeg:https://befitwithtania.com/wp-content/uploads/2022/02/IMG_0529-scaled-1-e1646968343719.jpg
ORGANIZER;CN="Tania":MAILTO:befitwithtania@gmail.com
END:VEVENT
BEGIN:VEVENT
DTSTART;TZID=America/Los_Angeles:20240827T160000
DTEND;TZID=America/Los_Angeles:20240827T163000
DTSTAMP:20260421T154413
CREATED:20241126T120024Z
LAST-MODIFIED:20260214T220848Z
UID:10001833-1724774400-1724776200@befitwithtania.com
SUMMARY:Total Body Sculpt 4pm PT/7pm ET (Tu)
DESCRIPTION:Total Body Sculpt is a weight-lifting class\, sculpting the entire body\, head-to-toe. As we age\, we lose bone density and muscle mass; lifting weights can help combat these losses. Great for all levels; we work at an easy-to-follow pace.
URL:https://befitwithtania.com/event/total-body-sculpt-4pm-pt-7pm-et-tu/2024-08-27/
LOCATION:ZOOM\, Online
CATEGORIES:30-Minute Class
ATTACH;FMTTYPE=image/jpeg:https://befitwithtania.com/wp-content/uploads/2022/11/MG_4165-1_Original-scaled.jpeg
ORGANIZER;CN="Tania":MAILTO:befitwithtania@gmail.com
END:VEVENT
BEGIN:VEVENT
DTSTART;TZID=America/Los_Angeles:20240829T160000
DTEND;TZID=America/Los_Angeles:20240829T163000
DTSTAMP:20260421T154413
CREATED:20241128T120010Z
LAST-MODIFIED:20260214T220809Z
UID:10003702-1724947200-1724949000@befitwithtania.com
SUMMARY:Total Body Sculpt 4pm PT/7pm ET (Th)
DESCRIPTION:Total Body Sculpt is a weight-lifting class\, sculpting the entire body head-to-toe. As we age we lose bone density and muscle mass; lifting weights can help combat these losses. Great for all levels; we work at an easy-to-follow pace.
URL:https://befitwithtania.com/event/total-body-sculpt-4pm-pt-7pm-et-th/2024-08-29/
LOCATION:ZOOM\, Online
CATEGORIES:30-Minute Class
ATTACH;FMTTYPE=image/jpeg:https://befitwithtania.com/wp-content/uploads/2023/05/MG_4167-1_Original-scaled-e1684554488496.jpg
ORGANIZER;CN="Tania":MAILTO:befitwithtania@gmail.com
END:VEVENT
BEGIN:VEVENT
DTSTART;TZID=America/Los_Angeles:20240831T090000
DTEND;TZID=America/Los_Angeles:20240831T093000
DTSTAMP:20260421T154413
CREATED:20241130T170036Z
LAST-MODIFIED:20260214T221236Z
UID:10002450-1725094800-1725096600@befitwithtania.com
SUMMARY:Saturday Pilates Basics 9am PT/12pm ET
DESCRIPTION:Pilates Basics is a head-to-toe strength and stretch with basic Pilates technique designed to leave you feeling refreshed\, not worn out! This class is great for all levels\, focusing on pelvic floor\, core strength\, joint mobility\, range of motion\, stretch\, and balance. We work at an easy-to-follow pace.
URL:https://befitwithtania.com/event/saturday-pilates-basics-9am-pt-12pm-et/2024-08-31/
LOCATION:ZOOM\, Online
CATEGORIES:30-Minute Class
ATTACH;FMTTYPE=image/jpeg:https://befitwithtania.com/wp-content/uploads/2022/03/IMG_7274.jpeg
ORGANIZER;CN="Tania":MAILTO:befitwithtania@gmail.com
END:VEVENT
BEGIN:VEVENT
DTSTART;TZID=America/Los_Angeles:20240902T160000
DTEND;TZID=America/Los_Angeles:20240902T163000
DTSTAMP:20260421T154413
CREATED:20241125T120014Z
LAST-MODIFIED:20260214T220652Z
UID:10007045-1725292800-1725294600@befitwithtania.com
SUMMARY:Monday Restorative Yoga w/Props 4pm PT/7pm ET
DESCRIPTION:Restorative Yoga encompasses the element of deep head-to-toe stretch\, breathwork and oxygenation\, circulation\, and restorative practices. Restorative practices are known to calm the nervous system\, encourage mindfulness\, awareness of the deeper self\, body awareness\, and acceptance in a safe nurturing space. This class rotates between a full body stretch with blocks\, exercise ball\, and bolster for deep relaxation/meditation.
URL:https://befitwithtania.com/event/beginning-yoga-with-tania/2024-09-02/
LOCATION:ZOOM\, Online
CATEGORIES:30-Minute Class
ATTACH;FMTTYPE=image/jpeg:https://befitwithtania.com/wp-content/uploads/2022/02/IMG_0529-scaled-1-e1646968343719.jpg
ORGANIZER;CN="Tania":MAILTO:befitwithtania@gmail.com
END:VEVENT
BEGIN:VEVENT
DTSTART;TZID=America/Los_Angeles:20240903T160000
DTEND;TZID=America/Los_Angeles:20240903T163000
DTSTAMP:20260421T154413
CREATED:20241126T120024Z
LAST-MODIFIED:20260214T220848Z
UID:10001835-1725379200-1725381000@befitwithtania.com
SUMMARY:Total Body Sculpt 4pm PT/7pm ET (Tu)
DESCRIPTION:Total Body Sculpt is a weight-lifting class\, sculpting the entire body\, head-to-toe. As we age\, we lose bone density and muscle mass; lifting weights can help combat these losses. Great for all levels; we work at an easy-to-follow pace.
URL:https://befitwithtania.com/event/total-body-sculpt-4pm-pt-7pm-et-tu/2024-09-03/
LOCATION:ZOOM\, Online
CATEGORIES:30-Minute Class
ATTACH;FMTTYPE=image/jpeg:https://befitwithtania.com/wp-content/uploads/2022/11/MG_4165-1_Original-scaled.jpeg
ORGANIZER;CN="Tania":MAILTO:befitwithtania@gmail.com
END:VEVENT
BEGIN:VEVENT
DTSTART;TZID=America/Los_Angeles:20240905T160000
DTEND;TZID=America/Los_Angeles:20240905T163000
DTSTAMP:20260421T154413
CREATED:20241128T120010Z
LAST-MODIFIED:20260214T220809Z
UID:10003703-1725552000-1725553800@befitwithtania.com
SUMMARY:Total Body Sculpt 4pm PT/7pm ET (Th)
DESCRIPTION:Total Body Sculpt is a weight-lifting class\, sculpting the entire body head-to-toe. As we age we lose bone density and muscle mass; lifting weights can help combat these losses. Great for all levels; we work at an easy-to-follow pace.
URL:https://befitwithtania.com/event/total-body-sculpt-4pm-pt-7pm-et-th/2024-09-05/
LOCATION:ZOOM\, Online
CATEGORIES:30-Minute Class
ATTACH;FMTTYPE=image/jpeg:https://befitwithtania.com/wp-content/uploads/2023/05/MG_4167-1_Original-scaled-e1684554488496.jpg
ORGANIZER;CN="Tania":MAILTO:befitwithtania@gmail.com
END:VEVENT
BEGIN:VEVENT
DTSTART;TZID=America/Los_Angeles:20240907T090000
DTEND;TZID=America/Los_Angeles:20240907T093000
DTSTAMP:20260421T154413
CREATED:20241130T170036Z
LAST-MODIFIED:20260214T221236Z
UID:10002451-1725699600-1725701400@befitwithtania.com
SUMMARY:Saturday Pilates Basics 9am PT/12pm ET
DESCRIPTION:Pilates Basics is a head-to-toe strength and stretch with basic Pilates technique designed to leave you feeling refreshed\, not worn out! This class is great for all levels\, focusing on pelvic floor\, core strength\, joint mobility\, range of motion\, stretch\, and balance. We work at an easy-to-follow pace.
URL:https://befitwithtania.com/event/saturday-pilates-basics-9am-pt-12pm-et/2024-09-07/
LOCATION:ZOOM\, Online
CATEGORIES:30-Minute Class
ATTACH;FMTTYPE=image/jpeg:https://befitwithtania.com/wp-content/uploads/2022/03/IMG_7274.jpeg
ORGANIZER;CN="Tania":MAILTO:befitwithtania@gmail.com
END:VEVENT
BEGIN:VEVENT
DTSTART;TZID=America/Los_Angeles:20240909T160000
DTEND;TZID=America/Los_Angeles:20240909T163000
DTSTAMP:20260421T154413
CREATED:20241125T120014Z
LAST-MODIFIED:20260214T220652Z
UID:10002873-1725897600-1725899400@befitwithtania.com
SUMMARY:Monday Restorative Yoga w/Props 4pm PT/7pm ET
DESCRIPTION:Restorative Yoga encompasses the element of deep head-to-toe stretch\, breathwork and oxygenation\, circulation\, and restorative practices. Restorative practices are known to calm the nervous system\, encourage mindfulness\, awareness of the deeper self\, body awareness\, and acceptance in a safe nurturing space. This class rotates between a full body stretch with blocks\, exercise ball\, and bolster for deep relaxation/meditation.
URL:https://befitwithtania.com/event/beginning-yoga-with-tania/2024-09-09/
LOCATION:ZOOM\, Online
CATEGORIES:30-Minute Class
ATTACH;FMTTYPE=image/jpeg:https://befitwithtania.com/wp-content/uploads/2022/02/IMG_0529-scaled-1-e1646968343719.jpg
ORGANIZER;CN="Tania":MAILTO:befitwithtania@gmail.com
END:VEVENT
BEGIN:VEVENT
DTSTART;TZID=America/Los_Angeles:20240910T160000
DTEND;TZID=America/Los_Angeles:20240910T163000
DTSTAMP:20260421T154413
CREATED:20241126T120024Z
LAST-MODIFIED:20260214T220848Z
UID:10001837-1725984000-1725985800@befitwithtania.com
SUMMARY:Total Body Sculpt 4pm PT/7pm ET (Tu)
DESCRIPTION:Total Body Sculpt is a weight-lifting class\, sculpting the entire body\, head-to-toe. As we age\, we lose bone density and muscle mass; lifting weights can help combat these losses. Great for all levels; we work at an easy-to-follow pace.
URL:https://befitwithtania.com/event/total-body-sculpt-4pm-pt-7pm-et-tu/2024-09-10/
LOCATION:ZOOM\, Online
CATEGORIES:30-Minute Class
ATTACH;FMTTYPE=image/jpeg:https://befitwithtania.com/wp-content/uploads/2022/11/MG_4165-1_Original-scaled.jpeg
ORGANIZER;CN="Tania":MAILTO:befitwithtania@gmail.com
END:VEVENT
END:VCALENDAR