BEGIN:VCALENDAR
VERSION:2.0
PRODID:-//Be Fit with Tania - ECPv6.15.20//NONSGML v1.0//EN
CALSCALE:GREGORIAN
METHOD:PUBLISH
X-ORIGINAL-URL:https://befitwithtania.com
X-WR-CALDESC:Events for Be Fit with Tania
REFRESH-INTERVAL;VALUE=DURATION:PT1H
X-Robots-Tag:noindex
X-PUBLISHED-TTL:PT1H
BEGIN:VTIMEZONE
TZID:America/Los_Angeles
BEGIN:DAYLIGHT
TZOFFSETFROM:-0800
TZOFFSETTO:-0700
TZNAME:PDT
DTSTART:20250309T100000
END:DAYLIGHT
BEGIN:STANDARD
TZOFFSETFROM:-0700
TZOFFSETTO:-0800
TZNAME:PST
DTSTART:20251102T090000
END:STANDARD
BEGIN:DAYLIGHT
TZOFFSETFROM:-0800
TZOFFSETTO:-0700
TZNAME:PDT
DTSTART:20260308T100000
END:DAYLIGHT
BEGIN:STANDARD
TZOFFSETFROM:-0700
TZOFFSETTO:-0800
TZNAME:PST
DTSTART:20261101T090000
END:STANDARD
BEGIN:DAYLIGHT
TZOFFSETFROM:-0800
TZOFFSETTO:-0700
TZNAME:PDT
DTSTART:20270314T100000
END:DAYLIGHT
BEGIN:STANDARD
TZOFFSETFROM:-0700
TZOFFSETTO:-0800
TZNAME:PST
DTSTART:20271107T090000
END:STANDARD
END:VTIMEZONE
BEGIN:VEVENT
DTSTART;TZID=America/Los_Angeles:20260921T093000
DTEND;TZID=America/Los_Angeles:20260921T101500
DTSTAMP:20260419T195205
CREATED:20241216T192531Z
LAST-MODIFIED:20260214T220235Z
UID:10007548-1789983000-1789985700@befitwithtania.com
SUMMARY:Monday Pilates with Props 9:30am PT/12:30pm ET
DESCRIPTION:Pilates with Props is a 45-minute Intermediate/Advanced level mat class which incorporates props\, such as light hand weights\, a yoga block or a Pilates ring to step up your Pilates practice… props are optional! Head-to-toe strengthening\, but our main focus is core strength\, length\, balance\, joint mobility\, and pelvic floor.
URL:https://befitwithtania.com/event/monday-pilates-with-props-930am-pt-1230pm-et/2026-09-21/
LOCATION:ZOOM\, Online
CATEGORIES:45-Minute Class
ATTACH;FMTTYPE=image/jpeg:https://befitwithtania.com/wp-content/uploads/2024/11/IMG_7728-scaled.jpeg
ORGANIZER;CN="Tania":MAILTO:befitwithtania@gmail.com
END:VEVENT
BEGIN:VEVENT
DTSTART;TZID=America/Los_Angeles:20260928T093000
DTEND;TZID=America/Los_Angeles:20260928T101500
DTSTAMP:20260419T195205
CREATED:20241216T192531Z
LAST-MODIFIED:20260214T220235Z
UID:10007549-1790587800-1790590500@befitwithtania.com
SUMMARY:Monday Pilates with Props 9:30am PT/12:30pm ET
DESCRIPTION:Pilates with Props is a 45-minute Intermediate/Advanced level mat class which incorporates props\, such as light hand weights\, a yoga block or a Pilates ring to step up your Pilates practice… props are optional! Head-to-toe strengthening\, but our main focus is core strength\, length\, balance\, joint mobility\, and pelvic floor.
URL:https://befitwithtania.com/event/monday-pilates-with-props-930am-pt-1230pm-et/2026-09-28/
LOCATION:ZOOM\, Online
CATEGORIES:45-Minute Class
ATTACH;FMTTYPE=image/jpeg:https://befitwithtania.com/wp-content/uploads/2024/11/IMG_7728-scaled.jpeg
ORGANIZER;CN="Tania":MAILTO:befitwithtania@gmail.com
END:VEVENT
BEGIN:VEVENT
DTSTART;TZID=America/Los_Angeles:20261005T093000
DTEND;TZID=America/Los_Angeles:20261005T101500
DTSTAMP:20260419T195205
CREATED:20241216T192531Z
LAST-MODIFIED:20260214T220235Z
UID:10007550-1791192600-1791195300@befitwithtania.com
SUMMARY:Monday Pilates with Props 9:30am PT/12:30pm ET
DESCRIPTION:Pilates with Props is a 45-minute Intermediate/Advanced level mat class which incorporates props\, such as light hand weights\, a yoga block or a Pilates ring to step up your Pilates practice… props are optional! Head-to-toe strengthening\, but our main focus is core strength\, length\, balance\, joint mobility\, and pelvic floor.
URL:https://befitwithtania.com/event/monday-pilates-with-props-930am-pt-1230pm-et/2026-10-05/
LOCATION:ZOOM\, Online
CATEGORIES:45-Minute Class
ATTACH;FMTTYPE=image/jpeg:https://befitwithtania.com/wp-content/uploads/2024/11/IMG_7728-scaled.jpeg
ORGANIZER;CN="Tania":MAILTO:befitwithtania@gmail.com
END:VEVENT
BEGIN:VEVENT
DTSTART;TZID=America/Los_Angeles:20261012T093000
DTEND;TZID=America/Los_Angeles:20261012T101500
DTSTAMP:20260419T195205
CREATED:20241216T192531Z
LAST-MODIFIED:20260214T220235Z
UID:10007551-1791797400-1791800100@befitwithtania.com
SUMMARY:Monday Pilates with Props 9:30am PT/12:30pm ET
DESCRIPTION:Pilates with Props is a 45-minute Intermediate/Advanced level mat class which incorporates props\, such as light hand weights\, a yoga block or a Pilates ring to step up your Pilates practice… props are optional! Head-to-toe strengthening\, but our main focus is core strength\, length\, balance\, joint mobility\, and pelvic floor.
URL:https://befitwithtania.com/event/monday-pilates-with-props-930am-pt-1230pm-et/2026-10-12/
LOCATION:ZOOM\, Online
CATEGORIES:45-Minute Class
ATTACH;FMTTYPE=image/jpeg:https://befitwithtania.com/wp-content/uploads/2024/11/IMG_7728-scaled.jpeg
ORGANIZER;CN="Tania":MAILTO:befitwithtania@gmail.com
END:VEVENT
BEGIN:VEVENT
DTSTART;TZID=America/Los_Angeles:20261019T093000
DTEND;TZID=America/Los_Angeles:20261019T101500
DTSTAMP:20260419T195205
CREATED:20241216T192531Z
LAST-MODIFIED:20260214T220235Z
UID:10007552-1792402200-1792404900@befitwithtania.com
SUMMARY:Monday Pilates with Props 9:30am PT/12:30pm ET
DESCRIPTION:Pilates with Props is a 45-minute Intermediate/Advanced level mat class which incorporates props\, such as light hand weights\, a yoga block or a Pilates ring to step up your Pilates practice… props are optional! Head-to-toe strengthening\, but our main focus is core strength\, length\, balance\, joint mobility\, and pelvic floor.
URL:https://befitwithtania.com/event/monday-pilates-with-props-930am-pt-1230pm-et/2026-10-19/
LOCATION:ZOOM\, Online
CATEGORIES:45-Minute Class
ATTACH;FMTTYPE=image/jpeg:https://befitwithtania.com/wp-content/uploads/2024/11/IMG_7728-scaled.jpeg
ORGANIZER;CN="Tania":MAILTO:befitwithtania@gmail.com
END:VEVENT
BEGIN:VEVENT
DTSTART;TZID=America/Los_Angeles:20261026T093000
DTEND;TZID=America/Los_Angeles:20261026T101500
DTSTAMP:20260419T195205
CREATED:20241216T192531Z
LAST-MODIFIED:20260214T220235Z
UID:10007553-1793007000-1793009700@befitwithtania.com
SUMMARY:Monday Pilates with Props 9:30am PT/12:30pm ET
DESCRIPTION:Pilates with Props is a 45-minute Intermediate/Advanced level mat class which incorporates props\, such as light hand weights\, a yoga block or a Pilates ring to step up your Pilates practice… props are optional! Head-to-toe strengthening\, but our main focus is core strength\, length\, balance\, joint mobility\, and pelvic floor.
URL:https://befitwithtania.com/event/monday-pilates-with-props-930am-pt-1230pm-et/2026-10-26/
LOCATION:ZOOM\, Online
CATEGORIES:45-Minute Class
ATTACH;FMTTYPE=image/jpeg:https://befitwithtania.com/wp-content/uploads/2024/11/IMG_7728-scaled.jpeg
ORGANIZER;CN="Tania":MAILTO:befitwithtania@gmail.com
END:VEVENT
BEGIN:VEVENT
DTSTART;TZID=America/Los_Angeles:20261102T093000
DTEND;TZID=America/Los_Angeles:20261102T101500
DTSTAMP:20260419T195205
CREATED:20241216T192531Z
LAST-MODIFIED:20260214T220235Z
UID:10007554-1793611800-1793614500@befitwithtania.com
SUMMARY:Monday Pilates with Props 9:30am PT/12:30pm ET
DESCRIPTION:Pilates with Props is a 45-minute Intermediate/Advanced level mat class which incorporates props\, such as light hand weights\, a yoga block or a Pilates ring to step up your Pilates practice… props are optional! Head-to-toe strengthening\, but our main focus is core strength\, length\, balance\, joint mobility\, and pelvic floor.
URL:https://befitwithtania.com/event/monday-pilates-with-props-930am-pt-1230pm-et/2026-11-02/
LOCATION:ZOOM\, Online
CATEGORIES:45-Minute Class
ATTACH;FMTTYPE=image/jpeg:https://befitwithtania.com/wp-content/uploads/2024/11/IMG_7728-scaled.jpeg
ORGANIZER;CN="Tania":MAILTO:befitwithtania@gmail.com
END:VEVENT
BEGIN:VEVENT
DTSTART;TZID=America/Los_Angeles:20261109T093000
DTEND;TZID=America/Los_Angeles:20261109T101500
DTSTAMP:20260419T195205
CREATED:20241216T192531Z
LAST-MODIFIED:20260214T220235Z
UID:10007555-1794216600-1794219300@befitwithtania.com
SUMMARY:Monday Pilates with Props 9:30am PT/12:30pm ET
DESCRIPTION:Pilates with Props is a 45-minute Intermediate/Advanced level mat class which incorporates props\, such as light hand weights\, a yoga block or a Pilates ring to step up your Pilates practice… props are optional! Head-to-toe strengthening\, but our main focus is core strength\, length\, balance\, joint mobility\, and pelvic floor.
URL:https://befitwithtania.com/event/monday-pilates-with-props-930am-pt-1230pm-et/2026-11-09/
LOCATION:ZOOM\, Online
CATEGORIES:45-Minute Class
ATTACH;FMTTYPE=image/jpeg:https://befitwithtania.com/wp-content/uploads/2024/11/IMG_7728-scaled.jpeg
ORGANIZER;CN="Tania":MAILTO:befitwithtania@gmail.com
END:VEVENT
BEGIN:VEVENT
DTSTART;TZID=America/Los_Angeles:20261116T093000
DTEND;TZID=America/Los_Angeles:20261116T101500
DTSTAMP:20260419T195205
CREATED:20241216T192531Z
LAST-MODIFIED:20260214T220235Z
UID:10007556-1794821400-1794824100@befitwithtania.com
SUMMARY:Monday Pilates with Props 9:30am PT/12:30pm ET
DESCRIPTION:Pilates with Props is a 45-minute Intermediate/Advanced level mat class which incorporates props\, such as light hand weights\, a yoga block or a Pilates ring to step up your Pilates practice… props are optional! Head-to-toe strengthening\, but our main focus is core strength\, length\, balance\, joint mobility\, and pelvic floor.
URL:https://befitwithtania.com/event/monday-pilates-with-props-930am-pt-1230pm-et/2026-11-16/
LOCATION:ZOOM\, Online
CATEGORIES:45-Minute Class
ATTACH;FMTTYPE=image/jpeg:https://befitwithtania.com/wp-content/uploads/2024/11/IMG_7728-scaled.jpeg
ORGANIZER;CN="Tania":MAILTO:befitwithtania@gmail.com
END:VEVENT
BEGIN:VEVENT
DTSTART;TZID=America/Los_Angeles:20261123T093000
DTEND;TZID=America/Los_Angeles:20261123T101500
DTSTAMP:20260419T195205
CREATED:20241216T192531Z
LAST-MODIFIED:20260214T220235Z
UID:10007557-1795426200-1795428900@befitwithtania.com
SUMMARY:Monday Pilates with Props 9:30am PT/12:30pm ET
DESCRIPTION:Pilates with Props is a 45-minute Intermediate/Advanced level mat class which incorporates props\, such as light hand weights\, a yoga block or a Pilates ring to step up your Pilates practice… props are optional! Head-to-toe strengthening\, but our main focus is core strength\, length\, balance\, joint mobility\, and pelvic floor.
URL:https://befitwithtania.com/event/monday-pilates-with-props-930am-pt-1230pm-et/2026-11-23/
LOCATION:ZOOM\, Online
CATEGORIES:45-Minute Class
ATTACH;FMTTYPE=image/jpeg:https://befitwithtania.com/wp-content/uploads/2024/11/IMG_7728-scaled.jpeg
ORGANIZER;CN="Tania":MAILTO:befitwithtania@gmail.com
END:VEVENT
BEGIN:VEVENT
DTSTART;TZID=America/Los_Angeles:20261130T093000
DTEND;TZID=America/Los_Angeles:20261130T101500
DTSTAMP:20260419T195205
CREATED:20241216T192531Z
LAST-MODIFIED:20260214T220235Z
UID:10007558-1796031000-1796033700@befitwithtania.com
SUMMARY:Monday Pilates with Props 9:30am PT/12:30pm ET
DESCRIPTION:Pilates with Props is a 45-minute Intermediate/Advanced level mat class which incorporates props\, such as light hand weights\, a yoga block or a Pilates ring to step up your Pilates practice… props are optional! Head-to-toe strengthening\, but our main focus is core strength\, length\, balance\, joint mobility\, and pelvic floor.
URL:https://befitwithtania.com/event/monday-pilates-with-props-930am-pt-1230pm-et/2026-11-30/
LOCATION:ZOOM\, Online
CATEGORIES:45-Minute Class
ATTACH;FMTTYPE=image/jpeg:https://befitwithtania.com/wp-content/uploads/2024/11/IMG_7728-scaled.jpeg
ORGANIZER;CN="Tania":MAILTO:befitwithtania@gmail.com
END:VEVENT
BEGIN:VEVENT
DTSTART;TZID=America/Los_Angeles:20261207T093000
DTEND;TZID=America/Los_Angeles:20261207T101500
DTSTAMP:20260419T195205
CREATED:20241216T192531Z
LAST-MODIFIED:20260214T220235Z
UID:10007559-1796635800-1796638500@befitwithtania.com
SUMMARY:Monday Pilates with Props 9:30am PT/12:30pm ET
DESCRIPTION:Pilates with Props is a 45-minute Intermediate/Advanced level mat class which incorporates props\, such as light hand weights\, a yoga block or a Pilates ring to step up your Pilates practice… props are optional! Head-to-toe strengthening\, but our main focus is core strength\, length\, balance\, joint mobility\, and pelvic floor.
URL:https://befitwithtania.com/event/monday-pilates-with-props-930am-pt-1230pm-et/2026-12-07/
LOCATION:ZOOM\, Online
CATEGORIES:45-Minute Class
ATTACH;FMTTYPE=image/jpeg:https://befitwithtania.com/wp-content/uploads/2024/11/IMG_7728-scaled.jpeg
ORGANIZER;CN="Tania":MAILTO:befitwithtania@gmail.com
END:VEVENT
BEGIN:VEVENT
DTSTART;TZID=America/Los_Angeles:20261214T093000
DTEND;TZID=America/Los_Angeles:20261214T101500
DTSTAMP:20260419T195205
CREATED:20241216T192531Z
LAST-MODIFIED:20260214T220235Z
UID:10007560-1797240600-1797243300@befitwithtania.com
SUMMARY:Monday Pilates with Props 9:30am PT/12:30pm ET
DESCRIPTION:Pilates with Props is a 45-minute Intermediate/Advanced level mat class which incorporates props\, such as light hand weights\, a yoga block or a Pilates ring to step up your Pilates practice… props are optional! Head-to-toe strengthening\, but our main focus is core strength\, length\, balance\, joint mobility\, and pelvic floor.
URL:https://befitwithtania.com/event/monday-pilates-with-props-930am-pt-1230pm-et/2026-12-14/
LOCATION:ZOOM\, Online
CATEGORIES:45-Minute Class
ATTACH;FMTTYPE=image/jpeg:https://befitwithtania.com/wp-content/uploads/2024/11/IMG_7728-scaled.jpeg
ORGANIZER;CN="Tania":MAILTO:befitwithtania@gmail.com
END:VEVENT
BEGIN:VEVENT
DTSTART;TZID=America/Los_Angeles:20261221T093000
DTEND;TZID=America/Los_Angeles:20261221T101500
DTSTAMP:20260419T195205
CREATED:20241216T192531Z
LAST-MODIFIED:20260214T220235Z
UID:10007561-1797845400-1797848100@befitwithtania.com
SUMMARY:Monday Pilates with Props 9:30am PT/12:30pm ET
DESCRIPTION:Pilates with Props is a 45-minute Intermediate/Advanced level mat class which incorporates props\, such as light hand weights\, a yoga block or a Pilates ring to step up your Pilates practice… props are optional! Head-to-toe strengthening\, but our main focus is core strength\, length\, balance\, joint mobility\, and pelvic floor.
URL:https://befitwithtania.com/event/monday-pilates-with-props-930am-pt-1230pm-et/2026-12-21/
LOCATION:ZOOM\, Online
CATEGORIES:45-Minute Class
ATTACH;FMTTYPE=image/jpeg:https://befitwithtania.com/wp-content/uploads/2024/11/IMG_7728-scaled.jpeg
ORGANIZER;CN="Tania":MAILTO:befitwithtania@gmail.com
END:VEVENT
BEGIN:VEVENT
DTSTART;TZID=America/Los_Angeles:20261228T093000
DTEND;TZID=America/Los_Angeles:20261228T101500
DTSTAMP:20260419T195205
CREATED:20241216T192531Z
LAST-MODIFIED:20260214T220235Z
UID:10007562-1798450200-1798452900@befitwithtania.com
SUMMARY:Monday Pilates with Props 9:30am PT/12:30pm ET
DESCRIPTION:Pilates with Props is a 45-minute Intermediate/Advanced level mat class which incorporates props\, such as light hand weights\, a yoga block or a Pilates ring to step up your Pilates practice… props are optional! Head-to-toe strengthening\, but our main focus is core strength\, length\, balance\, joint mobility\, and pelvic floor.
URL:https://befitwithtania.com/event/monday-pilates-with-props-930am-pt-1230pm-et/2026-12-28/
LOCATION:ZOOM\, Online
CATEGORIES:45-Minute Class
ATTACH;FMTTYPE=image/jpeg:https://befitwithtania.com/wp-content/uploads/2024/11/IMG_7728-scaled.jpeg
ORGANIZER;CN="Tania":MAILTO:befitwithtania@gmail.com
END:VEVENT
END:VCALENDAR