BEGIN:VCALENDAR
VERSION:2.0
PRODID:-//Be Fit with Tania - ECPv6.15.20//NONSGML v1.0//EN
CALSCALE:GREGORIAN
METHOD:PUBLISH
X-ORIGINAL-URL:https://befitwithtania.com
X-WR-CALDESC:Events for Be Fit with Tania
REFRESH-INTERVAL;VALUE=DURATION:PT1H
X-Robots-Tag:noindex
X-PUBLISHED-TTL:PT1H
BEGIN:VTIMEZONE
TZID:America/Los_Angeles
BEGIN:DAYLIGHT
TZOFFSETFROM:-0800
TZOFFSETTO:-0700
TZNAME:PDT
DTSTART:20230312T100000
END:DAYLIGHT
BEGIN:STANDARD
TZOFFSETFROM:-0700
TZOFFSETTO:-0800
TZNAME:PST
DTSTART:20231105T090000
END:STANDARD
BEGIN:DAYLIGHT
TZOFFSETFROM:-0800
TZOFFSETTO:-0700
TZNAME:PDT
DTSTART:20240310T100000
END:DAYLIGHT
BEGIN:STANDARD
TZOFFSETFROM:-0700
TZOFFSETTO:-0800
TZNAME:PST
DTSTART:20241103T090000
END:STANDARD
BEGIN:DAYLIGHT
TZOFFSETFROM:-0800
TZOFFSETTO:-0700
TZNAME:PDT
DTSTART:20250309T100000
END:DAYLIGHT
BEGIN:STANDARD
TZOFFSETFROM:-0700
TZOFFSETTO:-0800
TZNAME:PST
DTSTART:20251102T090000
END:STANDARD
BEGIN:DAYLIGHT
TZOFFSETFROM:-0800
TZOFFSETTO:-0700
TZNAME:PDT
DTSTART:20260308T100000
END:DAYLIGHT
BEGIN:STANDARD
TZOFFSETFROM:-0700
TZOFFSETTO:-0800
TZNAME:PST
DTSTART:20261101T090000
END:STANDARD
END:VTIMEZONE
BEGIN:VEVENT
DTSTART;TZID=America/Los_Angeles:20250428T093000
DTEND;TZID=America/Los_Angeles:20250428T101500
DTSTAMP:20260419T120746
CREATED:20241216T192531Z
LAST-MODIFIED:20260214T220235Z
UID:10007292-1745832600-1745835300@befitwithtania.com
SUMMARY:Monday Pilates with Props 9:30am PT/12:30pm ET
DESCRIPTION:Pilates with Props is a 45-minute Intermediate/Advanced level mat class which incorporates props\, such as light hand weights\, a yoga block or a Pilates ring to step up your Pilates practice… props are optional! Head-to-toe strengthening\, but our main focus is core strength\, length\, balance\, joint mobility\, and pelvic floor.
URL:https://befitwithtania.com/event/monday-pilates-with-props-930am-pt-1230pm-et/2025-04-28/
LOCATION:ZOOM\, Online
CATEGORIES:45-Minute Class
ATTACH;FMTTYPE=image/jpeg:https://befitwithtania.com/wp-content/uploads/2024/11/IMG_7728-scaled.jpeg
ORGANIZER;CN="Tania":MAILTO:befitwithtania@gmail.com
END:VEVENT
BEGIN:VEVENT
DTSTART;TZID=America/Los_Angeles:20250414T093000
DTEND;TZID=America/Los_Angeles:20250414T101500
DTSTAMP:20260419T120746
CREATED:20241216T192531Z
LAST-MODIFIED:20260214T220235Z
UID:10007290-1744623000-1744625700@befitwithtania.com
SUMMARY:Monday Pilates with Props 9:30am PT/12:30pm ET
DESCRIPTION:Pilates with Props is a 45-minute Intermediate/Advanced level mat class which incorporates props\, such as light hand weights\, a yoga block or a Pilates ring to step up your Pilates practice… props are optional! Head-to-toe strengthening\, but our main focus is core strength\, length\, balance\, joint mobility\, and pelvic floor.
URL:https://befitwithtania.com/event/monday-pilates-with-props-930am-pt-1230pm-et/2025-04-14/
LOCATION:ZOOM\, Online
CATEGORIES:45-Minute Class
ATTACH;FMTTYPE=image/jpeg:https://befitwithtania.com/wp-content/uploads/2024/11/IMG_7728-scaled.jpeg
ORGANIZER;CN="Tania":MAILTO:befitwithtania@gmail.com
END:VEVENT
BEGIN:VEVENT
DTSTART;TZID=America/Los_Angeles:20250407T093000
DTEND;TZID=America/Los_Angeles:20250407T101500
DTSTAMP:20260419T120746
CREATED:20241216T192531Z
LAST-MODIFIED:20260214T220235Z
UID:10007289-1744018200-1744020900@befitwithtania.com
SUMMARY:Monday Pilates with Props 9:30am PT/12:30pm ET
DESCRIPTION:Pilates with Props is a 45-minute Intermediate/Advanced level mat class which incorporates props\, such as light hand weights\, a yoga block or a Pilates ring to step up your Pilates practice… props are optional! Head-to-toe strengthening\, but our main focus is core strength\, length\, balance\, joint mobility\, and pelvic floor.
URL:https://befitwithtania.com/event/monday-pilates-with-props-930am-pt-1230pm-et/2025-04-07/
LOCATION:ZOOM\, Online
CATEGORIES:45-Minute Class
ATTACH;FMTTYPE=image/jpeg:https://befitwithtania.com/wp-content/uploads/2024/11/IMG_7728-scaled.jpeg
ORGANIZER;CN="Tania":MAILTO:befitwithtania@gmail.com
END:VEVENT
BEGIN:VEVENT
DTSTART;TZID=America/Los_Angeles:20250331T093000
DTEND;TZID=America/Los_Angeles:20250331T101500
DTSTAMP:20260419T120746
CREATED:20241216T192531Z
LAST-MODIFIED:20260214T220235Z
UID:10007288-1743413400-1743416100@befitwithtania.com
SUMMARY:Monday Pilates with Props 9:30am PT/12:30pm ET
DESCRIPTION:Pilates with Props is a 45-minute Intermediate/Advanced level mat class which incorporates props\, such as light hand weights\, a yoga block or a Pilates ring to step up your Pilates practice… props are optional! Head-to-toe strengthening\, but our main focus is core strength\, length\, balance\, joint mobility\, and pelvic floor.
URL:https://befitwithtania.com/event/monday-pilates-with-props-930am-pt-1230pm-et/2025-03-31/
LOCATION:ZOOM\, Online
CATEGORIES:45-Minute Class
ATTACH;FMTTYPE=image/jpeg:https://befitwithtania.com/wp-content/uploads/2024/11/IMG_7728-scaled.jpeg
ORGANIZER;CN="Tania":MAILTO:befitwithtania@gmail.com
END:VEVENT
BEGIN:VEVENT
DTSTART;TZID=America/Los_Angeles:20250324T093000
DTEND;TZID=America/Los_Angeles:20250324T101500
DTSTAMP:20260419T120746
CREATED:20241216T192531Z
LAST-MODIFIED:20260214T220235Z
UID:10007287-1742808600-1742811300@befitwithtania.com
SUMMARY:Monday Pilates with Props 9:30am PT/12:30pm ET
DESCRIPTION:Pilates with Props is a 45-minute Intermediate/Advanced level mat class which incorporates props\, such as light hand weights\, a yoga block or a Pilates ring to step up your Pilates practice… props are optional! Head-to-toe strengthening\, but our main focus is core strength\, length\, balance\, joint mobility\, and pelvic floor.
URL:https://befitwithtania.com/event/monday-pilates-with-props-930am-pt-1230pm-et/2025-03-24/
LOCATION:ZOOM\, Online
CATEGORIES:45-Minute Class
ATTACH;FMTTYPE=image/jpeg:https://befitwithtania.com/wp-content/uploads/2024/11/IMG_7728-scaled.jpeg
ORGANIZER;CN="Tania":MAILTO:befitwithtania@gmail.com
END:VEVENT
BEGIN:VEVENT
DTSTART;TZID=America/Los_Angeles:20250317T093000
DTEND;TZID=America/Los_Angeles:20250317T101500
DTSTAMP:20260419T120746
CREATED:20241216T192531Z
LAST-MODIFIED:20260214T220235Z
UID:10007286-1742203800-1742206500@befitwithtania.com
SUMMARY:Monday Pilates with Props 9:30am PT/12:30pm ET
DESCRIPTION:Pilates with Props is a 45-minute Intermediate/Advanced level mat class which incorporates props\, such as light hand weights\, a yoga block or a Pilates ring to step up your Pilates practice… props are optional! Head-to-toe strengthening\, but our main focus is core strength\, length\, balance\, joint mobility\, and pelvic floor.
URL:https://befitwithtania.com/event/monday-pilates-with-props-930am-pt-1230pm-et/2025-03-17/
LOCATION:ZOOM\, Online
CATEGORIES:45-Minute Class
ATTACH;FMTTYPE=image/jpeg:https://befitwithtania.com/wp-content/uploads/2024/11/IMG_7728-scaled.jpeg
ORGANIZER;CN="Tania":MAILTO:befitwithtania@gmail.com
END:VEVENT
BEGIN:VEVENT
DTSTART;TZID=America/Los_Angeles:20250310T093000
DTEND;TZID=America/Los_Angeles:20250310T101500
DTSTAMP:20260419T120746
CREATED:20241216T192531Z
LAST-MODIFIED:20260214T220235Z
UID:10007285-1741599000-1741601700@befitwithtania.com
SUMMARY:Monday Pilates with Props 9:30am PT/12:30pm ET
DESCRIPTION:Pilates with Props is a 45-minute Intermediate/Advanced level mat class which incorporates props\, such as light hand weights\, a yoga block or a Pilates ring to step up your Pilates practice… props are optional! Head-to-toe strengthening\, but our main focus is core strength\, length\, balance\, joint mobility\, and pelvic floor.
URL:https://befitwithtania.com/event/monday-pilates-with-props-930am-pt-1230pm-et/2025-03-10/
LOCATION:ZOOM\, Online
CATEGORIES:45-Minute Class
ATTACH;FMTTYPE=image/jpeg:https://befitwithtania.com/wp-content/uploads/2024/11/IMG_7728-scaled.jpeg
ORGANIZER;CN="Tania":MAILTO:befitwithtania@gmail.com
END:VEVENT
BEGIN:VEVENT
DTSTART;TZID=America/Los_Angeles:20250303T093000
DTEND;TZID=America/Los_Angeles:20250303T101500
DTSTAMP:20260419T120746
CREATED:20241216T192531Z
LAST-MODIFIED:20260214T220235Z
UID:10007284-1740994200-1740996900@befitwithtania.com
SUMMARY:Monday Pilates with Props 9:30am PT/12:30pm ET
DESCRIPTION:Pilates with Props is a 45-minute Intermediate/Advanced level mat class which incorporates props\, such as light hand weights\, a yoga block or a Pilates ring to step up your Pilates practice… props are optional! Head-to-toe strengthening\, but our main focus is core strength\, length\, balance\, joint mobility\, and pelvic floor.
URL:https://befitwithtania.com/event/monday-pilates-with-props-930am-pt-1230pm-et/2025-03-03/
LOCATION:ZOOM\, Online
CATEGORIES:45-Minute Class
ATTACH;FMTTYPE=image/jpeg:https://befitwithtania.com/wp-content/uploads/2024/11/IMG_7728-scaled.jpeg
ORGANIZER;CN="Tania":MAILTO:befitwithtania@gmail.com
END:VEVENT
BEGIN:VEVENT
DTSTART;TZID=America/Los_Angeles:20250224T093000
DTEND;TZID=America/Los_Angeles:20250224T101500
DTSTAMP:20260419T120747
CREATED:20241216T192531Z
LAST-MODIFIED:20260214T220235Z
UID:10007283-1740389400-1740392100@befitwithtania.com
SUMMARY:Monday Pilates with Props 9:30am PT/12:30pm ET
DESCRIPTION:Pilates with Props is a 45-minute Intermediate/Advanced level mat class which incorporates props\, such as light hand weights\, a yoga block or a Pilates ring to step up your Pilates practice… props are optional! Head-to-toe strengthening\, but our main focus is core strength\, length\, balance\, joint mobility\, and pelvic floor.
URL:https://befitwithtania.com/event/monday-pilates-with-props-930am-pt-1230pm-et/2025-02-24/
LOCATION:ZOOM\, Online
CATEGORIES:45-Minute Class
ATTACH;FMTTYPE=image/jpeg:https://befitwithtania.com/wp-content/uploads/2024/11/IMG_7728-scaled.jpeg
ORGANIZER;CN="Tania":MAILTO:befitwithtania@gmail.com
END:VEVENT
BEGIN:VEVENT
DTSTART;TZID=America/Los_Angeles:20250217T093000
DTEND;TZID=America/Los_Angeles:20250217T101500
DTSTAMP:20260419T120747
CREATED:20241216T192531Z
LAST-MODIFIED:20260214T220235Z
UID:10007282-1739784600-1739787300@befitwithtania.com
SUMMARY:Monday Pilates with Props 9:30am PT/12:30pm ET
DESCRIPTION:Pilates with Props is a 45-minute Intermediate/Advanced level mat class which incorporates props\, such as light hand weights\, a yoga block or a Pilates ring to step up your Pilates practice… props are optional! Head-to-toe strengthening\, but our main focus is core strength\, length\, balance\, joint mobility\, and pelvic floor.
URL:https://befitwithtania.com/event/monday-pilates-with-props-930am-pt-1230pm-et/2025-02-17/
LOCATION:ZOOM\, Online
CATEGORIES:45-Minute Class
ATTACH;FMTTYPE=image/jpeg:https://befitwithtania.com/wp-content/uploads/2024/11/IMG_7728-scaled.jpeg
ORGANIZER;CN="Tania":MAILTO:befitwithtania@gmail.com
END:VEVENT
BEGIN:VEVENT
DTSTART;TZID=America/Los_Angeles:20250210T093000
DTEND;TZID=America/Los_Angeles:20250210T101500
DTSTAMP:20260419T120747
CREATED:20241216T192531Z
LAST-MODIFIED:20260214T220235Z
UID:10007281-1739179800-1739182500@befitwithtania.com
SUMMARY:Monday Pilates with Props 9:30am PT/12:30pm ET
DESCRIPTION:Pilates with Props is a 45-minute Intermediate/Advanced level mat class which incorporates props\, such as light hand weights\, a yoga block or a Pilates ring to step up your Pilates practice… props are optional! Head-to-toe strengthening\, but our main focus is core strength\, length\, balance\, joint mobility\, and pelvic floor.
URL:https://befitwithtania.com/event/monday-pilates-with-props-930am-pt-1230pm-et/2025-02-10/
LOCATION:ZOOM\, Online
CATEGORIES:45-Minute Class
ATTACH;FMTTYPE=image/jpeg:https://befitwithtania.com/wp-content/uploads/2024/11/IMG_7728-scaled.jpeg
ORGANIZER;CN="Tania":MAILTO:befitwithtania@gmail.com
END:VEVENT
BEGIN:VEVENT
DTSTART;TZID=America/Los_Angeles:20250203T093000
DTEND;TZID=America/Los_Angeles:20250203T101500
DTSTAMP:20260419T120747
CREATED:20241216T192531Z
LAST-MODIFIED:20260214T220235Z
UID:10007280-1738575000-1738577700@befitwithtania.com
SUMMARY:Monday Pilates with Props 9:30am PT/12:30pm ET
DESCRIPTION:Pilates with Props is a 45-minute Intermediate/Advanced level mat class which incorporates props\, such as light hand weights\, a yoga block or a Pilates ring to step up your Pilates practice… props are optional! Head-to-toe strengthening\, but our main focus is core strength\, length\, balance\, joint mobility\, and pelvic floor.
URL:https://befitwithtania.com/event/monday-pilates-with-props-930am-pt-1230pm-et/2025-02-03/
LOCATION:ZOOM\, Online
CATEGORIES:45-Minute Class
ATTACH;FMTTYPE=image/jpeg:https://befitwithtania.com/wp-content/uploads/2024/11/IMG_7728-scaled.jpeg
ORGANIZER;CN="Tania":MAILTO:befitwithtania@gmail.com
END:VEVENT
BEGIN:VEVENT
DTSTART;TZID=America/Los_Angeles:20250127T093000
DTEND;TZID=America/Los_Angeles:20250127T101500
DTSTAMP:20260419T120747
CREATED:20241216T192531Z
LAST-MODIFIED:20260214T220235Z
UID:10007279-1737970200-1737972900@befitwithtania.com
SUMMARY:Monday Pilates with Props 9:30am PT/12:30pm ET
DESCRIPTION:Pilates with Props is a 45-minute Intermediate/Advanced level mat class which incorporates props\, such as light hand weights\, a yoga block or a Pilates ring to step up your Pilates practice… props are optional! Head-to-toe strengthening\, but our main focus is core strength\, length\, balance\, joint mobility\, and pelvic floor.
URL:https://befitwithtania.com/event/monday-pilates-with-props-930am-pt-1230pm-et/2025-01-27/
LOCATION:ZOOM\, Online
CATEGORIES:45-Minute Class
ATTACH;FMTTYPE=image/jpeg:https://befitwithtania.com/wp-content/uploads/2024/11/IMG_7728-scaled.jpeg
ORGANIZER;CN="Tania":MAILTO:befitwithtania@gmail.com
END:VEVENT
BEGIN:VEVENT
DTSTART;TZID=America/Los_Angeles:20250120T093000
DTEND;TZID=America/Los_Angeles:20250120T101500
DTSTAMP:20260419T120747
CREATED:20241216T192531Z
LAST-MODIFIED:20260214T220235Z
UID:10007278-1737365400-1737368100@befitwithtania.com
SUMMARY:Monday Pilates with Props 9:30am PT/12:30pm ET
DESCRIPTION:Pilates with Props is a 45-minute Intermediate/Advanced level mat class which incorporates props\, such as light hand weights\, a yoga block or a Pilates ring to step up your Pilates practice… props are optional! Head-to-toe strengthening\, but our main focus is core strength\, length\, balance\, joint mobility\, and pelvic floor.
URL:https://befitwithtania.com/event/monday-pilates-with-props-930am-pt-1230pm-et/2025-01-20/
LOCATION:ZOOM\, Online
CATEGORIES:45-Minute Class
ATTACH;FMTTYPE=image/jpeg:https://befitwithtania.com/wp-content/uploads/2024/11/IMG_7728-scaled.jpeg
ORGANIZER;CN="Tania":MAILTO:befitwithtania@gmail.com
END:VEVENT
BEGIN:VEVENT
DTSTART;TZID=America/Los_Angeles:20250113T093000
DTEND;TZID=America/Los_Angeles:20250113T101500
DTSTAMP:20260419T120747
CREATED:20241216T192531Z
LAST-MODIFIED:20260214T220235Z
UID:10007277-1736760600-1736763300@befitwithtania.com
SUMMARY:Monday Pilates with Props 9:30am PT/12:30pm ET
DESCRIPTION:Pilates with Props is a 45-minute Intermediate/Advanced level mat class which incorporates props\, such as light hand weights\, a yoga block or a Pilates ring to step up your Pilates practice… props are optional! Head-to-toe strengthening\, but our main focus is core strength\, length\, balance\, joint mobility\, and pelvic floor.
URL:https://befitwithtania.com/event/monday-pilates-with-props-930am-pt-1230pm-et/2025-01-13/
LOCATION:ZOOM\, Online
CATEGORIES:45-Minute Class
ATTACH;FMTTYPE=image/jpeg:https://befitwithtania.com/wp-content/uploads/2024/11/IMG_7728-scaled.jpeg
ORGANIZER;CN="Tania":MAILTO:befitwithtania@gmail.com
END:VEVENT
BEGIN:VEVENT
DTSTART;TZID=America/Los_Angeles:20250106T093000
DTEND;TZID=America/Los_Angeles:20250106T101500
DTSTAMP:20260419T120747
CREATED:20241216T192531Z
LAST-MODIFIED:20260214T220235Z
UID:10007276-1736155800-1736158500@befitwithtania.com
SUMMARY:Monday Pilates with Props 9:30am PT/12:30pm ET
DESCRIPTION:Pilates with Props is a 45-minute Intermediate/Advanced level mat class which incorporates props\, such as light hand weights\, a yoga block or a Pilates ring to step up your Pilates practice… props are optional! Head-to-toe strengthening\, but our main focus is core strength\, length\, balance\, joint mobility\, and pelvic floor.
URL:https://befitwithtania.com/event/monday-pilates-with-props-930am-pt-1230pm-et/2025-01-06/
LOCATION:ZOOM\, Online
CATEGORIES:45-Minute Class
ATTACH;FMTTYPE=image/jpeg:https://befitwithtania.com/wp-content/uploads/2024/11/IMG_7728-scaled.jpeg
ORGANIZER;CN="Tania":MAILTO:befitwithtania@gmail.com
END:VEVENT
BEGIN:VEVENT
DTSTART;TZID=America/Los_Angeles:20241230T093000
DTEND;TZID=America/Los_Angeles:20241230T101500
DTSTAMP:20260419T120747
CREATED:20241216T192531Z
LAST-MODIFIED:20260214T220235Z
UID:10007275-1735551000-1735553700@befitwithtania.com
SUMMARY:Monday Pilates with Props 9:30am PT/12:30pm ET
DESCRIPTION:Pilates with Props is a 45-minute Intermediate/Advanced level mat class which incorporates props\, such as light hand weights\, a yoga block or a Pilates ring to step up your Pilates practice… props are optional! Head-to-toe strengthening\, but our main focus is core strength\, length\, balance\, joint mobility\, and pelvic floor.
URL:https://befitwithtania.com/event/monday-pilates-with-props-930am-pt-1230pm-et/2024-12-30/
LOCATION:ZOOM\, Online
CATEGORIES:45-Minute Class
ATTACH;FMTTYPE=image/jpeg:https://befitwithtania.com/wp-content/uploads/2024/11/IMG_7728-scaled.jpeg
ORGANIZER;CN="Tania":MAILTO:befitwithtania@gmail.com
END:VEVENT
BEGIN:VEVENT
DTSTART;TZID=America/Los_Angeles:20241223T093000
DTEND;TZID=America/Los_Angeles:20241223T101500
DTSTAMP:20260419T120747
CREATED:20241216T192531Z
LAST-MODIFIED:20260214T220235Z
UID:10007274-1734946200-1734948900@befitwithtania.com
SUMMARY:Monday Pilates with Props 9:30am PT/12:30pm ET
DESCRIPTION:Pilates with Props is a 45-minute Intermediate/Advanced level mat class which incorporates props\, such as light hand weights\, a yoga block or a Pilates ring to step up your Pilates practice… props are optional! Head-to-toe strengthening\, but our main focus is core strength\, length\, balance\, joint mobility\, and pelvic floor.
URL:https://befitwithtania.com/event/monday-pilates-with-props-930am-pt-1230pm-et/2024-12-23/
LOCATION:ZOOM\, Online
CATEGORIES:45-Minute Class
ATTACH;FMTTYPE=image/jpeg:https://befitwithtania.com/wp-content/uploads/2024/11/IMG_7728-scaled.jpeg
ORGANIZER;CN="Tania":MAILTO:befitwithtania@gmail.com
END:VEVENT
END:VCALENDAR