BEGIN:VCALENDAR
VERSION:2.0
PRODID:-//Be Fit with Tania - ECPv6.15.20//NONSGML v1.0//EN
CALSCALE:GREGORIAN
METHOD:PUBLISH
X-ORIGINAL-URL:https://befitwithtania.com
X-WR-CALDESC:Events for Be Fit with Tania
REFRESH-INTERVAL;VALUE=DURATION:PT1H
X-Robots-Tag:noindex
X-PUBLISHED-TTL:PT1H
BEGIN:VTIMEZONE
TZID:America/Los_Angeles
BEGIN:DAYLIGHT
TZOFFSETFROM:-0800
TZOFFSETTO:-0700
TZNAME:PDT
DTSTART:20240310T100000
END:DAYLIGHT
BEGIN:STANDARD
TZOFFSETFROM:-0700
TZOFFSETTO:-0800
TZNAME:PST
DTSTART:20241103T090000
END:STANDARD
BEGIN:DAYLIGHT
TZOFFSETFROM:-0800
TZOFFSETTO:-0700
TZNAME:PDT
DTSTART:20250309T100000
END:DAYLIGHT
BEGIN:STANDARD
TZOFFSETFROM:-0700
TZOFFSETTO:-0800
TZNAME:PST
DTSTART:20251102T090000
END:STANDARD
BEGIN:DAYLIGHT
TZOFFSETFROM:-0800
TZOFFSETTO:-0700
TZNAME:PDT
DTSTART:20260308T100000
END:DAYLIGHT
BEGIN:STANDARD
TZOFFSETFROM:-0700
TZOFFSETTO:-0800
TZNAME:PST
DTSTART:20261101T090000
END:STANDARD
END:VTIMEZONE
BEGIN:VEVENT
DTSTART;TZID=America/Los_Angeles:20250603T160000
DTEND;TZID=America/Los_Angeles:20250603T163000
DTSTAMP:20260419T234939
CREATED:20241126T120024Z
LAST-MODIFIED:20260214T220848Z
UID:10001913-1748966400-1748968200@befitwithtania.com
SUMMARY:Total Body Sculpt 4pm PT/7pm ET (Tu)
DESCRIPTION:Total Body Sculpt is a weight-lifting class\, sculpting the entire body\, head-to-toe. As we age\, we lose bone density and muscle mass; lifting weights can help combat these losses. Great for all levels; we work at an easy-to-follow pace.
URL:https://befitwithtania.com/event/total-body-sculpt-4pm-pt-7pm-et-tu/2025-06-03/
LOCATION:ZOOM\, Online
CATEGORIES:30-Minute Class
ATTACH;FMTTYPE=image/jpeg:https://befitwithtania.com/wp-content/uploads/2022/11/MG_4165-1_Original-scaled.jpeg
ORGANIZER;CN="Tania":MAILTO:befitwithtania@gmail.com
END:VEVENT
BEGIN:VEVENT
DTSTART;TZID=America/Los_Angeles:20250604T160000
DTEND;TZID=America/Los_Angeles:20250604T163000
DTSTAMP:20260419T234939
CREATED:20241214T203603Z
LAST-MODIFIED:20260214T220731Z
UID:10007060-1749052800-1749054600@befitwithtania.com
SUMMARY:Wednesday Pilates Core Conditioning 4pm PT/7pm ET
DESCRIPTION:This Pilates class focuses on core strength and conditioning! Pilates includes pelvic floor\, core strength and balance\, joint mobility\, range of motion\, and flexibility. Leave feeling refreshed\, not worn out! This 30-minute class is great for all levels; options always provided.
URL:https://befitwithtania.com/event/beginning-pilates-by-tania-2/2025-06-04/
LOCATION:ZOOM\, Online
CATEGORIES:30-Minute Class
ATTACH;FMTTYPE=image/jpeg:https://befitwithtania.com/wp-content/uploads/2022/03/IMG_8810-scaled.jpeg
ORGANIZER;CN="Tania":MAILTO:befitwithtania@gmail.com
END:VEVENT
BEGIN:VEVENT
DTSTART;TZID=America/Los_Angeles:20250605T160000
DTEND;TZID=America/Los_Angeles:20250605T163000
DTSTAMP:20260419T234939
CREATED:20241128T120010Z
LAST-MODIFIED:20260214T220809Z
UID:10007103-1749139200-1749141000@befitwithtania.com
SUMMARY:Total Body Sculpt 4pm PT/7pm ET (Th)
DESCRIPTION:Total Body Sculpt is a weight-lifting class\, sculpting the entire body head-to-toe. As we age we lose bone density and muscle mass; lifting weights can help combat these losses. Great for all levels; we work at an easy-to-follow pace.
URL:https://befitwithtania.com/event/total-body-sculpt-4pm-pt-7pm-et-th/2025-06-05/
LOCATION:ZOOM\, Online
CATEGORIES:30-Minute Class
ATTACH;FMTTYPE=image/jpeg:https://befitwithtania.com/wp-content/uploads/2023/05/MG_4167-1_Original-scaled-e1684554488496.jpg
ORGANIZER;CN="Tania":MAILTO:befitwithtania@gmail.com
END:VEVENT
BEGIN:VEVENT
DTSTART;TZID=America/Los_Angeles:20250607T090000
DTEND;TZID=America/Los_Angeles:20250607T093000
DTSTAMP:20260419T234939
CREATED:20241130T170036Z
LAST-MODIFIED:20260214T221236Z
UID:10007244-1749286800-1749288600@befitwithtania.com
SUMMARY:Saturday Pilates Basics 9am PT/12pm ET
DESCRIPTION:Pilates Basics is a head-to-toe strength and stretch with basic Pilates technique designed to leave you feeling refreshed\, not worn out! This class is great for all levels\, focusing on pelvic floor\, core strength\, joint mobility\, range of motion\, stretch\, and balance. We work at an easy-to-follow pace.
URL:https://befitwithtania.com/event/saturday-pilates-basics-9am-pt-12pm-et/2025-06-07/
LOCATION:ZOOM\, Online
CATEGORIES:30-Minute Class
ATTACH;FMTTYPE=image/jpeg:https://befitwithtania.com/wp-content/uploads/2022/03/IMG_7274.jpeg
ORGANIZER;CN="Tania":MAILTO:befitwithtania@gmail.com
END:VEVENT
BEGIN:VEVENT
DTSTART;TZID=America/Los_Angeles:20250609T093000
DTEND;TZID=America/Los_Angeles:20250609T101500
DTSTAMP:20260419T234939
CREATED:20241216T192531Z
LAST-MODIFIED:20260214T220235Z
UID:10007298-1749461400-1749464100@befitwithtania.com
SUMMARY:Monday Pilates with Props 9:30am PT/12:30pm ET
DESCRIPTION:Pilates with Props is a 45-minute Intermediate/Advanced level mat class which incorporates props\, such as light hand weights\, a yoga block or a Pilates ring to step up your Pilates practice… props are optional! Head-to-toe strengthening\, but our main focus is core strength\, length\, balance\, joint mobility\, and pelvic floor.
URL:https://befitwithtania.com/event/monday-pilates-with-props-930am-pt-1230pm-et/2025-06-09/
LOCATION:ZOOM\, Online
CATEGORIES:45-Minute Class
ATTACH;FMTTYPE=image/jpeg:https://befitwithtania.com/wp-content/uploads/2024/11/IMG_7728-scaled.jpeg
ORGANIZER;CN="Tania":MAILTO:befitwithtania@gmail.com
END:VEVENT
BEGIN:VEVENT
DTSTART;TZID=America/Los_Angeles:20250609T160000
DTEND;TZID=America/Los_Angeles:20250609T163000
DTSTAMP:20260419T234939
CREATED:20241125T120014Z
LAST-MODIFIED:20260214T220652Z
UID:10007146-1749484800-1749486600@befitwithtania.com
SUMMARY:Monday Restorative Yoga w/Props 4pm PT/7pm ET
DESCRIPTION:Restorative Yoga encompasses the element of deep head-to-toe stretch\, breathwork and oxygenation\, circulation\, and restorative practices. Restorative practices are known to calm the nervous system\, encourage mindfulness\, awareness of the deeper self\, body awareness\, and acceptance in a safe nurturing space. This class rotates between a full body stretch with blocks\, exercise ball\, and bolster for deep relaxation/meditation.
URL:https://befitwithtania.com/event/beginning-yoga-with-tania/2025-06-09/
LOCATION:ZOOM\, Online
CATEGORIES:30-Minute Class
ATTACH;FMTTYPE=image/jpeg:https://befitwithtania.com/wp-content/uploads/2022/02/IMG_0529-scaled-1-e1646968343719.jpg
ORGANIZER;CN="Tania":MAILTO:befitwithtania@gmail.com
END:VEVENT
BEGIN:VEVENT
DTSTART;TZID=America/Los_Angeles:20250610T160000
DTEND;TZID=America/Los_Angeles:20250610T163000
DTSTAMP:20260419T234939
CREATED:20241126T120024Z
LAST-MODIFIED:20260214T220848Z
UID:10001915-1749571200-1749573000@befitwithtania.com
SUMMARY:Total Body Sculpt 4pm PT/7pm ET (Tu)
DESCRIPTION:Total Body Sculpt is a weight-lifting class\, sculpting the entire body\, head-to-toe. As we age\, we lose bone density and muscle mass; lifting weights can help combat these losses. Great for all levels; we work at an easy-to-follow pace.
URL:https://befitwithtania.com/event/total-body-sculpt-4pm-pt-7pm-et-tu/2025-06-10/
LOCATION:ZOOM\, Online
CATEGORIES:30-Minute Class
ATTACH;FMTTYPE=image/jpeg:https://befitwithtania.com/wp-content/uploads/2022/11/MG_4165-1_Original-scaled.jpeg
ORGANIZER;CN="Tania":MAILTO:befitwithtania@gmail.com
END:VEVENT
BEGIN:VEVENT
DTSTART;TZID=America/Los_Angeles:20250611T160000
DTEND;TZID=America/Los_Angeles:20250611T163000
DTSTAMP:20260419T234939
CREATED:20241214T203603Z
LAST-MODIFIED:20260214T220731Z
UID:10007061-1749657600-1749659400@befitwithtania.com
SUMMARY:Wednesday Pilates Core Conditioning 4pm PT/7pm ET
DESCRIPTION:This Pilates class focuses on core strength and conditioning! Pilates includes pelvic floor\, core strength and balance\, joint mobility\, range of motion\, and flexibility. Leave feeling refreshed\, not worn out! This 30-minute class is great for all levels; options always provided.
URL:https://befitwithtania.com/event/beginning-pilates-by-tania-2/2025-06-11/
LOCATION:ZOOM\, Online
CATEGORIES:30-Minute Class
ATTACH;FMTTYPE=image/jpeg:https://befitwithtania.com/wp-content/uploads/2022/03/IMG_8810-scaled.jpeg
ORGANIZER;CN="Tania":MAILTO:befitwithtania@gmail.com
END:VEVENT
BEGIN:VEVENT
DTSTART;TZID=America/Los_Angeles:20250612T160000
DTEND;TZID=America/Los_Angeles:20250612T163000
DTSTAMP:20260419T234939
CREATED:20241128T120010Z
LAST-MODIFIED:20260214T220809Z
UID:10007104-1749744000-1749745800@befitwithtania.com
SUMMARY:Total Body Sculpt 4pm PT/7pm ET (Th)
DESCRIPTION:Total Body Sculpt is a weight-lifting class\, sculpting the entire body head-to-toe. As we age we lose bone density and muscle mass; lifting weights can help combat these losses. Great for all levels; we work at an easy-to-follow pace.
URL:https://befitwithtania.com/event/total-body-sculpt-4pm-pt-7pm-et-th/2025-06-12/
LOCATION:ZOOM\, Online
CATEGORIES:30-Minute Class
ATTACH;FMTTYPE=image/jpeg:https://befitwithtania.com/wp-content/uploads/2023/05/MG_4167-1_Original-scaled-e1684554488496.jpg
ORGANIZER;CN="Tania":MAILTO:befitwithtania@gmail.com
END:VEVENT
BEGIN:VEVENT
DTSTART;TZID=America/Los_Angeles:20250614T090000
DTEND;TZID=America/Los_Angeles:20250614T093000
DTSTAMP:20260419T234939
CREATED:20241130T170036Z
LAST-MODIFIED:20260214T221236Z
UID:10007245-1749891600-1749893400@befitwithtania.com
SUMMARY:Saturday Pilates Basics 9am PT/12pm ET
DESCRIPTION:Pilates Basics is a head-to-toe strength and stretch with basic Pilates technique designed to leave you feeling refreshed\, not worn out! This class is great for all levels\, focusing on pelvic floor\, core strength\, joint mobility\, range of motion\, stretch\, and balance. We work at an easy-to-follow pace.
URL:https://befitwithtania.com/event/saturday-pilates-basics-9am-pt-12pm-et/2025-06-14/
LOCATION:ZOOM\, Online
CATEGORIES:30-Minute Class
ATTACH;FMTTYPE=image/jpeg:https://befitwithtania.com/wp-content/uploads/2022/03/IMG_7274.jpeg
ORGANIZER;CN="Tania":MAILTO:befitwithtania@gmail.com
END:VEVENT
BEGIN:VEVENT
DTSTART;TZID=America/Los_Angeles:20250616T093000
DTEND;TZID=America/Los_Angeles:20250616T101500
DTSTAMP:20260419T234939
CREATED:20241216T192531Z
LAST-MODIFIED:20260214T220235Z
UID:10007299-1750066200-1750068900@befitwithtania.com
SUMMARY:Monday Pilates with Props 9:30am PT/12:30pm ET
DESCRIPTION:Pilates with Props is a 45-minute Intermediate/Advanced level mat class which incorporates props\, such as light hand weights\, a yoga block or a Pilates ring to step up your Pilates practice… props are optional! Head-to-toe strengthening\, but our main focus is core strength\, length\, balance\, joint mobility\, and pelvic floor.
URL:https://befitwithtania.com/event/monday-pilates-with-props-930am-pt-1230pm-et/2025-06-16/
LOCATION:ZOOM\, Online
CATEGORIES:45-Minute Class
ATTACH;FMTTYPE=image/jpeg:https://befitwithtania.com/wp-content/uploads/2024/11/IMG_7728-scaled.jpeg
ORGANIZER;CN="Tania":MAILTO:befitwithtania@gmail.com
END:VEVENT
BEGIN:VEVENT
DTSTART;TZID=America/Los_Angeles:20250616T160000
DTEND;TZID=America/Los_Angeles:20250616T163000
DTSTAMP:20260419T234939
CREATED:20241125T120014Z
LAST-MODIFIED:20260214T220652Z
UID:10007147-1750089600-1750091400@befitwithtania.com
SUMMARY:Monday Restorative Yoga w/Props 4pm PT/7pm ET
DESCRIPTION:Restorative Yoga encompasses the element of deep head-to-toe stretch\, breathwork and oxygenation\, circulation\, and restorative practices. Restorative practices are known to calm the nervous system\, encourage mindfulness\, awareness of the deeper self\, body awareness\, and acceptance in a safe nurturing space. This class rotates between a full body stretch with blocks\, exercise ball\, and bolster for deep relaxation/meditation.
URL:https://befitwithtania.com/event/beginning-yoga-with-tania/2025-06-16/
LOCATION:ZOOM\, Online
CATEGORIES:30-Minute Class
ATTACH;FMTTYPE=image/jpeg:https://befitwithtania.com/wp-content/uploads/2022/02/IMG_0529-scaled-1-e1646968343719.jpg
ORGANIZER;CN="Tania":MAILTO:befitwithtania@gmail.com
END:VEVENT
BEGIN:VEVENT
DTSTART;TZID=America/Los_Angeles:20250617T160000
DTEND;TZID=America/Los_Angeles:20250617T163000
DTSTAMP:20260419T234939
CREATED:20241126T120024Z
LAST-MODIFIED:20260214T220848Z
UID:10001917-1750176000-1750177800@befitwithtania.com
SUMMARY:Total Body Sculpt 4pm PT/7pm ET (Tu)
DESCRIPTION:Total Body Sculpt is a weight-lifting class\, sculpting the entire body\, head-to-toe. As we age\, we lose bone density and muscle mass; lifting weights can help combat these losses. Great for all levels; we work at an easy-to-follow pace.
URL:https://befitwithtania.com/event/total-body-sculpt-4pm-pt-7pm-et-tu/2025-06-17/
LOCATION:ZOOM\, Online
CATEGORIES:30-Minute Class
ATTACH;FMTTYPE=image/jpeg:https://befitwithtania.com/wp-content/uploads/2022/11/MG_4165-1_Original-scaled.jpeg
ORGANIZER;CN="Tania":MAILTO:befitwithtania@gmail.com
END:VEVENT
BEGIN:VEVENT
DTSTART;TZID=America/Los_Angeles:20250618T160000
DTEND;TZID=America/Los_Angeles:20250618T163000
DTSTAMP:20260419T234939
CREATED:20241214T203603Z
LAST-MODIFIED:20260214T220731Z
UID:10007062-1750262400-1750264200@befitwithtania.com
SUMMARY:Wednesday Pilates Core Conditioning 4pm PT/7pm ET
DESCRIPTION:This Pilates class focuses on core strength and conditioning! Pilates includes pelvic floor\, core strength and balance\, joint mobility\, range of motion\, and flexibility. Leave feeling refreshed\, not worn out! This 30-minute class is great for all levels; options always provided.
URL:https://befitwithtania.com/event/beginning-pilates-by-tania-2/2025-06-18/
LOCATION:ZOOM\, Online
CATEGORIES:30-Minute Class
ATTACH;FMTTYPE=image/jpeg:https://befitwithtania.com/wp-content/uploads/2022/03/IMG_8810-scaled.jpeg
ORGANIZER;CN="Tania":MAILTO:befitwithtania@gmail.com
END:VEVENT
BEGIN:VEVENT
DTSTART;TZID=America/Los_Angeles:20250619T160000
DTEND;TZID=America/Los_Angeles:20250619T163000
DTSTAMP:20260419T234939
CREATED:20241128T120010Z
LAST-MODIFIED:20260214T220809Z
UID:10007105-1750348800-1750350600@befitwithtania.com
SUMMARY:Total Body Sculpt 4pm PT/7pm ET (Th)
DESCRIPTION:Total Body Sculpt is a weight-lifting class\, sculpting the entire body head-to-toe. As we age we lose bone density and muscle mass; lifting weights can help combat these losses. Great for all levels; we work at an easy-to-follow pace.
URL:https://befitwithtania.com/event/total-body-sculpt-4pm-pt-7pm-et-th/2025-06-19/
LOCATION:ZOOM\, Online
CATEGORIES:30-Minute Class
ATTACH;FMTTYPE=image/jpeg:https://befitwithtania.com/wp-content/uploads/2023/05/MG_4167-1_Original-scaled-e1684554488496.jpg
ORGANIZER;CN="Tania":MAILTO:befitwithtania@gmail.com
END:VEVENT
BEGIN:VEVENT
DTSTART;TZID=America/Los_Angeles:20250621T090000
DTEND;TZID=America/Los_Angeles:20250621T093000
DTSTAMP:20260419T234939
CREATED:20241130T170036Z
LAST-MODIFIED:20260214T221236Z
UID:10007246-1750496400-1750498200@befitwithtania.com
SUMMARY:Saturday Pilates Basics 9am PT/12pm ET
DESCRIPTION:Pilates Basics is a head-to-toe strength and stretch with basic Pilates technique designed to leave you feeling refreshed\, not worn out! This class is great for all levels\, focusing on pelvic floor\, core strength\, joint mobility\, range of motion\, stretch\, and balance. We work at an easy-to-follow pace.
URL:https://befitwithtania.com/event/saturday-pilates-basics-9am-pt-12pm-et/2025-06-21/
LOCATION:ZOOM\, Online
CATEGORIES:30-Minute Class
ATTACH;FMTTYPE=image/jpeg:https://befitwithtania.com/wp-content/uploads/2022/03/IMG_7274.jpeg
ORGANIZER;CN="Tania":MAILTO:befitwithtania@gmail.com
END:VEVENT
BEGIN:VEVENT
DTSTART;TZID=America/Los_Angeles:20250623T093000
DTEND;TZID=America/Los_Angeles:20250623T101500
DTSTAMP:20260419T234939
CREATED:20241216T192531Z
LAST-MODIFIED:20260214T220235Z
UID:10007300-1750671000-1750673700@befitwithtania.com
SUMMARY:Monday Pilates with Props 9:30am PT/12:30pm ET
DESCRIPTION:Pilates with Props is a 45-minute Intermediate/Advanced level mat class which incorporates props\, such as light hand weights\, a yoga block or a Pilates ring to step up your Pilates practice… props are optional! Head-to-toe strengthening\, but our main focus is core strength\, length\, balance\, joint mobility\, and pelvic floor.
URL:https://befitwithtania.com/event/monday-pilates-with-props-930am-pt-1230pm-et/2025-06-23/
LOCATION:ZOOM\, Online
CATEGORIES:45-Minute Class
ATTACH;FMTTYPE=image/jpeg:https://befitwithtania.com/wp-content/uploads/2024/11/IMG_7728-scaled.jpeg
ORGANIZER;CN="Tania":MAILTO:befitwithtania@gmail.com
END:VEVENT
BEGIN:VEVENT
DTSTART;TZID=America/Los_Angeles:20250623T160000
DTEND;TZID=America/Los_Angeles:20250623T163000
DTSTAMP:20260419T234939
CREATED:20241125T120014Z
LAST-MODIFIED:20260214T220652Z
UID:10007148-1750694400-1750696200@befitwithtania.com
SUMMARY:Monday Restorative Yoga w/Props 4pm PT/7pm ET
DESCRIPTION:Restorative Yoga encompasses the element of deep head-to-toe stretch\, breathwork and oxygenation\, circulation\, and restorative practices. Restorative practices are known to calm the nervous system\, encourage mindfulness\, awareness of the deeper self\, body awareness\, and acceptance in a safe nurturing space. This class rotates between a full body stretch with blocks\, exercise ball\, and bolster for deep relaxation/meditation.
URL:https://befitwithtania.com/event/beginning-yoga-with-tania/2025-06-23/
LOCATION:ZOOM\, Online
CATEGORIES:30-Minute Class
ATTACH;FMTTYPE=image/jpeg:https://befitwithtania.com/wp-content/uploads/2022/02/IMG_0529-scaled-1-e1646968343719.jpg
ORGANIZER;CN="Tania":MAILTO:befitwithtania@gmail.com
END:VEVENT
BEGIN:VEVENT
DTSTART;TZID=America/Los_Angeles:20250624T160000
DTEND;TZID=America/Los_Angeles:20250624T163000
DTSTAMP:20260419T234939
CREATED:20241126T120024Z
LAST-MODIFIED:20260214T220848Z
UID:10001919-1750780800-1750782600@befitwithtania.com
SUMMARY:Total Body Sculpt 4pm PT/7pm ET (Tu)
DESCRIPTION:Total Body Sculpt is a weight-lifting class\, sculpting the entire body\, head-to-toe. As we age\, we lose bone density and muscle mass; lifting weights can help combat these losses. Great for all levels; we work at an easy-to-follow pace.
URL:https://befitwithtania.com/event/total-body-sculpt-4pm-pt-7pm-et-tu/2025-06-24/
LOCATION:ZOOM\, Online
CATEGORIES:30-Minute Class
ATTACH;FMTTYPE=image/jpeg:https://befitwithtania.com/wp-content/uploads/2022/11/MG_4165-1_Original-scaled.jpeg
ORGANIZER;CN="Tania":MAILTO:befitwithtania@gmail.com
END:VEVENT
BEGIN:VEVENT
DTSTART;TZID=America/Los_Angeles:20250625T160000
DTEND;TZID=America/Los_Angeles:20250625T163000
DTSTAMP:20260419T234939
CREATED:20241214T203603Z
LAST-MODIFIED:20260214T220731Z
UID:10007063-1750867200-1750869000@befitwithtania.com
SUMMARY:Wednesday Pilates Core Conditioning 4pm PT/7pm ET
DESCRIPTION:This Pilates class focuses on core strength and conditioning! Pilates includes pelvic floor\, core strength and balance\, joint mobility\, range of motion\, and flexibility. Leave feeling refreshed\, not worn out! This 30-minute class is great for all levels; options always provided.
URL:https://befitwithtania.com/event/beginning-pilates-by-tania-2/2025-06-25/
LOCATION:ZOOM\, Online
CATEGORIES:30-Minute Class
ATTACH;FMTTYPE=image/jpeg:https://befitwithtania.com/wp-content/uploads/2022/03/IMG_8810-scaled.jpeg
ORGANIZER;CN="Tania":MAILTO:befitwithtania@gmail.com
END:VEVENT
BEGIN:VEVENT
DTSTART;TZID=America/Los_Angeles:20250626T160000
DTEND;TZID=America/Los_Angeles:20250626T163000
DTSTAMP:20260419T234939
CREATED:20241128T120010Z
LAST-MODIFIED:20260214T220809Z
UID:10007106-1750953600-1750955400@befitwithtania.com
SUMMARY:Total Body Sculpt 4pm PT/7pm ET (Th)
DESCRIPTION:Total Body Sculpt is a weight-lifting class\, sculpting the entire body head-to-toe. As we age we lose bone density and muscle mass; lifting weights can help combat these losses. Great for all levels; we work at an easy-to-follow pace.
URL:https://befitwithtania.com/event/total-body-sculpt-4pm-pt-7pm-et-th/2025-06-26/
LOCATION:ZOOM\, Online
CATEGORIES:30-Minute Class
ATTACH;FMTTYPE=image/jpeg:https://befitwithtania.com/wp-content/uploads/2023/05/MG_4167-1_Original-scaled-e1684554488496.jpg
ORGANIZER;CN="Tania":MAILTO:befitwithtania@gmail.com
END:VEVENT
BEGIN:VEVENT
DTSTART;TZID=America/Los_Angeles:20250628T090000
DTEND;TZID=America/Los_Angeles:20250628T093000
DTSTAMP:20260419T234939
CREATED:20241130T170036Z
LAST-MODIFIED:20260214T221236Z
UID:10007247-1751101200-1751103000@befitwithtania.com
SUMMARY:Saturday Pilates Basics 9am PT/12pm ET
DESCRIPTION:Pilates Basics is a head-to-toe strength and stretch with basic Pilates technique designed to leave you feeling refreshed\, not worn out! This class is great for all levels\, focusing on pelvic floor\, core strength\, joint mobility\, range of motion\, stretch\, and balance. We work at an easy-to-follow pace.
URL:https://befitwithtania.com/event/saturday-pilates-basics-9am-pt-12pm-et/2025-06-28/
LOCATION:ZOOM\, Online
CATEGORIES:30-Minute Class
ATTACH;FMTTYPE=image/jpeg:https://befitwithtania.com/wp-content/uploads/2022/03/IMG_7274.jpeg
ORGANIZER;CN="Tania":MAILTO:befitwithtania@gmail.com
END:VEVENT
BEGIN:VEVENT
DTSTART;TZID=America/Los_Angeles:20250630T093000
DTEND;TZID=America/Los_Angeles:20250630T101500
DTSTAMP:20260419T234939
CREATED:20241216T192531Z
LAST-MODIFIED:20260214T220235Z
UID:10007301-1751275800-1751278500@befitwithtania.com
SUMMARY:Monday Pilates with Props 9:30am PT/12:30pm ET
DESCRIPTION:Pilates with Props is a 45-minute Intermediate/Advanced level mat class which incorporates props\, such as light hand weights\, a yoga block or a Pilates ring to step up your Pilates practice… props are optional! Head-to-toe strengthening\, but our main focus is core strength\, length\, balance\, joint mobility\, and pelvic floor.
URL:https://befitwithtania.com/event/monday-pilates-with-props-930am-pt-1230pm-et/2025-06-30/
LOCATION:ZOOM\, Online
CATEGORIES:45-Minute Class
ATTACH;FMTTYPE=image/jpeg:https://befitwithtania.com/wp-content/uploads/2024/11/IMG_7728-scaled.jpeg
ORGANIZER;CN="Tania":MAILTO:befitwithtania@gmail.com
END:VEVENT
BEGIN:VEVENT
DTSTART;TZID=America/Los_Angeles:20250630T160000
DTEND;TZID=America/Los_Angeles:20250630T163000
DTSTAMP:20260419T234939
CREATED:20241125T120014Z
LAST-MODIFIED:20260214T220652Z
UID:10007149-1751299200-1751301000@befitwithtania.com
SUMMARY:Monday Restorative Yoga w/Props 4pm PT/7pm ET
DESCRIPTION:Restorative Yoga encompasses the element of deep head-to-toe stretch\, breathwork and oxygenation\, circulation\, and restorative practices. Restorative practices are known to calm the nervous system\, encourage mindfulness\, awareness of the deeper self\, body awareness\, and acceptance in a safe nurturing space. This class rotates between a full body stretch with blocks\, exercise ball\, and bolster for deep relaxation/meditation.
URL:https://befitwithtania.com/event/beginning-yoga-with-tania/2025-06-30/
LOCATION:ZOOM\, Online
CATEGORIES:30-Minute Class
ATTACH;FMTTYPE=image/jpeg:https://befitwithtania.com/wp-content/uploads/2022/02/IMG_0529-scaled-1-e1646968343719.jpg
ORGANIZER;CN="Tania":MAILTO:befitwithtania@gmail.com
END:VEVENT
BEGIN:VEVENT
DTSTART;TZID=America/Los_Angeles:20250701T160000
DTEND;TZID=America/Los_Angeles:20250701T163000
DTSTAMP:20260419T234939
CREATED:20241126T120024Z
LAST-MODIFIED:20260214T220848Z
UID:10001921-1751385600-1751387400@befitwithtania.com
SUMMARY:Total Body Sculpt 4pm PT/7pm ET (Tu)
DESCRIPTION:Total Body Sculpt is a weight-lifting class\, sculpting the entire body\, head-to-toe. As we age\, we lose bone density and muscle mass; lifting weights can help combat these losses. Great for all levels; we work at an easy-to-follow pace.
URL:https://befitwithtania.com/event/total-body-sculpt-4pm-pt-7pm-et-tu/2025-07-01/
LOCATION:ZOOM\, Online
CATEGORIES:30-Minute Class
ATTACH;FMTTYPE=image/jpeg:https://befitwithtania.com/wp-content/uploads/2022/11/MG_4165-1_Original-scaled.jpeg
ORGANIZER;CN="Tania":MAILTO:befitwithtania@gmail.com
END:VEVENT
BEGIN:VEVENT
DTSTART;TZID=America/Los_Angeles:20250702T160000
DTEND;TZID=America/Los_Angeles:20250702T163000
DTSTAMP:20260419T234939
CREATED:20241214T203603Z
LAST-MODIFIED:20260214T220731Z
UID:10007064-1751472000-1751473800@befitwithtania.com
SUMMARY:Wednesday Pilates Core Conditioning 4pm PT/7pm ET
DESCRIPTION:This Pilates class focuses on core strength and conditioning! Pilates includes pelvic floor\, core strength and balance\, joint mobility\, range of motion\, and flexibility. Leave feeling refreshed\, not worn out! This 30-minute class is great for all levels; options always provided.
URL:https://befitwithtania.com/event/beginning-pilates-by-tania-2/2025-07-02/
LOCATION:ZOOM\, Online
CATEGORIES:30-Minute Class
ATTACH;FMTTYPE=image/jpeg:https://befitwithtania.com/wp-content/uploads/2022/03/IMG_8810-scaled.jpeg
ORGANIZER;CN="Tania":MAILTO:befitwithtania@gmail.com
END:VEVENT
BEGIN:VEVENT
DTSTART;TZID=America/Los_Angeles:20250703T160000
DTEND;TZID=America/Los_Angeles:20250703T163000
DTSTAMP:20260419T234939
CREATED:20241128T120010Z
LAST-MODIFIED:20260214T220809Z
UID:10007107-1751558400-1751560200@befitwithtania.com
SUMMARY:Total Body Sculpt 4pm PT/7pm ET (Th)
DESCRIPTION:Total Body Sculpt is a weight-lifting class\, sculpting the entire body head-to-toe. As we age we lose bone density and muscle mass; lifting weights can help combat these losses. Great for all levels; we work at an easy-to-follow pace.
URL:https://befitwithtania.com/event/total-body-sculpt-4pm-pt-7pm-et-th/2025-07-03/
LOCATION:ZOOM\, Online
CATEGORIES:30-Minute Class
ATTACH;FMTTYPE=image/jpeg:https://befitwithtania.com/wp-content/uploads/2023/05/MG_4167-1_Original-scaled-e1684554488496.jpg
ORGANIZER;CN="Tania":MAILTO:befitwithtania@gmail.com
END:VEVENT
BEGIN:VEVENT
DTSTART;TZID=America/Los_Angeles:20250705T090000
DTEND;TZID=America/Los_Angeles:20250705T093000
DTSTAMP:20260419T234939
CREATED:20241130T170036Z
LAST-MODIFIED:20260214T221236Z
UID:10007248-1751706000-1751707800@befitwithtania.com
SUMMARY:Saturday Pilates Basics 9am PT/12pm ET
DESCRIPTION:Pilates Basics is a head-to-toe strength and stretch with basic Pilates technique designed to leave you feeling refreshed\, not worn out! This class is great for all levels\, focusing on pelvic floor\, core strength\, joint mobility\, range of motion\, stretch\, and balance. We work at an easy-to-follow pace.
URL:https://befitwithtania.com/event/saturday-pilates-basics-9am-pt-12pm-et/2025-07-05/
LOCATION:ZOOM\, Online
CATEGORIES:30-Minute Class
ATTACH;FMTTYPE=image/jpeg:https://befitwithtania.com/wp-content/uploads/2022/03/IMG_7274.jpeg
ORGANIZER;CN="Tania":MAILTO:befitwithtania@gmail.com
END:VEVENT
BEGIN:VEVENT
DTSTART;TZID=America/Los_Angeles:20250707T093000
DTEND;TZID=America/Los_Angeles:20250707T101500
DTSTAMP:20260419T234939
CREATED:20241216T192531Z
LAST-MODIFIED:20260214T220235Z
UID:10007302-1751880600-1751883300@befitwithtania.com
SUMMARY:Monday Pilates with Props 9:30am PT/12:30pm ET
DESCRIPTION:Pilates with Props is a 45-minute Intermediate/Advanced level mat class which incorporates props\, such as light hand weights\, a yoga block or a Pilates ring to step up your Pilates practice… props are optional! Head-to-toe strengthening\, but our main focus is core strength\, length\, balance\, joint mobility\, and pelvic floor.
URL:https://befitwithtania.com/event/monday-pilates-with-props-930am-pt-1230pm-et/2025-07-07/
LOCATION:ZOOM\, Online
CATEGORIES:45-Minute Class
ATTACH;FMTTYPE=image/jpeg:https://befitwithtania.com/wp-content/uploads/2024/11/IMG_7728-scaled.jpeg
ORGANIZER;CN="Tania":MAILTO:befitwithtania@gmail.com
END:VEVENT
BEGIN:VEVENT
DTSTART;TZID=America/Los_Angeles:20250707T160000
DTEND;TZID=America/Los_Angeles:20250707T163000
DTSTAMP:20260419T234939
CREATED:20241125T120014Z
LAST-MODIFIED:20260214T220652Z
UID:10007150-1751904000-1751905800@befitwithtania.com
SUMMARY:Monday Restorative Yoga w/Props 4pm PT/7pm ET
DESCRIPTION:Restorative Yoga encompasses the element of deep head-to-toe stretch\, breathwork and oxygenation\, circulation\, and restorative practices. Restorative practices are known to calm the nervous system\, encourage mindfulness\, awareness of the deeper self\, body awareness\, and acceptance in a safe nurturing space. This class rotates between a full body stretch with blocks\, exercise ball\, and bolster for deep relaxation/meditation.
URL:https://befitwithtania.com/event/beginning-yoga-with-tania/2025-07-07/
LOCATION:ZOOM\, Online
CATEGORIES:30-Minute Class
ATTACH;FMTTYPE=image/jpeg:https://befitwithtania.com/wp-content/uploads/2022/02/IMG_0529-scaled-1-e1646968343719.jpg
ORGANIZER;CN="Tania":MAILTO:befitwithtania@gmail.com
END:VEVENT
END:VCALENDAR