BEGIN:VCALENDAR
VERSION:2.0
PRODID:-//Be Fit with Tania - ECPv6.15.20//NONSGML v1.0//EN
CALSCALE:GREGORIAN
METHOD:PUBLISH
X-ORIGINAL-URL:https://befitwithtania.com
X-WR-CALDESC:Events for Be Fit with Tania
REFRESH-INTERVAL;VALUE=DURATION:PT1H
X-Robots-Tag:noindex
X-PUBLISHED-TTL:PT1H
BEGIN:VTIMEZONE
TZID:America/Los_Angeles
BEGIN:DAYLIGHT
TZOFFSETFROM:-0800
TZOFFSETTO:-0700
TZNAME:PDT
DTSTART:20270314T100000
END:DAYLIGHT
BEGIN:STANDARD
TZOFFSETFROM:-0700
TZOFFSETTO:-0800
TZNAME:PST
DTSTART:20271107T090000
END:STANDARD
BEGIN:DAYLIGHT
TZOFFSETFROM:-0800
TZOFFSETTO:-0700
TZNAME:PDT
DTSTART:20280312T100000
END:DAYLIGHT
BEGIN:STANDARD
TZOFFSETFROM:-0700
TZOFFSETTO:-0800
TZNAME:PST
DTSTART:20281105T090000
END:STANDARD
BEGIN:DAYLIGHT
TZOFFSETFROM:-0800
TZOFFSETTO:-0700
TZNAME:PDT
DTSTART:20290311T100000
END:DAYLIGHT
BEGIN:STANDARD
TZOFFSETFROM:-0700
TZOFFSETTO:-0800
TZNAME:PST
DTSTART:20291104T090000
END:STANDARD
END:VTIMEZONE
BEGIN:VEVENT
DTSTART;TZID=America/Los_Angeles:20280304T090000
DTEND;TZID=America/Los_Angeles:20280304T093000
DTSTAMP:20260420T125911
CREATED:20260214T222039Z
LAST-MODIFIED:20260218T145157Z
UID:10007986-1835773200-1835775000@befitwithtania.com
SUMMARY:Saturday Pilates Basics 9am PST/12pm EST
DESCRIPTION:Pilates Basics is a head-to-toe strength and stretch with basic Pilates technique designed to leave you feeling refreshed\, not worn out! This class is great for all levels\, focusing on pelvic floor\, core strength\, joint mobility\, range of motion\, stretch\, and balance. We work at an easy-to-follow pace.
URL:https://befitwithtania.com/event/saturday-pilates-basics-9am-pst-12pm-est/2028-03-04/
LOCATION:ZOOM\, Online
CATEGORIES:30-Minute Class
ATTACH;FMTTYPE=image/jpeg:https://befitwithtania.com/wp-content/uploads/2022/03/IMG_7274.jpeg
ORGANIZER;CN="Tania":MAILTO:befitwithtania@gmail.com
END:VEVENT
BEGIN:VEVENT
DTSTART;TZID=America/Los_Angeles:20280311T090000
DTEND;TZID=America/Los_Angeles:20280311T093000
DTSTAMP:20260420T125911
CREATED:20260214T222039Z
LAST-MODIFIED:20260218T145157Z
UID:10007987-1836378000-1836379800@befitwithtania.com
SUMMARY:Saturday Pilates Basics 9am PST/12pm EST
DESCRIPTION:Pilates Basics is a head-to-toe strength and stretch with basic Pilates technique designed to leave you feeling refreshed\, not worn out! This class is great for all levels\, focusing on pelvic floor\, core strength\, joint mobility\, range of motion\, stretch\, and balance. We work at an easy-to-follow pace.
URL:https://befitwithtania.com/event/saturday-pilates-basics-9am-pst-12pm-est/2028-03-11/
LOCATION:ZOOM\, Online
CATEGORIES:30-Minute Class
ATTACH;FMTTYPE=image/jpeg:https://befitwithtania.com/wp-content/uploads/2022/03/IMG_7274.jpeg
ORGANIZER;CN="Tania":MAILTO:befitwithtania@gmail.com
END:VEVENT
BEGIN:VEVENT
DTSTART;TZID=America/Los_Angeles:20280318T090000
DTEND;TZID=America/Los_Angeles:20280318T093000
DTSTAMP:20260420T125911
CREATED:20260214T222039Z
LAST-MODIFIED:20260218T145157Z
UID:10007988-1836982800-1836984600@befitwithtania.com
SUMMARY:Saturday Pilates Basics 9am PST/12pm EST
DESCRIPTION:Pilates Basics is a head-to-toe strength and stretch with basic Pilates technique designed to leave you feeling refreshed\, not worn out! This class is great for all levels\, focusing on pelvic floor\, core strength\, joint mobility\, range of motion\, stretch\, and balance. We work at an easy-to-follow pace.
URL:https://befitwithtania.com/event/saturday-pilates-basics-9am-pst-12pm-est/2028-03-18/
LOCATION:ZOOM\, Online
CATEGORIES:30-Minute Class
ATTACH;FMTTYPE=image/jpeg:https://befitwithtania.com/wp-content/uploads/2022/03/IMG_7274.jpeg
ORGANIZER;CN="Tania":MAILTO:befitwithtania@gmail.com
END:VEVENT
BEGIN:VEVENT
DTSTART;TZID=America/Los_Angeles:20280325T090000
DTEND;TZID=America/Los_Angeles:20280325T093000
DTSTAMP:20260420T125911
CREATED:20260214T222039Z
LAST-MODIFIED:20260218T145157Z
UID:10007989-1837587600-1837589400@befitwithtania.com
SUMMARY:Saturday Pilates Basics 9am PST/12pm EST
DESCRIPTION:Pilates Basics is a head-to-toe strength and stretch with basic Pilates technique designed to leave you feeling refreshed\, not worn out! This class is great for all levels\, focusing on pelvic floor\, core strength\, joint mobility\, range of motion\, stretch\, and balance. We work at an easy-to-follow pace.
URL:https://befitwithtania.com/event/saturday-pilates-basics-9am-pst-12pm-est/2028-03-25/
LOCATION:ZOOM\, Online
CATEGORIES:30-Minute Class
ATTACH;FMTTYPE=image/jpeg:https://befitwithtania.com/wp-content/uploads/2022/03/IMG_7274.jpeg
ORGANIZER;CN="Tania":MAILTO:befitwithtania@gmail.com
END:VEVENT
BEGIN:VEVENT
DTSTART;TZID=America/Los_Angeles:20280401T090000
DTEND;TZID=America/Los_Angeles:20280401T093000
DTSTAMP:20260420T125911
CREATED:20260214T222039Z
LAST-MODIFIED:20260218T145157Z
UID:10007990-1838192400-1838194200@befitwithtania.com
SUMMARY:Saturday Pilates Basics 9am PST/12pm EST
DESCRIPTION:Pilates Basics is a head-to-toe strength and stretch with basic Pilates technique designed to leave you feeling refreshed\, not worn out! This class is great for all levels\, focusing on pelvic floor\, core strength\, joint mobility\, range of motion\, stretch\, and balance. We work at an easy-to-follow pace.
URL:https://befitwithtania.com/event/saturday-pilates-basics-9am-pst-12pm-est/2028-04-01/
LOCATION:ZOOM\, Online
CATEGORIES:30-Minute Class
ATTACH;FMTTYPE=image/jpeg:https://befitwithtania.com/wp-content/uploads/2022/03/IMG_7274.jpeg
ORGANIZER;CN="Tania":MAILTO:befitwithtania@gmail.com
END:VEVENT
BEGIN:VEVENT
DTSTART;TZID=America/Los_Angeles:20280408T090000
DTEND;TZID=America/Los_Angeles:20280408T093000
DTSTAMP:20260420T125911
CREATED:20260214T222039Z
LAST-MODIFIED:20260218T145157Z
UID:10007991-1838797200-1838799000@befitwithtania.com
SUMMARY:Saturday Pilates Basics 9am PST/12pm EST
DESCRIPTION:Pilates Basics is a head-to-toe strength and stretch with basic Pilates technique designed to leave you feeling refreshed\, not worn out! This class is great for all levels\, focusing on pelvic floor\, core strength\, joint mobility\, range of motion\, stretch\, and balance. We work at an easy-to-follow pace.
URL:https://befitwithtania.com/event/saturday-pilates-basics-9am-pst-12pm-est/2028-04-08/
LOCATION:ZOOM\, Online
CATEGORIES:30-Minute Class
ATTACH;FMTTYPE=image/jpeg:https://befitwithtania.com/wp-content/uploads/2022/03/IMG_7274.jpeg
ORGANIZER;CN="Tania":MAILTO:befitwithtania@gmail.com
END:VEVENT
BEGIN:VEVENT
DTSTART;TZID=America/Los_Angeles:20280415T090000
DTEND;TZID=America/Los_Angeles:20280415T093000
DTSTAMP:20260420T125911
CREATED:20260214T222039Z
LAST-MODIFIED:20260218T145157Z
UID:10007992-1839402000-1839403800@befitwithtania.com
SUMMARY:Saturday Pilates Basics 9am PST/12pm EST
DESCRIPTION:Pilates Basics is a head-to-toe strength and stretch with basic Pilates technique designed to leave you feeling refreshed\, not worn out! This class is great for all levels\, focusing on pelvic floor\, core strength\, joint mobility\, range of motion\, stretch\, and balance. We work at an easy-to-follow pace.
URL:https://befitwithtania.com/event/saturday-pilates-basics-9am-pst-12pm-est/2028-04-15/
LOCATION:ZOOM\, Online
CATEGORIES:30-Minute Class
ATTACH;FMTTYPE=image/jpeg:https://befitwithtania.com/wp-content/uploads/2022/03/IMG_7274.jpeg
ORGANIZER;CN="Tania":MAILTO:befitwithtania@gmail.com
END:VEVENT
BEGIN:VEVENT
DTSTART;TZID=America/Los_Angeles:20280422T090000
DTEND;TZID=America/Los_Angeles:20280422T093000
DTSTAMP:20260420T125911
CREATED:20260214T222039Z
LAST-MODIFIED:20260218T145157Z
UID:10007993-1840006800-1840008600@befitwithtania.com
SUMMARY:Saturday Pilates Basics 9am PST/12pm EST
DESCRIPTION:Pilates Basics is a head-to-toe strength and stretch with basic Pilates technique designed to leave you feeling refreshed\, not worn out! This class is great for all levels\, focusing on pelvic floor\, core strength\, joint mobility\, range of motion\, stretch\, and balance. We work at an easy-to-follow pace.
URL:https://befitwithtania.com/event/saturday-pilates-basics-9am-pst-12pm-est/2028-04-22/
LOCATION:ZOOM\, Online
CATEGORIES:30-Minute Class
ATTACH;FMTTYPE=image/jpeg:https://befitwithtania.com/wp-content/uploads/2022/03/IMG_7274.jpeg
ORGANIZER;CN="Tania":MAILTO:befitwithtania@gmail.com
END:VEVENT
BEGIN:VEVENT
DTSTART;TZID=America/Los_Angeles:20280429T090000
DTEND;TZID=America/Los_Angeles:20280429T093000
DTSTAMP:20260420T125912
CREATED:20260214T222039Z
LAST-MODIFIED:20260218T145157Z
UID:10007994-1840611600-1840613400@befitwithtania.com
SUMMARY:Saturday Pilates Basics 9am PST/12pm EST
DESCRIPTION:Pilates Basics is a head-to-toe strength and stretch with basic Pilates technique designed to leave you feeling refreshed\, not worn out! This class is great for all levels\, focusing on pelvic floor\, core strength\, joint mobility\, range of motion\, stretch\, and balance. We work at an easy-to-follow pace.
URL:https://befitwithtania.com/event/saturday-pilates-basics-9am-pst-12pm-est/2028-04-29/
LOCATION:ZOOM\, Online
CATEGORIES:30-Minute Class
ATTACH;FMTTYPE=image/jpeg:https://befitwithtania.com/wp-content/uploads/2022/03/IMG_7274.jpeg
ORGANIZER;CN="Tania":MAILTO:befitwithtania@gmail.com
END:VEVENT
BEGIN:VEVENT
DTSTART;TZID=America/Los_Angeles:20280506T090000
DTEND;TZID=America/Los_Angeles:20280506T093000
DTSTAMP:20260420T125912
CREATED:20260214T222039Z
LAST-MODIFIED:20260218T145157Z
UID:10007995-1841216400-1841218200@befitwithtania.com
SUMMARY:Saturday Pilates Basics 9am PST/12pm EST
DESCRIPTION:Pilates Basics is a head-to-toe strength and stretch with basic Pilates technique designed to leave you feeling refreshed\, not worn out! This class is great for all levels\, focusing on pelvic floor\, core strength\, joint mobility\, range of motion\, stretch\, and balance. We work at an easy-to-follow pace.
URL:https://befitwithtania.com/event/saturday-pilates-basics-9am-pst-12pm-est/2028-05-06/
LOCATION:ZOOM\, Online
CATEGORIES:30-Minute Class
ATTACH;FMTTYPE=image/jpeg:https://befitwithtania.com/wp-content/uploads/2022/03/IMG_7274.jpeg
ORGANIZER;CN="Tania":MAILTO:befitwithtania@gmail.com
END:VEVENT
BEGIN:VEVENT
DTSTART;TZID=America/Los_Angeles:20280513T090000
DTEND;TZID=America/Los_Angeles:20280513T093000
DTSTAMP:20260420T125912
CREATED:20260214T222039Z
LAST-MODIFIED:20260218T145157Z
UID:10007996-1841821200-1841823000@befitwithtania.com
SUMMARY:Saturday Pilates Basics 9am PST/12pm EST
DESCRIPTION:Pilates Basics is a head-to-toe strength and stretch with basic Pilates technique designed to leave you feeling refreshed\, not worn out! This class is great for all levels\, focusing on pelvic floor\, core strength\, joint mobility\, range of motion\, stretch\, and balance. We work at an easy-to-follow pace.
URL:https://befitwithtania.com/event/saturday-pilates-basics-9am-pst-12pm-est/2028-05-13/
LOCATION:ZOOM\, Online
CATEGORIES:30-Minute Class
ATTACH;FMTTYPE=image/jpeg:https://befitwithtania.com/wp-content/uploads/2022/03/IMG_7274.jpeg
ORGANIZER;CN="Tania":MAILTO:befitwithtania@gmail.com
END:VEVENT
BEGIN:VEVENT
DTSTART;TZID=America/Los_Angeles:20280520T090000
DTEND;TZID=America/Los_Angeles:20280520T093000
DTSTAMP:20260420T125912
CREATED:20260214T222039Z
LAST-MODIFIED:20260218T145157Z
UID:10007997-1842426000-1842427800@befitwithtania.com
SUMMARY:Saturday Pilates Basics 9am PST/12pm EST
DESCRIPTION:Pilates Basics is a head-to-toe strength and stretch with basic Pilates technique designed to leave you feeling refreshed\, not worn out! This class is great for all levels\, focusing on pelvic floor\, core strength\, joint mobility\, range of motion\, stretch\, and balance. We work at an easy-to-follow pace.
URL:https://befitwithtania.com/event/saturday-pilates-basics-9am-pst-12pm-est/2028-05-20/
LOCATION:ZOOM\, Online
CATEGORIES:30-Minute Class
ATTACH;FMTTYPE=image/jpeg:https://befitwithtania.com/wp-content/uploads/2022/03/IMG_7274.jpeg
ORGANIZER;CN="Tania":MAILTO:befitwithtania@gmail.com
END:VEVENT
BEGIN:VEVENT
DTSTART;TZID=America/Los_Angeles:20280527T090000
DTEND;TZID=America/Los_Angeles:20280527T093000
DTSTAMP:20260420T125912
CREATED:20260214T222039Z
LAST-MODIFIED:20260218T145157Z
UID:10007998-1843030800-1843032600@befitwithtania.com
SUMMARY:Saturday Pilates Basics 9am PST/12pm EST
DESCRIPTION:Pilates Basics is a head-to-toe strength and stretch with basic Pilates technique designed to leave you feeling refreshed\, not worn out! This class is great for all levels\, focusing on pelvic floor\, core strength\, joint mobility\, range of motion\, stretch\, and balance. We work at an easy-to-follow pace.
URL:https://befitwithtania.com/event/saturday-pilates-basics-9am-pst-12pm-est/2028-05-27/
LOCATION:ZOOM\, Online
CATEGORIES:30-Minute Class
ATTACH;FMTTYPE=image/jpeg:https://befitwithtania.com/wp-content/uploads/2022/03/IMG_7274.jpeg
ORGANIZER;CN="Tania":MAILTO:befitwithtania@gmail.com
END:VEVENT
BEGIN:VEVENT
DTSTART;TZID=America/Los_Angeles:20280603T090000
DTEND;TZID=America/Los_Angeles:20280603T093000
DTSTAMP:20260420T125912
CREATED:20260214T222039Z
LAST-MODIFIED:20260218T145157Z
UID:10007999-1843635600-1843637400@befitwithtania.com
SUMMARY:Saturday Pilates Basics 9am PST/12pm EST
DESCRIPTION:Pilates Basics is a head-to-toe strength and stretch with basic Pilates technique designed to leave you feeling refreshed\, not worn out! This class is great for all levels\, focusing on pelvic floor\, core strength\, joint mobility\, range of motion\, stretch\, and balance. We work at an easy-to-follow pace.
URL:https://befitwithtania.com/event/saturday-pilates-basics-9am-pst-12pm-est/2028-06-03/
LOCATION:ZOOM\, Online
CATEGORIES:30-Minute Class
ATTACH;FMTTYPE=image/jpeg:https://befitwithtania.com/wp-content/uploads/2022/03/IMG_7274.jpeg
ORGANIZER;CN="Tania":MAILTO:befitwithtania@gmail.com
END:VEVENT
BEGIN:VEVENT
DTSTART;TZID=America/Los_Angeles:20280610T090000
DTEND;TZID=America/Los_Angeles:20280610T093000
DTSTAMP:20260420T125912
CREATED:20260214T222039Z
LAST-MODIFIED:20260218T145157Z
UID:10008000-1844240400-1844242200@befitwithtania.com
SUMMARY:Saturday Pilates Basics 9am PST/12pm EST
DESCRIPTION:Pilates Basics is a head-to-toe strength and stretch with basic Pilates technique designed to leave you feeling refreshed\, not worn out! This class is great for all levels\, focusing on pelvic floor\, core strength\, joint mobility\, range of motion\, stretch\, and balance. We work at an easy-to-follow pace.
URL:https://befitwithtania.com/event/saturday-pilates-basics-9am-pst-12pm-est/2028-06-10/
LOCATION:ZOOM\, Online
CATEGORIES:30-Minute Class
ATTACH;FMTTYPE=image/jpeg:https://befitwithtania.com/wp-content/uploads/2022/03/IMG_7274.jpeg
ORGANIZER;CN="Tania":MAILTO:befitwithtania@gmail.com
END:VEVENT
BEGIN:VEVENT
DTSTART;TZID=America/Los_Angeles:20280617T090000
DTEND;TZID=America/Los_Angeles:20280617T093000
DTSTAMP:20260420T125912
CREATED:20260214T222039Z
LAST-MODIFIED:20260218T145157Z
UID:10008001-1844845200-1844847000@befitwithtania.com
SUMMARY:Saturday Pilates Basics 9am PST/12pm EST
DESCRIPTION:Pilates Basics is a head-to-toe strength and stretch with basic Pilates technique designed to leave you feeling refreshed\, not worn out! This class is great for all levels\, focusing on pelvic floor\, core strength\, joint mobility\, range of motion\, stretch\, and balance. We work at an easy-to-follow pace.
URL:https://befitwithtania.com/event/saturday-pilates-basics-9am-pst-12pm-est/2028-06-17/
LOCATION:ZOOM\, Online
CATEGORIES:30-Minute Class
ATTACH;FMTTYPE=image/jpeg:https://befitwithtania.com/wp-content/uploads/2022/03/IMG_7274.jpeg
ORGANIZER;CN="Tania":MAILTO:befitwithtania@gmail.com
END:VEVENT
BEGIN:VEVENT
DTSTART;TZID=America/Los_Angeles:20280624T090000
DTEND;TZID=America/Los_Angeles:20280624T093000
DTSTAMP:20260420T125912
CREATED:20260214T222039Z
LAST-MODIFIED:20260218T145157Z
UID:10008002-1845450000-1845451800@befitwithtania.com
SUMMARY:Saturday Pilates Basics 9am PST/12pm EST
DESCRIPTION:Pilates Basics is a head-to-toe strength and stretch with basic Pilates technique designed to leave you feeling refreshed\, not worn out! This class is great for all levels\, focusing on pelvic floor\, core strength\, joint mobility\, range of motion\, stretch\, and balance. We work at an easy-to-follow pace.
URL:https://befitwithtania.com/event/saturday-pilates-basics-9am-pst-12pm-est/2028-06-24/
LOCATION:ZOOM\, Online
CATEGORIES:30-Minute Class
ATTACH;FMTTYPE=image/jpeg:https://befitwithtania.com/wp-content/uploads/2022/03/IMG_7274.jpeg
ORGANIZER;CN="Tania":MAILTO:befitwithtania@gmail.com
END:VEVENT
BEGIN:VEVENT
DTSTART;TZID=America/Los_Angeles:20280701T090000
DTEND;TZID=America/Los_Angeles:20280701T093000
DTSTAMP:20260420T125912
CREATED:20260214T222039Z
LAST-MODIFIED:20260218T145157Z
UID:10008003-1846054800-1846056600@befitwithtania.com
SUMMARY:Saturday Pilates Basics 9am PST/12pm EST
DESCRIPTION:Pilates Basics is a head-to-toe strength and stretch with basic Pilates technique designed to leave you feeling refreshed\, not worn out! This class is great for all levels\, focusing on pelvic floor\, core strength\, joint mobility\, range of motion\, stretch\, and balance. We work at an easy-to-follow pace.
URL:https://befitwithtania.com/event/saturday-pilates-basics-9am-pst-12pm-est/2028-07-01/
LOCATION:ZOOM\, Online
CATEGORIES:30-Minute Class
ATTACH;FMTTYPE=image/jpeg:https://befitwithtania.com/wp-content/uploads/2022/03/IMG_7274.jpeg
ORGANIZER;CN="Tania":MAILTO:befitwithtania@gmail.com
END:VEVENT
BEGIN:VEVENT
DTSTART;TZID=America/Los_Angeles:20280708T090000
DTEND;TZID=America/Los_Angeles:20280708T093000
DTSTAMP:20260420T125912
CREATED:20260214T222039Z
LAST-MODIFIED:20260218T145157Z
UID:10008004-1846659600-1846661400@befitwithtania.com
SUMMARY:Saturday Pilates Basics 9am PST/12pm EST
DESCRIPTION:Pilates Basics is a head-to-toe strength and stretch with basic Pilates technique designed to leave you feeling refreshed\, not worn out! This class is great for all levels\, focusing on pelvic floor\, core strength\, joint mobility\, range of motion\, stretch\, and balance. We work at an easy-to-follow pace.
URL:https://befitwithtania.com/event/saturday-pilates-basics-9am-pst-12pm-est/2028-07-08/
LOCATION:ZOOM\, Online
CATEGORIES:30-Minute Class
ATTACH;FMTTYPE=image/jpeg:https://befitwithtania.com/wp-content/uploads/2022/03/IMG_7274.jpeg
ORGANIZER;CN="Tania":MAILTO:befitwithtania@gmail.com
END:VEVENT
BEGIN:VEVENT
DTSTART;TZID=America/Los_Angeles:20280715T090000
DTEND;TZID=America/Los_Angeles:20280715T093000
DTSTAMP:20260420T125912
CREATED:20260214T222039Z
LAST-MODIFIED:20260218T145157Z
UID:10008005-1847264400-1847266200@befitwithtania.com
SUMMARY:Saturday Pilates Basics 9am PST/12pm EST
DESCRIPTION:Pilates Basics is a head-to-toe strength and stretch with basic Pilates technique designed to leave you feeling refreshed\, not worn out! This class is great for all levels\, focusing on pelvic floor\, core strength\, joint mobility\, range of motion\, stretch\, and balance. We work at an easy-to-follow pace.
URL:https://befitwithtania.com/event/saturday-pilates-basics-9am-pst-12pm-est/2028-07-15/
LOCATION:ZOOM\, Online
CATEGORIES:30-Minute Class
ATTACH;FMTTYPE=image/jpeg:https://befitwithtania.com/wp-content/uploads/2022/03/IMG_7274.jpeg
ORGANIZER;CN="Tania":MAILTO:befitwithtania@gmail.com
END:VEVENT
BEGIN:VEVENT
DTSTART;TZID=America/Los_Angeles:20280722T090000
DTEND;TZID=America/Los_Angeles:20280722T093000
DTSTAMP:20260420T125912
CREATED:20260214T222039Z
LAST-MODIFIED:20260218T145157Z
UID:10008006-1847869200-1847871000@befitwithtania.com
SUMMARY:Saturday Pilates Basics 9am PST/12pm EST
DESCRIPTION:Pilates Basics is a head-to-toe strength and stretch with basic Pilates technique designed to leave you feeling refreshed\, not worn out! This class is great for all levels\, focusing on pelvic floor\, core strength\, joint mobility\, range of motion\, stretch\, and balance. We work at an easy-to-follow pace.
URL:https://befitwithtania.com/event/saturday-pilates-basics-9am-pst-12pm-est/2028-07-22/
LOCATION:ZOOM\, Online
CATEGORIES:30-Minute Class
ATTACH;FMTTYPE=image/jpeg:https://befitwithtania.com/wp-content/uploads/2022/03/IMG_7274.jpeg
ORGANIZER;CN="Tania":MAILTO:befitwithtania@gmail.com
END:VEVENT
BEGIN:VEVENT
DTSTART;TZID=America/Los_Angeles:20280729T090000
DTEND;TZID=America/Los_Angeles:20280729T093000
DTSTAMP:20260420T125912
CREATED:20260214T222039Z
LAST-MODIFIED:20260218T145157Z
UID:10008007-1848474000-1848475800@befitwithtania.com
SUMMARY:Saturday Pilates Basics 9am PST/12pm EST
DESCRIPTION:Pilates Basics is a head-to-toe strength and stretch with basic Pilates technique designed to leave you feeling refreshed\, not worn out! This class is great for all levels\, focusing on pelvic floor\, core strength\, joint mobility\, range of motion\, stretch\, and balance. We work at an easy-to-follow pace.
URL:https://befitwithtania.com/event/saturday-pilates-basics-9am-pst-12pm-est/2028-07-29/
LOCATION:ZOOM\, Online
CATEGORIES:30-Minute Class
ATTACH;FMTTYPE=image/jpeg:https://befitwithtania.com/wp-content/uploads/2022/03/IMG_7274.jpeg
ORGANIZER;CN="Tania":MAILTO:befitwithtania@gmail.com
END:VEVENT
BEGIN:VEVENT
DTSTART;TZID=America/Los_Angeles:20280805T090000
DTEND;TZID=America/Los_Angeles:20280805T093000
DTSTAMP:20260420T125912
CREATED:20260214T222039Z
LAST-MODIFIED:20260218T145157Z
UID:10008008-1849078800-1849080600@befitwithtania.com
SUMMARY:Saturday Pilates Basics 9am PST/12pm EST
DESCRIPTION:Pilates Basics is a head-to-toe strength and stretch with basic Pilates technique designed to leave you feeling refreshed\, not worn out! This class is great for all levels\, focusing on pelvic floor\, core strength\, joint mobility\, range of motion\, stretch\, and balance. We work at an easy-to-follow pace.
URL:https://befitwithtania.com/event/saturday-pilates-basics-9am-pst-12pm-est/2028-08-05/
LOCATION:ZOOM\, Online
CATEGORIES:30-Minute Class
ATTACH;FMTTYPE=image/jpeg:https://befitwithtania.com/wp-content/uploads/2022/03/IMG_7274.jpeg
ORGANIZER;CN="Tania":MAILTO:befitwithtania@gmail.com
END:VEVENT
BEGIN:VEVENT
DTSTART;TZID=America/Los_Angeles:20280812T090000
DTEND;TZID=America/Los_Angeles:20280812T093000
DTSTAMP:20260420T125912
CREATED:20260214T222039Z
LAST-MODIFIED:20260218T145157Z
UID:10008009-1849683600-1849685400@befitwithtania.com
SUMMARY:Saturday Pilates Basics 9am PST/12pm EST
DESCRIPTION:Pilates Basics is a head-to-toe strength and stretch with basic Pilates technique designed to leave you feeling refreshed\, not worn out! This class is great for all levels\, focusing on pelvic floor\, core strength\, joint mobility\, range of motion\, stretch\, and balance. We work at an easy-to-follow pace.
URL:https://befitwithtania.com/event/saturday-pilates-basics-9am-pst-12pm-est/2028-08-12/
LOCATION:ZOOM\, Online
CATEGORIES:30-Minute Class
ATTACH;FMTTYPE=image/jpeg:https://befitwithtania.com/wp-content/uploads/2022/03/IMG_7274.jpeg
ORGANIZER;CN="Tania":MAILTO:befitwithtania@gmail.com
END:VEVENT
BEGIN:VEVENT
DTSTART;TZID=America/Los_Angeles:20280819T090000
DTEND;TZID=America/Los_Angeles:20280819T093000
DTSTAMP:20260420T125912
CREATED:20260214T222039Z
LAST-MODIFIED:20260218T145157Z
UID:10008010-1850288400-1850290200@befitwithtania.com
SUMMARY:Saturday Pilates Basics 9am PST/12pm EST
DESCRIPTION:Pilates Basics is a head-to-toe strength and stretch with basic Pilates technique designed to leave you feeling refreshed\, not worn out! This class is great for all levels\, focusing on pelvic floor\, core strength\, joint mobility\, range of motion\, stretch\, and balance. We work at an easy-to-follow pace.
URL:https://befitwithtania.com/event/saturday-pilates-basics-9am-pst-12pm-est/2028-08-19/
LOCATION:ZOOM\, Online
CATEGORIES:30-Minute Class
ATTACH;FMTTYPE=image/jpeg:https://befitwithtania.com/wp-content/uploads/2022/03/IMG_7274.jpeg
ORGANIZER;CN="Tania":MAILTO:befitwithtania@gmail.com
END:VEVENT
BEGIN:VEVENT
DTSTART;TZID=America/Los_Angeles:20280826T090000
DTEND;TZID=America/Los_Angeles:20280826T093000
DTSTAMP:20260420T125912
CREATED:20260214T222039Z
LAST-MODIFIED:20260218T145157Z
UID:10008011-1850893200-1850895000@befitwithtania.com
SUMMARY:Saturday Pilates Basics 9am PST/12pm EST
DESCRIPTION:Pilates Basics is a head-to-toe strength and stretch with basic Pilates technique designed to leave you feeling refreshed\, not worn out! This class is great for all levels\, focusing on pelvic floor\, core strength\, joint mobility\, range of motion\, stretch\, and balance. We work at an easy-to-follow pace.
URL:https://befitwithtania.com/event/saturday-pilates-basics-9am-pst-12pm-est/2028-08-26/
LOCATION:ZOOM\, Online
CATEGORIES:30-Minute Class
ATTACH;FMTTYPE=image/jpeg:https://befitwithtania.com/wp-content/uploads/2022/03/IMG_7274.jpeg
ORGANIZER;CN="Tania":MAILTO:befitwithtania@gmail.com
END:VEVENT
BEGIN:VEVENT
DTSTART;TZID=America/Los_Angeles:20280902T090000
DTEND;TZID=America/Los_Angeles:20280902T093000
DTSTAMP:20260420T125912
CREATED:20260214T222039Z
LAST-MODIFIED:20260218T145157Z
UID:10008012-1851498000-1851499800@befitwithtania.com
SUMMARY:Saturday Pilates Basics 9am PST/12pm EST
DESCRIPTION:Pilates Basics is a head-to-toe strength and stretch with basic Pilates technique designed to leave you feeling refreshed\, not worn out! This class is great for all levels\, focusing on pelvic floor\, core strength\, joint mobility\, range of motion\, stretch\, and balance. We work at an easy-to-follow pace.
URL:https://befitwithtania.com/event/saturday-pilates-basics-9am-pst-12pm-est/2028-09-02/
LOCATION:ZOOM\, Online
CATEGORIES:30-Minute Class
ATTACH;FMTTYPE=image/jpeg:https://befitwithtania.com/wp-content/uploads/2022/03/IMG_7274.jpeg
ORGANIZER;CN="Tania":MAILTO:befitwithtania@gmail.com
END:VEVENT
BEGIN:VEVENT
DTSTART;TZID=America/Los_Angeles:20280909T090000
DTEND;TZID=America/Los_Angeles:20280909T093000
DTSTAMP:20260420T125912
CREATED:20260214T222039Z
LAST-MODIFIED:20260218T145157Z
UID:10008013-1852102800-1852104600@befitwithtania.com
SUMMARY:Saturday Pilates Basics 9am PST/12pm EST
DESCRIPTION:Pilates Basics is a head-to-toe strength and stretch with basic Pilates technique designed to leave you feeling refreshed\, not worn out! This class is great for all levels\, focusing on pelvic floor\, core strength\, joint mobility\, range of motion\, stretch\, and balance. We work at an easy-to-follow pace.
URL:https://befitwithtania.com/event/saturday-pilates-basics-9am-pst-12pm-est/2028-09-09/
LOCATION:ZOOM\, Online
CATEGORIES:30-Minute Class
ATTACH;FMTTYPE=image/jpeg:https://befitwithtania.com/wp-content/uploads/2022/03/IMG_7274.jpeg
ORGANIZER;CN="Tania":MAILTO:befitwithtania@gmail.com
END:VEVENT
BEGIN:VEVENT
DTSTART;TZID=America/Los_Angeles:20280916T090000
DTEND;TZID=America/Los_Angeles:20280916T093000
DTSTAMP:20260420T125912
CREATED:20260214T222039Z
LAST-MODIFIED:20260218T145157Z
UID:10008014-1852707600-1852709400@befitwithtania.com
SUMMARY:Saturday Pilates Basics 9am PST/12pm EST
DESCRIPTION:Pilates Basics is a head-to-toe strength and stretch with basic Pilates technique designed to leave you feeling refreshed\, not worn out! This class is great for all levels\, focusing on pelvic floor\, core strength\, joint mobility\, range of motion\, stretch\, and balance. We work at an easy-to-follow pace.
URL:https://befitwithtania.com/event/saturday-pilates-basics-9am-pst-12pm-est/2028-09-16/
LOCATION:ZOOM\, Online
CATEGORIES:30-Minute Class
ATTACH;FMTTYPE=image/jpeg:https://befitwithtania.com/wp-content/uploads/2022/03/IMG_7274.jpeg
ORGANIZER;CN="Tania":MAILTO:befitwithtania@gmail.com
END:VEVENT
BEGIN:VEVENT
DTSTART;TZID=America/Los_Angeles:20280923T090000
DTEND;TZID=America/Los_Angeles:20280923T093000
DTSTAMP:20260420T125912
CREATED:20260214T222039Z
LAST-MODIFIED:20260218T145157Z
UID:10008015-1853312400-1853314200@befitwithtania.com
SUMMARY:Saturday Pilates Basics 9am PST/12pm EST
DESCRIPTION:Pilates Basics is a head-to-toe strength and stretch with basic Pilates technique designed to leave you feeling refreshed\, not worn out! This class is great for all levels\, focusing on pelvic floor\, core strength\, joint mobility\, range of motion\, stretch\, and balance. We work at an easy-to-follow pace.
URL:https://befitwithtania.com/event/saturday-pilates-basics-9am-pst-12pm-est/2028-09-23/
LOCATION:ZOOM\, Online
CATEGORIES:30-Minute Class
ATTACH;FMTTYPE=image/jpeg:https://befitwithtania.com/wp-content/uploads/2022/03/IMG_7274.jpeg
ORGANIZER;CN="Tania":MAILTO:befitwithtania@gmail.com
END:VEVENT
END:VCALENDAR